BEGIN:VCALENDAR
VERSION:2.0
PRODID:-//Orkney Auction Mart - ECPv6.15.17.1//NONSGML v1.0//EN
CALSCALE:GREGORIAN
METHOD:PUBLISH
X-ORIGINAL-URL:https://orkneymart.com
X-WR-CALDESC:Events for Orkney Auction Mart
REFRESH-INTERVAL;VALUE=DURATION:PT1H
X-Robots-Tag:noindex
X-PUBLISHED-TTL:PT1H
BEGIN:VTIMEZONE
TZID:Europe/London
BEGIN:DAYLIGHT
TZOFFSETFROM:+0000
TZOFFSETTO:+0100
TZNAME:BST
DTSTART:20220327T010000
END:DAYLIGHT
BEGIN:STANDARD
TZOFFSETFROM:+0100
TZOFFSETTO:+0000
TZNAME:GMT
DTSTART:20221030T010000
END:STANDARD
BEGIN:DAYLIGHT
TZOFFSETFROM:+0000
TZOFFSETTO:+0100
TZNAME:BST
DTSTART:20230326T010000
END:DAYLIGHT
BEGIN:STANDARD
TZOFFSETFROM:+0100
TZOFFSETTO:+0000
TZNAME:GMT
DTSTART:20231029T010000
END:STANDARD
BEGIN:DAYLIGHT
TZOFFSETFROM:+0000
TZOFFSETTO:+0100
TZNAME:BST
DTSTART:20240331T010000
END:DAYLIGHT
BEGIN:STANDARD
TZOFFSETFROM:+0100
TZOFFSETTO:+0000
TZNAME:GMT
DTSTART:20241027T010000
END:STANDARD
END:VTIMEZONE
BEGIN:VEVENT
DTSTART;TZID=Europe/London:20230905T000000
DTEND;TZID=Europe/London:20230905T000000
DTSTAMP:20260422T195615
CREATED:20231020T092106Z
LAST-MODIFIED:20231027T105518Z
UID:10000624-1693872000-1693872000@orkneymart.com
SUMMARY:Sheep Sale
DESCRIPTION:Forward on Tuesday were 559 Prime Lambs\, 72 Store Lambs & 305 Cast Sheep. Prime Lambs averaged 219.6 p/kg (-13.1p) SQQ Lambs averaged 220.9 p/kg (-10.4p) Lambs per head averaged  £105.11 (- £2.76) Prime Lambs topped at 239.6 p/kg for 4 Beltex scaling 48 kilos from Kierfiold Farms\, Sandwick realising  £115 purchased by Rendalls. OTHER LAMBS PER KILO Vestrafiold\,Sandwick 44  £103.50 235.2 TEXLittle Crofty\,Tankerness 48  £111.50 232.3 BELTEXLittle Crofty\,Tankerness 44  £100.50 228.4 TEXLower Cornquoy\,Holm 47  £108.50 230.9 TEXPurtabreck\,Toab 38  £87.50 230.3 SPEKPurtabreck\,Toab 45  £103.50 230 TEXEastside\,Twatt 49  £112.50 229.6 TEXEastside\,Twatt 54  £122.50 226.9 TEXWithaquoy\,Holm 49.5  £113.50 229.3 TEXWithaquoy\,Holm 51  £115.00 225.5 TEXRoadside\,St Ola 46  £105.00 228.3 TEXHall Of Gorn\,Holm 43.5  £99.00 227.6 BELTEXHall Of Gorn\,Holm 39  £87.50 224.4 BELTEXCotland\,St Ola 51  £116.00 227.5 TEXNistigar\,Westray 44  £100.00 227.3 TEXSouth Seatter\,Sandwick 48  £109.00 227.1 CHARBreck\,Stronsay 45  £102.00 226.7 TEXGrind\,Stronsay 47  £106.50 226.6 TEXGrind\,Stronsay 44  £99.00 225 TEXKierfiold\,Sandwick 48  £108.50 226 CHARMaesquoy\,Harray 46.5  £105.00 225.8 TEXMaesquoy\,Harray 47  £104.00 221.3 BL TEXWillowvale\,Stromness 46.5  £104.50 224.7 TEXBeafield\,Sanday 49  £110.00 224.5 TEXBeafield\,Sanday 42.5  £95.00 223.5 WHITEBeafield\,Sanday 47  £104.50 222.3 TEXHeima\,Dounby  45  £101.00 224.4 CHARHeima\,Dounby  43  £95.50 222.1 CHARInkerman\,Sanday 48  £107.50 224 TEXInkerman\,Sanday 49  £109.00 222.4 TEXRosebank\,Twatt 48  £107.50 224 TEXRosebank\,Twatt 48  £106.50 221.9 TEXSunnybank\,St Margaret’S Hope 44  £98.50 223.9 TEXKierfiold\,Sandwick 47  £105.00 223.4 BELTEXKierfiold\,Sandwick 46  £102.50 222.8 BELTEXQuanterness\,St Ola 48  £107.00 222.9 TEXWestshore\,Rendall 47  £104.50 222.3 WHITEBrettovale\,Dounby 53  £117.50 221.7 CHARNetherhill\,Tankerness 47  £104.00 221.3 TEXEast Howe\,Birsay 47  £104.00 221.3 TEXEast Howe\,Birsay 50  £110.50 221 TEXThe Knowe\,Sanday 47  £104.00 221.3 TEXThe Knowe\,Sanday 47  £103.50 220.2 SUFThe Knowe\,Sanday 50  £110.00 220 SUFClifton\,Westray 49.5  £109.50 221.2 SUFNorthbigging\,Dounby 43  £95.00 220.9 TEXNorthbigging\,Dounby 47  £103.00 219.1 TEXOdiness\,Stronsay 52  £114.50 220.2 TEXOdiness\,Stronsay 50  £110.00 220 TEXBackakelday\,Holm 50.5  £110.50 218.8 TEXTwatt Farm\,Birsay 45  £97.50 216.7 WHITETwatt Farm\,Birsay 49.5  £106.50 215.2 WHITEHowe\,Stromness 52  £111.00 213.5 TEXHowe\,Stromness 45  £96.00 213.3 TEXHowequoy\,Holm 50  £108.50 217 TEXSmoogarth\,Firth 46  £99.50 216.3 SUFKevaday\,Rousay 60  £126.00 210 TEX Top price per head was  £126 for a pair of Texels scaling 60 kilos from A C & M G Marwick\, Kevaday\, Rousay. OTHER LAMBS PER HEAD Eastside\,Twatt 54  £122.50 TEX Brettovale\,Dounby 53  £117.50 CHAR Cotland\,St Ola 51  £116 TEX Quanterness\,St Ola 53  £116 TEX Withaquoy\,Holm 51  £115 TEX Withaquoy\,Holm 49.5  £113.50 TEX Kierfiold\,Sandwick 48  £115 BELTEX Odiness\,Stronsay 52  £114.50 TEX Odiness\,Stronsay 51  £112 TEX Inkerman\,Sanday 54  £112.50 TEX The Knowe\,Sanday 56  £112 SUF The Knowe\,Sanday 53  £111 SUF Grind\,Stronsay 53  £111.50 TEX Little Crofty\,Tankerness 48  £111.50 BELTEX Little Crofty\,Tankerness 51  £111 OTHER Howe\,Stromness 52  £111 TEX Beafield\,Sanday 53  £111 TEX Beafield\,Sanday 49  £110 TEX Backakelday\,Holm 53  £110.50 TEX Backakelday\,Holm 50.5  £110.50 TEX East Howe\,Birsay 50  £110.50 TEX Howequoy\,Holm 52  £110 TEX Rosebank\,Twatt 54  £110 TEX Lower Cornquoy\,Holm 52  £110 TEX Lower Cornquoy\,Holm 54  £110 CHAR South Seatter\,Sandwick 51.5  £109.50 CHAR South Seatter\,Sandwick 48  £109 CHAR Clifton\,Westray 49.5  £109.50 SUF Sunnybank\,St Margaret’S Hope 53  £109.50 TEX Maesquoy\,Harray 51  £109.50 TEX Maesquoy\,Harray 52  £109 TEX Smoogarth\,Firth 50.5  £108.50 SUF Twatt Farm\,Birsay 52  £108 WHITE Hall Of Gorn\,Holm 49  £108 SUF Westshore\,Rendall 50  £107 BLACK Vestrafiold\,Sandwick 48.5  £106.50 SUF Roadside\,St Ola 46  £105 TEX Willowvale\,Stromness 46.5  £104.50 TEX Nistigar\,Westray 47  £104 TEX Netherhill\,Tankerness 47  £104 TEX Purtabreck\,Toab 45  £103.50 TEX Heima\,Dounby  47  £103.50 CHAR Northbigging\,Dounby 47  £103 TEX Breck\,Stronsay 45  £102 TEX Easthouse\,Toab 68  £98 SUF Store Lambs topped at  £83.50 for a pen of 15 Texels and a pen of 27 Texels both from A Strang\, Nistigar\, Westray. Cast Sheep topped at  £180 for a Texel Ewe from Harvey Reid\, Howe\, Stromness. OTHER CAST SHEEP Colligarth\,Sanday  £176 TEX Flaws\,Holm  £156 TEX Odiness\,Stronsay  £139 TEX Odiness\,Stronsay  £117 BELTEX Quoydandy\,St Ola  £138 TEX Quoydandy\,St Ola  £120 TEX Maesquoy\,Harray  £130 TEX Maesquoy\,Harray  £110 TEX Grind\,Stronsay  £128 TEX Northbigging\,Dounby  £128 WHITE Hall Of Gorn\,Holm  £120 TEX Cotland\,St Ola  £108 TEX Arwick\,Evie  £107 ROM Arwick\,Evie  £100 LLEYN Nistigar\,Westray  £99 TEX Quanterness\,St Ola  £98 TEX Blackhall\,St Ola  £96 MULE Blackhall\,St Ola  £90 TEX Howe\,Stromness  £91 LLEYN Smerquoy\,St Ola  £87 CHEV Smoogarth\,Firth  £87 TEX Stratheast\,Holm  £87 MULE Stratheast\,Holm  £86 MULE Purtabreck\,Toab  £86 TEX Roadside\,St Ola  £71 TEX Seatter\,Deerness  £49 BLACK Westshore\,Rendall  £40 CHEV Miry Park\,Sanday  £38 WHITE
URL:https://orkneymart.com/event/sheep-sale-11/
CATEGORIES:Sales Report
END:VEVENT
BEGIN:VEVENT
DTSTART;TZID=Europe/London:20230912T000000
DTEND;TZID=Europe/London:20230912T000000
DTSTAMP:20260422T195615
CREATED:20231020T092037Z
LAST-MODIFIED:20231027T105518Z
UID:10000622-1694476800-1694476800@orkneymart.com
SUMMARY:Sheep Sale
DESCRIPTION:Forward on Tuesday were 243 Prime Lambs\, 167 Store Lambs & 232 Cast Sheep. Prime Lambs averaged 220.4 p/kg (+0.8p) SQQ Lambs averaged 217.6 p/kg (-3.3p) Lambs per head averaged  £105.08 (- £0.03) Prime Lambs topped at 234 p/kg for 7 Texels scaling 50 kilos from I & I Brown\, Millbrae\, Sanday realising  £117. OTHER LAMBS PER KILO Nearhouse\,Tankerness 50  £116.50 233 TEXGerbo\,North Ronaldsay 43  £99 230.2 BELTEXUpper Scapa\,St Ola 45  £103.50 230 TEXHowe\,Harray 45  £103.50 230 TEXGarson\,Sandwick 49  £112.50 229.6 TEXLower Bu\,Holm 49  £112.50 229.6 TEXLower Bu\,Holm 49  £110 224.5 TEXCotland\,St Ola 46  £105 228.3 TEXCotland\,St Ola 48  £109 227.1 TEXMillbrae\,Sanday 49  £111.50 227.6 TEXMillbrae\,Sanday 49  £110.50 225.5 TEXVetquoy\,Twatt 47  £106 225.5 TEXVetquoy\,Twatt 44  £99 225 BLACKTuquoy\,Westray 47  £105 223.4 TEXTuquoy\,Westray 48.5  £107.50 221.6 SUFBraehead\,Stromness 49  £109.50 223.5 TEXBraehead\,Stromness 48  £106.50 221.9 TEXVassquoy\,Twatt 45  £100.50 223.3 TEXTwatt Farm\,Birsay 42  £89 211.9 LLEYNTwatt Farm\,Birsay 44  £93 211.4 LLEYNGarth\,St Ola 49  £103.50 211.2 CHEVNigley\,Toab 55  £115 209.1 TEX Top price per head was  £120 for 3 Suffolks scaling 58 kilos from T H C Pottinger\, Tuquoy\, Westray. OTHER LAMBS PER HEAD Nearhouse\,Tankerness 54  £117.50 TEX Nearhouse\,Tankerness 53  £117.50 BELTEX Nearhouse\,Tankerness 54  £117 CHEV Millbrae\,Sanday 50  £117 TEX Millbrae\,Sanday 53  £116.50 TEX Vetquoy\,Twatt 60  £117 CHEV Vetquoy\,Twatt 55  £115.50 BELTEX Tuquoy\,Westray 53  £115 SUF Nigley\,Toab 55  £115 TEX Braehead\,Stromness 52  £115 TEX Braehead\,Stromness 52  £113 TEX Garson\,Sandwick 51  £113.50 TEX Garson\,Sandwick 49  £112.50 TEX Lower Bu\,Holm 49  £112.50 TEX Cotland\,St Ola 50  £111 TEX Garth\,St Ola 57  £108 BLACK Howe\,Harray 47  £104 TEX Howe\,Harray 45  £103.50 TEX Upper Scapa\,St Ola 45  £103.50 TEX Vassquoy\,Twatt 45  £100.50 TEX Gerbo\,North Ronaldsay 43  £99 BELTEX Twatt Farm\,Birsay 45  £95 LLEYN Store Lambs averaged  £73.10 and topped at  £87.50 for 9 Beltex from M Scholes\, Hall of Gorn\, Holm. OTHER STORE LAMBS Hall Of Gorn\,Holm  £87 SUF Hall Of Gorn\,Holm  £86.50 WHITE Hall Of Gorn\,Holm  £85 TEX Gerbo\,North Ronaldsay  £86.50 BELTEX Gerbo\,North Ronaldsay  £85.50 BELTEX Gerbo\,North Ronaldsay  £84.50 BELTEX Westshore\,Rendall  £86.50 TEX Westshore\,Rendall  £85 TEX Garth\,St Ola  £83.50 CHEV Garth\,St Ola  £77.50 CHEV Laundry House\,Longhope  £80.50 CHEV Laundry House\,Longhope  £80 CHEV Cast Sheep topped at  £178 for a Texel Ewe from G Thomson\, Howe\, South Ronaldsay. OTHER CAST SHEEP Nearhouse\,Tankerness  £170 TEX The Howe\,South Ronaldsay  £160 TEX The Howe\,South Ronaldsay  £156 TEX The Howe\,South Ronaldsay  £148 TEX Quanterness\,St Ola  £155 TEX Quanterness\,St Ola  £125 TEX Upper Scapa\,St Ola  £127 TEX Nigley\,Evie  £124 TEX Appieteen\,Sandwick  £117 CHAR Howe\,Harray  £116 TEX Vetquoy\,Twatt  £111 SUF Standpretty\,Evie  £94 SUF Standpretty\,Evie  £88 TEX West Thrave\,Sanday  £89 TEX West Thrave\,Sanday  £84 SUF Unigarth\,Sandwick  £80 TEX Millbrae\,Sanday  £60 TEX West Linksness\,Hoy  £44 SHET Gerbo\,North Ronaldsay  £40 BELTEX Rysa\,Hoy  £37 SUF
URL:https://orkneymart.com/event/sheep-sale-10/
CATEGORIES:Sales Report
END:VEVENT
BEGIN:VEVENT
DTSTART;TZID=Europe/London:20230919T000000
DTEND;TZID=Europe/London:20230919T000000
DTSTAMP:20260422T195615
CREATED:20231020T092037Z
LAST-MODIFIED:20231027T105518Z
UID:10000620-1695081600-1695081600@orkneymart.com
SUMMARY:Sheep Sale
DESCRIPTION:Forward on Tuesday were 356 Prime Lambs\, 201 Store Lambs & 156 Cast Sheep. Prime Lambs averaged 226.9 p/kg (+6.5p) SQQ Lambs averaged 227.3 p/kg (+9.7p) Lambs per head averaged  £106.24 (+ £1.16) Prime Lambs topped at 242 p/kg for 3 Texels scaling 50 kilos from R Flett\, Howan\, Dounby realising  £121. OTHER LAMBS PER KILO Little Crofty\,Tankerness 48  £115 239.6 BELTEXLittle Crofty\,Tankerness 48  £112.50 234.4 TEXLittle Crofty\,Tankerness 47  £109.50 233 BELTEXDawn Cottage\,Holm 49  £117 238.8 DUTCH SPDawn Cottage\,Holm 48  £112 233.3 DUTCH SPSmiddy\,Stronsay 38.5  £91.50 237.7 BELTEXSmiddy\,Stronsay 47  £108.50 230.9 BELTEXHowequoy\,Holm 50  £118.50 237 TEXWhitehall\,Stronsay 48  £113 235.4 TEXWhitehall\,Stronsay 48  £112.50 234.4 TEXWhitehall\,Stronsay 47  £109.50 233 TEXLower Cornquoy\,Holm 47  £110 234 TEXLower Cornquoy\,Holm 47  £109 231.9 TEXVestrafiold\,Sandwick 46  £107.50 233.7 TEXVestrafiold\,Sandwick 46  £106.50 231.5 TEXVestrafiold\,Sandwick 44  £101.50 230.7 TEXSouth Breck\,Firth 48  £112 233.3 TEXSouth Breck\,Firth 46.5  £108 232.3 CHARSouth Breck\,Firth 48.5  £112 230.9 CHEVStandpretty\,Evie 46  £107 232.6 TEXStandpretty\,Evie 43  £100 232.6 TEXOaklea\,St Ola 46  £107 232.6 TEXOaklea\,St Ola 45  £102.50 227.8 TEXHowan\,Dounby 48  £111 231.3 TEXLittlequoy\,Burray 39  £90 230.8 TEXStonelea\,Stenness 39  £89.50 229.5 CHEVQueenamuckle\,Rendall 48  £109 227.1 SUFQueenamuckle\,Rendall 47  £106 225.5 TEXNether Ouseness\,Westray 44  £99.50 226.1 TEXNether Ouseness\,Westray 41  £91.50 223.2 TEXAnnster\,South Ronaldsay 50  £113 226 WHITEVinkwin\,Evie 47  £106 225.5 TEXRennibister\,Kirkwall 43.5  £98 225.3 TEXRennibister\,Kirkwall 42  £93.50 222.6 TEXMyers\,South Ronaldsay 50  £110 220 BLACK Top price per head was  £125 for a Texel scaling 56 kilos from J & E Linklater\, Little Crofty\, Tankerness. OTHER LAMBS PER HEAD Howan\,Dounby 50  £121 TEX Dawn Cottage\,Holm 55  £119.50 DUTCH SP Dawn Cottage\,Holm 49  £117 DUTCH SP Howequoy\,Holm 50  £118.50 TEX Little Crofty\,Tankerness 48  £115 BELTEX Little Crofty\,Tankerness 48  £112.50 TEX Standpretty\,Evie 50  £114 TEX Whitehall\,Stronsay 48  £113 TEX Whitehall\,Stronsay 48  £112.50 TEX Annster\,South Ronaldsay 50  £113 WHITE Queenamuckle\,Rendall 52  £112.50 CHEV Queenamuckle\,Rendall 50  £111 SUF South Breck\,Firth 48.5  £112 CHAR South Breck\,Firth 48  £112 TEX Vestrafiold\,Sandwick 49  £111 SUF Myers\,South Ronaldsay 50  £110 BLACK Lower Cornquoy\,Holm 47  £110 TEX Lower Cornquoy\,Holm 47  £109 TEX Garth\, St Ola 58  £108.50 OTHER Smiddy\,Stronsay 47  £108.50 BELTEX Oaklea\,St Ola 46  £107 TEX Vinkwin\,Evie 47  £106 TEX Nether Ouseness\,Westray 47  £104 TEX Littlequoy\,Burray 47  £103 TEX Stonelea\,Stenness 44  £99.50 CHEV Rennibister\,Kirkwall 43.5  £98 TEX Store Lambs averaged  £72.70 and topped at  £91 for 8 Texels from Littlequoy Farm\, Burray. OTHER STORE LAMBS Smiddy\,Stronsay  £90 BELTEX Smiddy\,Stronsay  £90 BLACK Littlequoy\,Burray  £89 TEX Littlequoy\,Burray  £88.50 TEX Netherstove\,Sandwick  £87 TEX Netherstove\,Sandwick  £87 TEX Newark\,Eday  £60 WHITE Onziebust\,Wyre  £36 SHET Cast Sheep topped at  £161 for a Charollais Ewe from Ross Wood\, North Moa\, Rendall. OTHER CAST SHEEP Howan\,Dounby  £146 TEX West Burnside\,Tankerness  £140 TEX Biggings\,Stenness  £110 SUF Biggings\,Stenness  £100 MULE Summerfield\,St Ola  £107 TEX South Breck\,Firth  £83 TEX Appietown\,Rendall  £80 TEX Appietown\,Rendall  £70 TEX Ivy Cottage\,Harray  £78 WHITE North Flaws\,South Ronaldsay  £76 TEX North Flaws\,South Ronaldsay  £70 TEX Stonelea\,Stenness  £68 TEX Nether Ouseness\,Westray  £63 TEX Smiddy\,Stronsay  £52 WHITE Briarlea\,Harray  £39 WHITE Newark\,Eday  £29 WHITE
URL:https://orkneymart.com/event/sheep-sale-9/
CATEGORIES:Sales Report
END:VEVENT
BEGIN:VEVENT
DTSTART;TZID=Europe/London:20230926T000000
DTEND;TZID=Europe/London:20230926T000000
DTSTAMP:20260422T195615
CREATED:20231020T092037Z
LAST-MODIFIED:20231027T105518Z
UID:10000618-1695686400-1695686400@orkneymart.com
SUMMARY:Sheep Sale
DESCRIPTION:Forward on Tuesday were 793 Prime Lambs\, 1289 Store Lambs & 196 Cast Sheep. Prime Lambs averaged 221 p/kg (-5.9p) SQQ Lambs averaged 223 p/kg (-4.3p) Lambs per head averaged  £104.83 (- £1.41) Prime Lambs topped at 258.6 p/kg for a Texel scaling 35 kilos from D Groundwater\, Hyval Cottage\, Dounby realising  £90.50. OTHER LAMBS PER KILO Frustigarth\,Shapinsay 40  £96.50 241.3 TEXFrustigarth\,Shapinsay 42  £97 231 TEXInkerman\,Sanday 45  £105 233.3 TEXInkerman\,Sanday 41  £92.50 225.6 TEXBreck\,Orphir\,Stromness\, 44  £102.50 233 TEXWithaquoy\,Holm 49  £113 230.6 TEXWithaquoy\,Holm 46.5  £107 230.1 BELTEXWillowvale\,Stromness 46  £106 230.4 TEXWillowvale\,Stromness 45  £103 228.9 TEXQuoykea\,Toab 45  £103.50 230 TEXQuoykea\,Toab 46  £104 226.1 TEXUpper Scapa\,St Ola 48.5  £111.50 229.9 TEXEast Howe\,Birsay 47  £107.50 228.7 TEXEast Howe\,Birsay 47.5  £108.50 228.4 TEXEast Howe\,Birsay 49  £111.50 227.6 TEXHyval Cottage\,Dounby 46  £105 228.3 TEXBryameadow\,Twatt 50.5  £115 227.7 BELTEXHolland\,Firth 47  £107 227.7 CHARHolland\,Firth 47  £106.50 226.6 TEXBranstane\,Westray 48  £109 227.1 BLACKBranstane\,Westray 50  £112 224 TEXQuoymorhouse\,Shapinsay 52  £118 226.9 BELTEXQuoymorhouse\,Shapinsay 52  £117 225 BELTEXOdiness\,Stronsay 48.5  £110 226.8 TEXOdiness\,Stronsay 46  £103 223.9 TEXOdiness\,Stronsay 48.5  £108.50 223.7 TEXGrind\,Stronsay 43  £97.50 226.7 TEXLochside\,Westray 43  £97.50 226.7 BELTEXLochside\,Westray 49  £110.50 225.5 TEXWestersands\,Deerness 42  £95 226.2 WHITEWestersands\,Deerness 43  £95 220.9 TEXBreck\,Stronsay 48  £108.50 226 TEXRowland\,Holm 50  £113 226 TEXRowland\,Holm 49  £110 224.5 TEXVestrafiold\,Sandwick 49  £110.50 225.5 TEXVestrafiold\,Sandwick 45.5  £101 222 SUFOrphir House\,Orphir 47.5  £107 225.3 TEXOrphir House\,Orphir 43.5  £97.50 224.1 TEXOrphir House\,Orphir 48  £107.50 224 TEXBlinkbonny\,Stronsay 41  £92.50 225.6 TEXBlinkbonny\,Stronsay 43.5  £97 223 TEXFea\,St Ola 50  £112.50 225 TEXNorton\,Dounby 48  £108 225 TEXNorton\,Dounby 47.5  £106 223.2 CHEVRedland\,Firth 45  £101 224.4 WHITEAnnster\,South Ronaldsay 46  £103 223.9 WHITEAnnster\,South Ronaldsay 45  £99.50 221.1 WHITECastle\,Stromness 45  £100.50 223.3 TEXFersness\,Eday 43  £96 223.3 TEXBackakelday\,Holm 50  £111.50 223 CHEVBackakelday\,Holm 50  £110 220 BELTEXOaklea\,St Ola 50  £111.50 223 TEXOaklea\,St Ola 49  £109 222.4 TEXUpperfield\,St Ola 50  £111 222 TEXUpperfield\,St Ola 50  £108.50 217 TEXMillburn\,Harray 48  £106.50 221.9 TEXMillburn\,Harray 45  £99 220 TEXEast Langamay\,Sanday 46  £102 221.7 TEXEast Langamay\,Sanday 42  £92.50 220.2 TEXHowe\,Harray 44  £97.50 221.6 TEXHowe\,Harray 45  £99.50 221.1 TEXHowe\,Harray 45.5  £100.50 220.9 TEXLaithe\,Sandwick 47  £104 221.3 TEXLaithe\,Sandwick 46  £101.50 220.7 CHEVMyers\,South Ronaldsay 45  £99.50 221.1 BLACKMyers\,South Ronaldsay 44  £96.50 219.3 WHITEHobbister\,Orphir 41  £90.50 220.7 LLEYNHobbister\,Orphir 42  £92.50 220.2 SUFCott\,Rendall 51  £112.50 220.6 TEXCott\,Rendall 49  £108 220.4 CHEVBenlaw\,Evie 50  £110 220 CHARQuoyhorsetter\,South Ronaldsay 43  £94 218.6 BLACKQuoyhorsetter\,South Ronaldsay 52  £112.50 216.3 BLACKBraeside\,Orphir 50  £109 218 CHEVFeolquoy\,Stromness 52  £113 217.3 TEXClifton\,Westray 41.5  £90 216.9 SUFAppiehouse\,Stenness 52  £112 215.4 CHARMoan\,Harray 51  £109.50 214.7 TEXKevaday\,Rousay 53  £113.50 214.2 TEXHermisgarth\,Sanday 55  £115 209.1 TEX Top price per head was  £118 for 4 Beltex scaling 52 kilos from T & J Leslie\, Quoymorhouse\, Shapinsay. OTHER LAMBS PER HEAD Bryameadow\,Twatt 54  £117 BELTEX Bryameadow\,Twatt 50.5  £115 BELTEX Bryameadow\,Twatt 54  £114 BELTEX Quoymorhouse\,Shapinsay 52  £117 BELTEX Quoymorhouse\,Shapinsay 52.5  £114 BELTEX Breck\,Orphir\,Stromness\, 54  £116 TEX Fea\,St Ola 54  £115.50 BELTEX Fea\,St Ola 53  £113 TEX Frustigarth\,Shapinsay 53  £115 Hermisgarth\,Sanday 55  £115 TEX Feolquoy\,Stromness 56  £115 TEX Feolquoy\,Stromness 55  £113 SUF Kevaday\,Rousay 53  £113.50 TEX Rowland\,Holm 52  £113 TEX Rowland\,Holm 50  £113 TEX Withaquoy\,Holm 49  £113 TEX Moan\,Harray 56  £112.50 TEX Quoyhorsetter\,South Ronaldsay 52  £112.50 BLACK Cott\,Rendall 51  £112.50 TEX Millburn\,Harray 54  £112 BLACK Redland\,Firth 55  £112 TEX Branstane\,Westray 50  £112 TEX Branstane\,Westray 51  £111.50 BLACK Appiehouse\,Stenness 52  £112 CHAR Appiehouse\,Stenness 55  £110 CHAR Upper Scapa\,St Ola 48.5  £111.50 TEX East Howe\,Birsay 49  £111.50 TEX Oaklea\,St Ola 50  £111.50 TEX Backakelday\,Holm 50  £111.50 CHEV Backakelday\,Holm 50  £110 BELTEX Lochside\,Westray 53  £111.50 SUF Lochside\,Westray 49  £110.50 TEX Upperfield\,St Ola 50  £111 TEX Odiness\,Stronsay 50  £111 TEX Odiness\,Stronsay 48.5  £110 TEX Vestrafiold\,Sandwick 49  £110.50 TEX Benlaw\,Evie 50  £110 CHAR Norton\,Dounby 53  £109.50 BELTEX Norton\,Dounby 51  £109.50 TEX Withaquoy\,Holm 48  £109.50 TEX Braeside\,Orphir 52  £109 CHEV Braeside\,Orphir 50  £109 CHEV Breck\,Stronsay 48  £108.50 TEX Holland\,Firth 48.5  £107.50 TEX Holland\,Firth 47  £107 CHAR Orphir House\,Orphir 48  £107.50 TEX Orphir House\,Orphir 47.5  £107 TEX Willowvale\,Stromness 46  £106 TEX Inkerman\,Sanday 45  £105 TEX Hyval Cottage\,Dounby 46  £105 TEX Quoykea\,Toab 46  £104 TEX Quoykea\,Toab 45  £103.50 TEX Laithe\,Sandwick 47  £104 TEX Laithe\,Sandwick 47  £103.50 TEX Annster\,South Ronaldsay 46  £103 WHITE Castle\,Stromness 47  £103 TEX East Langamay\,Sanday 46  £102 TEX Westersands\,Deerness 46  £101 WHITE Howe\,Harray 45.5  £100.50 TEX Myers\,South Ronaldsay 45  £99.50 BLACK Grind\,Stronsay 43  £97.50 TEX Blinkbonny\,Stronsay 43.5  £97 TEX Fersness\,Eday 43  £96 TEX Hobbister\,Orphir 42  £92.50 SUF Clifton\,Westray 41.5  £90 SUF Store Lambs averaged  £76.70 (+ £4) and topped at  £97.50 for a Texel from K Birket\, Annster\, South Ronaldsay. OTHER STORE LAMBS Frustigarth\,Shapinsay  £96 TEX Branstane\,Westray  £96 SUF Branstane\,Westray  £93 BLACK Lochside\,Westray  £95 CHEV Standpretty\,Evie  £92 SUF Standpretty\,Evie  £90 TEX Millburn\,Harray  £92 TEX Millburn\,Harray  £90 TEX Millburn\,Harray  £89 TEX Clifton\,Westray  £90 SUF Blinkbonny\,Stronsay  £90 SUF Blinkbonny\,Stronsay  £89 TEX Orphir House\,Orphir  £89.50 TEX Orphir House\,Orphir  £85.50 TEX Littlequoy\,Burray  £88 TEX Westersands\,Deerness  £88 TEX Hall Of Gorn\,Holm  £87 BELTEX Hall Of Gorn\,Holm  £86 BELTEX Upper Work\,St Ola  £86 TEX Quoyhorsetter\,South Ronaldsay  £85 BLACK Mousland\,Stromness  £84 SUF East Langamay\,Sanday  £84 TEX Westshore\,Rendall  £81 TEX Appietown\,Rendall  £80 CHAR Fersness\,Eday  £80 CHEV Fersness\,Eday  £78.50 CHEV Faulds\,Burray  £71 WHITE Naversdale\,Orphir  £62 TEX Netherstove\,Sandwick  £56 CHEV Cast Sheep topped at  £140 for a Texel Ewe from G & S Sinclair\, Moan\, Harray. OTHER CAST SHEEP Norton\,Dounby  £134 TEX Norton\,Dounby  £130 TEX Norton\,Dounby  £126 SUF Norton\,Dounby  £125 TEX Breck\,Orphir\,Stromness\,  £130 TEX Clifton\,Westray  £120 TEX Clifton\,Westray  £116 TEX Kevaday\,Rousay  £116 TEX Breck\,Orphir\,Stromness\,  £115 TEX Branstane\,Westray  £115 TEX Branstane\,Westray  £101 TEX Braeside\,Orphir  £108 CHAR Cott\,Rendall  £96 TEX Cott\,Rendall  £88 SUF Inkerman\,Sanday  £95 TEX Upper Scapa\,St Ola  £95 TEX Fea\,St Ola  £94 CHEV Standpretty\,Evie  £91 TEX Howe\,Harray  £90 TEX Upper Work\,St Ola  £88 CHEV Upperfield\,St Ola  £88 TEX Moan\,Harray  £88 TEX Moan\,Harray  £86 TEX Grutha\,South Ronaldsay  £86 BLACK Millburn\,Harray  £86 ZWAR Millburn\,Harray  £80 ZWAR Midland\,Rendall  £84 SUF Midland\,Rendall  £80 TEX Laithe\,Sandwick  £81 CHEV Laithe\,Sandwick  £79 CHEV Castle\,Stromness  £80 TEX Avelshay\,Rousay  £78 TEX Lochside\,Westray  £76 TEX Balaclava\,Westray  £75 WHITE Hyval Cottage\,Dounby  £71 TEX Mid Stove\,Quoyloo  £70 MULE Breck\,Stronsay  £70 TEX Kevaday\,Rousay  £68 TEX Hottit\,South Ronaldsay  £61 SUF Orphir House\,Orphir  £60 WHITE Hobbister\,Orphir  £54 LLEYN Faulds\,Burray  £48 BLACK Netherstove\,Sandwick  £41 WHITE
URL:https://orkneymart.com/event/sheep-sale-8/
CATEGORIES:Sales Report
END:VEVENT
END:VCALENDAR