BEGIN:VCALENDAR
VERSION:2.0
PRODID:-//Orkney Auction Mart - ECPv6.15.17.1//NONSGML v1.0//EN
CALSCALE:GREGORIAN
METHOD:PUBLISH
X-ORIGINAL-URL:https://orkneymart.com
X-WR-CALDESC:Events for Orkney Auction Mart
REFRESH-INTERVAL;VALUE=DURATION:PT1H
X-Robots-Tag:noindex
X-PUBLISHED-TTL:PT1H
BEGIN:VTIMEZONE
TZID:Europe/London
BEGIN:DAYLIGHT
TZOFFSETFROM:+0000
TZOFFSETTO:+0100
TZNAME:BST
DTSTART:20220327T010000
END:DAYLIGHT
BEGIN:STANDARD
TZOFFSETFROM:+0100
TZOFFSETTO:+0000
TZNAME:GMT
DTSTART:20221030T010000
END:STANDARD
BEGIN:DAYLIGHT
TZOFFSETFROM:+0000
TZOFFSETTO:+0100
TZNAME:BST
DTSTART:20230326T010000
END:DAYLIGHT
BEGIN:STANDARD
TZOFFSETFROM:+0100
TZOFFSETTO:+0000
TZNAME:GMT
DTSTART:20231029T010000
END:STANDARD
BEGIN:DAYLIGHT
TZOFFSETFROM:+0000
TZOFFSETTO:+0100
TZNAME:BST
DTSTART:20240331T010000
END:DAYLIGHT
BEGIN:STANDARD
TZOFFSETFROM:+0100
TZOFFSETTO:+0000
TZNAME:GMT
DTSTART:20241027T010000
END:STANDARD
END:VTIMEZONE
BEGIN:VEVENT
DTSTART;TZID=Europe/London:20230710T000000
DTEND;TZID=Europe/London:20230710T000000
DTSTAMP:20260422T222515
CREATED:20231020T092121Z
LAST-MODIFIED:20231027T105612Z
UID:10000633-1688947200-1688947200@orkneymart.com
SUMMARY:Cattle & Sheep Sales
DESCRIPTION:Forward on Monday were 8 Prime Cattle & 5 Store Cattle. Prime Steers topped at 319 p/kg for a Limousin scaling 635 kilos from Glen Orkney Farms\, St Ola realising the top price per head of  £2025 purchased by Donaldsons. OTHER PRIME STEERS Huan\,Sandwick 615  £1\,875.75 305 CHARHuan\,Sandwick 610  £1\,836.10 301 CHARHowe\,Harray 650  £1\,898.00 292 CHAR Prime Heifers topped at 316 p/kg for a Charolais scaling 600 kilos from G Henry\, Howe\, Harray realising the top price per head of  £1896 purchased by Rendalls. Store Steers topped at  £1700 for an Aberdeen Angus scaling 815 kilos from I Deyell\, Vincoin\, North Ronaldsay. Store Heifers topped at  £1700 for an Aberdeen Angus scaling 870 kilos from I Deyell\, Vincoin\, North Ronaldsay. Following the cattle were 266 Prime\, Store & Cast Sheep. Prime Lambs averaged 279.6 p/kg Prime Lambs averaged  £135.83 per head. Prime Lambs topped at 322 p/kg for a Cheviot scaling 50 kilos from Garson Farms\, Sandwick realising the top price per head of  £161 purchased by E Flett. OTHER LAMBS PER KILO Old Hall\,Stromness 49  £147 300 SUFBiggings\,Stenness 49  £145 295.9 TEXBiggings\,Stenness 51  £150 294.1 TEXBiggings\,Stenness 49  £138 281.6 SUFNess\,Shapinsay 59  £160 271.2 TEXWestfield\,Stromness 57  £136 238.6 SUFVoan\,Stenness 38  £90 236.8 DUTCH SP OTHER LAMBS PER HEAD Ness\,Shapinsay 59  £160 271.2 TEXBiggings\,Stenness 51  £150 294.1 TEXBiggings\,Stenness 49  £145 295.9 TEXOld Hall\,Stromness 49  £147 300 SUFOld Hall\,Stromness 50  £144 288 SUFWestfield\,Stromness 57  £136 238.6 SUF Prime Hoggs averaged 178.6 P/kg SQQ Hoggs averaged 161.2 p/kg Hoggs per head averaged  £88 Prime Hoggs topped at 238.3 p/kg for a pair of Texels scaling 47 kilos from C L Sclater\, Ness\, Shapinsay realising  £112. OTHER HOGGS PER KILO Smiddy\,Stronsay 47  £107 227.7 TEXDale\,Stronsay 47  £106 225.5 TEXDale\,Stronsay 47  £98 208.5 TEXHuan\,Sandwick 47  £102 217 TEXHuan\,Sandwick 52  £106 203.8 SUFSouth House\,Tankerness 59  £118 200 TEXSouth House\,Tankerness 58  £106 182.8 TEXLaithe\,Sandwick 55  £108 196.4 WHITECrumbrecks\,Orphir 60  £110 183.3 BL FACELesliedale\,St Ola 49  £86 175.5 TEXLittle Crofty\,Tankerness 60  £96 160 SUFBriarlea\,Stronsay 50  £76 152 ZWARLittle Wart\,Burray 40  £60 150 CHEV Top price per head was  £118 for a pair of Texels scaling 59 kilos from J & S Mackie\, South House\, Tankerness. OTHER HOGGS PER HEAD Huan\,Sandwick 58  £117 TEX Huan\,Sandwick 58  £116 TEX Ness\,Shapinsay 47  £112 TEX Crumbrecks\,Orphir 60  £110 BL FACE Laithe\,Sandwick 55  £108 WHITE Dale\,Stronsay 53  £108 TEX Dale\,Stronsay 47  £106 TEX Smiddy\,Stronsay 47  £107 TEX South House\,Tankerness 58  £106 TEX Little Crofty\,Tankerness 60  £96 SUF Lesliedale\,St Ola 49  £86 TEX Briarlea\,Stronsay 63  £82 ZWAR Cast Sheep topped at  £200 for a Texel Ewe from T L I Miller\, Briarlea\, Stronsay. OTHER CAST SHEEP Little Crofty\,Tankerness  £186 WHITE Little Crofty\,Tankerness  £180 WHITE Crumbrecks\,Orphir  £174 TEX Breck\,Rendall  £166 LLEYN Breck\,Rendall  £148 LLEYN Briarlea\,Stronsay  £146 ZWAR Huan\,Sandwick  £136 TEX Littlequoy\,Burray  £136 MULE Littlequoy\,Burray  £120 MULE Greentoft\,Eday  £132 CHEV Warthill\,Holm  £132 TEX Warthill\,Holm  £112 CHEV Laithe\,Sandwick  £128 MULE Garson\,Sandwick  £126 CHEV Garson\,Sandwick  £118 CHEV Dale\,Stronsa  £120 TEX Smiddy\,Stronsay  £120 TEX Biggings\,Stenness  £120 WHITE Ness\,Shapinsay  £118 BLUE Teeoquoy\,Stenness  £98 ZWAR New Holland\,Holm  £94 SUF New Holland\,Holm  £90 WHITE South House\,Tankerness  £90 TEX Little Wart\,Burray  £78 TEX Lesliedale\,St Ola  £58 WHITE
URL:https://orkneymart.com/event/cattle-sheep-sales-4/
CATEGORIES:Sales Report
END:VEVENT
BEGIN:VEVENT
DTSTART;TZID=Europe/London:20230724T000000
DTEND;TZID=Europe/London:20230724T000000
DTSTAMP:20260422T222515
CREATED:20231020T092109Z
LAST-MODIFIED:20231027T105612Z
UID:10000631-1690156800-1690156800@orkneymart.com
SUMMARY:Cattle & Sheep Sales
DESCRIPTION:Forward on Monday were 8 Prime Cattle and 7 Store\, Breeding & OTM Cattle. Prime Heifers topped at 311 p/kg for a Charolais scaling 530 kilos from J & R Stanger\, South Seatter\, Sandwick realising  £1648 purchased by Donaldsons. Top price per head was  £1947 for a Limousin scaling 645 kilos from S W Sinclair\, South Breck\, Firth purchased by Williamsons. Prime Steers topped at 305 p/kg for an Aberdeen Angus scaling 610 kilos from J & R Stanger\, South Seatter\, Sandwick realising  £1860 purchased by Donaldsons. Top price per head was  £1864 for a Charolais scaling 645 kilos from G Henry\, Howe\, Harray purchased by Donaldsons. OTHER PRIME STEERS South Breck\,Firth 625  £1\,812.50 290 SIMHowe\,Harray 635  £1\,790.70 282 CHARLenahowe\,Sandwick 670  £1\,822.40 272 CHAR Store Cattle topped at  £1600 for an Aberdeen Angus Steer scaling 720 kilos from J S Hay\, Folseatter\, Birsay. Breeding Cattle topped at  £1260 for an Aberdeen Angus Cow with a Stabaliser Calf at foot from S W Swanney\, Kirbust\, North Ronaldsay. OTM Cattle topped at  £1580 for a Limousin Cow scaling 850 kilos from S W Swanney\, Kirbust\, North Ronaldsay. Following the Cattle were 60 Prime & 74 Cast Sheep. Prime Lambs averaged 241 p/kg SQQ Lambs averaged 224.9 p/kg Lambs per head averaged  £118.17 Prime Lambs topped at 261.5 p/kg for a Beltex scaling 52 kilos from T A linklater\, Stonelea\, Stenness realising  £136 purchased by E Flett. OTHER LAMBS PER KILO Claybraes\,South Ronaldsay 57.5  £149 259.1 SUFClaybraes\,South Ronaldsay 55  £138 250.9 SUFBraehead\,Stromness 50  £127 254 TEXBraehead\,Stromness 46  £116 252.2 TEXBraehead\,Stromness 47  £116 246.8 SUFStonelea\,Stenness 48  £120 250 TEXHowequoy\,Holm 47  £115 244.7 TEXHowequoy\,Holm 57  £138 242.1 TEXRedland\,Stromness 43  £104 241.9 TEXBiggings\,Stenness 49  £118 240.8 SUFBiggings\,Stenness 47.5  £113 237.9 TEX Top price per head was  £149 for a pair of Suffolks scaling 57.5 kilos from J Scott\, Claybraes\, South Ronaldsay purchased by E Flett. OTHER LAMBS PER HEAD Claybraes\,South Ronaldsay 55  £138 250.9 SUFHowequoy\,Holm 57  £138 242.1 TEXStonelea\,Stenness 52  £136 261.5 BELTEXBraehead\,Stromness 55  £130 236.4 TEXBraehead\,Stromness 50  £127 254 TEXBiggings\,Stenness 49  £118 240.8 SUFRedland\,Stromness 43  £104 241.9 TEX Prime Hoggs averaged 133.5 p/kg SQQ Hoggs averaged 136.2 p/kg Hoggs per head averaged  £71.76 Prime Hoggs topped at 154.2 p/kg for a pair of Texels scaling 59 kilos from Morrison & Halcrow\, Crumbrecks\, Orphir realising the top price per head of  £91. OTHER HOGGS PER KILO Oaklea\,St Ola 50  £77 154 TEXOaklea\,St Ola 56  £81 144.6 TEXQuoys\,Graemsay 43  £59 137.2 TEXQuoys\,Graemsay 43.5  £59 135.6 TEXQuoys\,Graemsay 52  £70 134.6 TEXCrumbrecks\,Orphir 70  £80 114.3 TEX Cast Sheep topped at  £165 for a Texel Ewe from G W & E T Wilson\, Howequoy\, Holm. OTHER CAST SHEEP Stonelea\,Stenness  £146 TEX Lower Cottisgarth\,Rendall  £138 TEX Howequoy\,Holm  £138 TEX Howequoy\,Holm  £136 TEX Howequoy\,Holm  £129 TEX Rennibister\,Kirkwall  £109 TEX Rennibister\,Kirkwall  £92 TEX Quoys\,Graemsay  £97 TEX Quoys\,Graemsay  £85 TEX Windywalls\,Graemsay  £96 TEX Sandside\,Graemsay  £89 TEX Sandside\,Graemsay  £85 TEX Sunnybank\,South Ronaldsay  £87 TEX Crumbrecks\,Orphir  £82 TEX Crumbrecks\,Orphir  £81 TEX Hobbister\,Orphir  £60 TEX Campston\,Toab  £49 TEX
URL:https://orkneymart.com/event/cattle-sheep-sales-3/
CATEGORIES:Sales Report
END:VEVENT
END:VCALENDAR