BEGIN:VCALENDAR
VERSION:2.0
PRODID:-//Orkney Auction Mart - ECPv6.15.17.1//NONSGML v1.0//EN
CALSCALE:GREGORIAN
METHOD:PUBLISH
X-ORIGINAL-URL:https://orkneymart.com
X-WR-CALDESC:Events for Orkney Auction Mart
REFRESH-INTERVAL;VALUE=DURATION:PT1H
X-Robots-Tag:noindex
X-PUBLISHED-TTL:PT1H
BEGIN:VTIMEZONE
TZID:Europe/London
BEGIN:DAYLIGHT
TZOFFSETFROM:+0000
TZOFFSETTO:+0100
TZNAME:BST
DTSTART:20220327T010000
END:DAYLIGHT
BEGIN:STANDARD
TZOFFSETFROM:+0100
TZOFFSETTO:+0000
TZNAME:GMT
DTSTART:20221030T010000
END:STANDARD
BEGIN:DAYLIGHT
TZOFFSETFROM:+0000
TZOFFSETTO:+0100
TZNAME:BST
DTSTART:20230326T010000
END:DAYLIGHT
BEGIN:STANDARD
TZOFFSETFROM:+0100
TZOFFSETTO:+0000
TZNAME:GMT
DTSTART:20231029T010000
END:STANDARD
BEGIN:DAYLIGHT
TZOFFSETFROM:+0000
TZOFFSETTO:+0100
TZNAME:BST
DTSTART:20240331T010000
END:DAYLIGHT
BEGIN:STANDARD
TZOFFSETFROM:+0100
TZOFFSETTO:+0000
TZNAME:GMT
DTSTART:20241027T010000
END:STANDARD
END:VTIMEZONE
BEGIN:VEVENT
DTSTART;TZID=Europe/London:20230306T000000
DTEND;TZID=Europe/London:20230306T000000
DTSTAMP:20260423T032511
CREATED:20231020T092221Z
LAST-MODIFIED:20231027T105611Z
UID:10000653-1678060800-1678060800@orkneymart.com
SUMMARY:Cattle & Sheep Sales
DESCRIPTION:Forward on Monday were 7 Prime Cattle. Prime Heifers topped at 301 p/kg for a Limousin scaling 585 kilos from B & B Omand\, Stembister\, Toab realising  £1760 purchased by E Flett. OTHER PRIME HEIFERS Lingro\,St Ola 565  £1\,610 285 SIMStembister\,Toab 650  £1\,852 285 LIM Prime Steers topped at 270 p/kg for an Aberdeen Angus scaling 665 kilos from S M Twatt\, Lingro\, St Ola realising  £1795 purchased by Rendalls. Following the Cattle were 823 Prime\, 297 Store & 214 Cast Sheep. Prime Hoggs averaged 212.5 p/kg SQQ Hoggs averaged 212 p/kg Hoggs per head averaged  £96.41. Prime Hoggs topped at 260.4 p/kg for a Texel scaling 48 kilos from A Harcus\, Messigate\, Tankerness realising  £125 purchased by Williamsons. OTHER PRIME PER KILO Eastaquoy\,Harray 52  £126 242.3 TEXEastaquoy\,Harray 55  £127 230.9 TEXInkerman\,Sanday 48  £114.50 238.5 TEXEastside\,Twatt 51  £118 231.4 TEXNess\,Shapinsay 44  £100 227.3 BELTEXNess\,Shapinsay 52  £117 225 BLACKHuan\,Sandwick 49.5  £112 226.3 TEXHuan\,Sandwick 53  £119 224.5 TEXHuan\,Sandwick 46.5  £104 223.7 CHARGarson\,Sandwick 48  £108 225 TEXGarson\,Sandwick 50  £112 224 TEXNewbigging\,Westray 49  £110 224.5 TEXNewbigging\,Westray 50  £111 222 TEXHolland\,Firth 41.5  £92.50 222.9 TEXHolland\,Firth 46  £102.50 222.8 TEXStonelea\,Stenness 44  £98 222.7 BELTEXStonelea\,Stenness 44.5  £97.50 219.1 CHARFea\,Orphir 50  £111 222 TEXMessigate\,Tankerness 44  £97.50 221.6 TEXNearhouse\,Tankerness 44  £97.50 221.6 TEXNearhouse\,Tankerness 45  £99 220 TEXFea\,St Ola 46  £101 219.6 CHEVFea\,St Ola 48  £104 216.7 CHEVSwannay Farm\,By Evie 43  £94 218.6 CHEVSwannay Farm\,By Evie 45  £97.50 216.7 SUFUpper Scapa\,St Ola 42.5  £92 216.5 TEXMillhouse\,Deerness 43  £93 216.3 SUFMillhouse\,Deerness 45  £96 213.3 TEXHobbister\,Orphir 38  £82 215.8 TEXQuanterness\,St Ola 45  £97 215.6 SUFQuanterness\,St Ola 46  £99 215.2 TEXSkaill\,Orphir 46  £99 215.2 TEXMidland\,Rendall 43  £92.50 215.1 SUFTuquoy\,Westray 40  £86 215 ROMTuquoy\,Westray 40  £85.50 213.8 TEXDrydale\,Stromness 44  £94.50 214.8 CHARDrydale\,Stromness 47.5  £101 212.6 CHARLinksness\,Stronsay 43  £92 214 TEXClifton\,Westray 43.5  £93 213.8 SUFWestshore\,Rendall 41.5  £88.50 213.3 TEXWestshore\,Rendall 41  £86.50 211 CHEVAvelshay\,Rousay 49  £104.50 213.3 OTHERAvelshay\,Rousay 44  £92 209.1 OTHERBurnside\,Orphir 42.5  £90 211.8 TEXBurnhouse\,Longhope 47  £99.50 211.7 CHARBurnhouse\,Longhope 46  £97 210.9 CHARDenwick\,Deerness 39  £82.50 211.5 TEXOverabist\,Dounby 40  £83.50 208.8 CHEVOverabist\,Dounby 52.5  £108 205.7 TEXHowe\,South Ronaldsay 50  £104 208 SUFLittlequoy\,Burray 48  £99.50 207.3 TEXWestfield\,Stromness 53  £109 205.7 SUFSouth Fea\,Orphir 41  £83.50 203.7 TEXRedland\,Firth 36  £72.50 201.4 TEX Top price per head was  £127 for 4 Texels scaling 55 kilos from K Moar\, Eastaquoy\, Harray. OTHER HOGGS PER HEAD Eastaquoy\,Harray 52  £126 TEX Eastaquoy\,Harray 55  £119 TEX Messigate\,Tankerness 48  £125 TEX Huan\,Sandwick 53  £119 TEX Eastside\,Twatt 51  £118 TEX Ness\,Shapinsay 52  £117 BLACK Inkerman\,Sanday 48  £114.50 TEX Newbigging\,Westray 52.5  £113 TEX Garson\,Sandwick 50  £112 TEX Garson\,Sandwick 50  £110 TEX Holland\,Firth 55  £111.50 TEX Fea\,Orphir 50  £111 TEX Stonelea\,Stenness 50  £109 TEX Westfield\,Stromness 53  £109 SUF Westfield\,Stromness 60  £108.50 SUF Avelshay\,Rousay 58  £108.50 OTHER Avelshay\,Rousay 53  £108 OTHER Overabist\,Dounby 52.5  £108 TEX Drydale\,Stromness 52  £105 CHEV Howe\,South Ronaldsay 50  £104 SUF Fea\,St Ola 48  £104 CHEV Fea\,St Ola 50  £103.50 SUF Burnhouse\,Longhope 47  £99.50 CHAR Littlequoy\,Burray 48  £99.50 TEX Nearhouse\,Tankerness 45  £99 TEX Quanterness\,St Ola 46  £99 TEX Skaill\,Orphir 46  £99 TEX Swannay Farm\,By Evie 45.5  £98.50 CHEV Millhouse\,Deerness 47  £98 TEX Westshore\,Rendall 45  £93.50 TEX Clifton\,Westray 43.5  £93 SUF Midland\,Rendall 43  £92.50 SUF Linksness\,Stronsay 43  £92 TEX Upper Scapa\,St Ola 42.5  £92 TEX Burnside\,Orphir 42.5  £90 TEX Tuquoy\,Westray 41.5  £88.50 SUF South Fea\,Orphir 41  £83.50 TEX Denwick\,Deerness 39  £82.50 TEX Hobbister\,Orphir 38  £82 TEX Store Hoggs averaged  £68.50 and topped at  £76.50 for a pair of Texels from D & A Walls\, Inkerman\, Sanday and 16 Texels from Stout\, Linksness\, Stronsay. OTHER STORE HOGGS Upper Scapa\,St Ola  £76 SUF Garson\,Sandwick  £76 CHEV Clifton\,Westray  £75.50 SUF Quanterness\,St Ola  £75.50 TEX Quanterness\,St Ola  £74.50 TEX Quanterness\,St Ola  £73.50 TEX Claypits\,Orphir  £75 CHEV Brechins\,South Ronaldsay  £75 TEX Brechins\,South Ronaldsay  £74 SUF Backarass\,Westray  £75 SUF Backarass\,Westray  £73 SUF Onziebust\,Egilsay  £74.50 SUF Onziebust\,Egilsay  £70 TEX Castle\,Stromness  £72.50 TEX Howe\,South Ronaldsay  £70 SUF Fea\,Orphir  £70 TEX Brechins\,South Ronaldsay  £70 TEX Brechins\,South Ronaldsay  £69 TEX New Holland\,Holm  £68 SUF Redland\,Firth  £65.50 TEX Mizpah\,St Ola  £60 TEX Cast Sheep topped at  £209 for a Texel Ewe from G Thomson\, Howe\, South Ronaldsay and a pair of Texel Ewes from J M Lennie\, Nearhouse\, Tankerness. OTHER CAST SHEEP Nearhouse\,Tankerness  £193 TEX Nearhouse\,Tankerness  £191 TEX Howe\,South Ronaldsay  £191 TEX Howe\,South Ronaldsay  £187 TEX Huan\,Sandwick  £188 TEX Huan\,Sandwick  £141 TEX Ness\,Shapinsay  £183 TEX Quanterness\,St Ola  £177 TEX Quanterness\,St Ola  £121 TEX Appietown\,Rendall  £165 TEX Newbigging\,Dounby  £158 TEX Newbigging\,Westray  £149 TEX Braehead\,Stromness  £157 TEX Braehead\,Stromness  £137 TEX Fea\,St Ola  £147 TEX Cloke\,Dounby  £127 SUF Messigate\,Tankerness  £119 TEX Overabist\,Dounby  £117 TEX Garson\,Sandwick  £117 CHEV Little Crofty\,Tankerness  £115 SUF Denwick\,Deerness  £113 TEX Mizpah\,St Ola  £113 TEX Mizpah\,St Ola  £109 TEX Holland\,Firth  £99 TEX Onziebust\,Egilsay  £98 CHEV Onziebust\,Egilsay  £95 SUF Backarass\,Westray  £97 CHEV Voan\,Stenness  £97 BELTEX Oaklea\,St Ola  £97 TEX Hobbister\,Orphir  £95 LLEYN Purtabreck\,Toab  £95 TEX Purtabreck\,Toab  £92 TEX Upper Scapa\,St Ola  £89 TEX Inkerman\,Sanday  £85 TEX Stonelea\,Stenness  £79 SUF Tuquoy\,Westray  £79 MULE Clifton\,Westray  £78 WHITE Nistigar\,Westray  £77 SUF New Holland\,Holm  £73 SHET Burnhouse\,Longhope  £67 TEX Fea\,Orphir  £63 TEX
URL:https://orkneymart.com/event/cattle-sheep-sales-12/
CATEGORIES:Sales Report
END:VEVENT
BEGIN:VEVENT
DTSTART;TZID=Europe/London:20230320T000000
DTEND;TZID=Europe/London:20230320T000000
DTSTAMP:20260423T032511
CREATED:20231020T092206Z
LAST-MODIFIED:20231027T105611Z
UID:10000651-1679270400-1679270400@orkneymart.com
SUMMARY:Cattle & Sheep Sales
DESCRIPTION:Forward on Monday were 7 Prime & 1 OTM Cattle. Prime Cattle topped at 288 p/kg for a Limousin Heifer scaling 595 kilos from J Stevenson\, Midhouse\, Evie realising  £1713 purchased by Donaldsons. OTHER PRIME CATTLE Lingro\,St Ola 550  £1\,573.00 286 SIMMidhouse\,Evie 555  £1\,581.00 285 CH OTM Cattle topped at 191.2 p/kg for an Aberdeen Angus scaling 685 kilos from J Stevenson\, Midhouse\, Evie. Following the Cattle were 310 Prime\, 30 Breeding\, 254 Store & 126 Cast Sheep. Prime Hoggs averaged 239 p/kg (+26.5p) SQQ Hoggs averaged 241.6 p/kg (+29.6p) Hoggs per head averaged  £108.60 (+12.19) Prime Hoggs topped at 259.8 p/kg for 3 Texels scaling 41 kilos from M & W Holland\, Hunton\, Stronsay realising  £106.50. OTHER HOGGS PER KILO Heads\,St Margarets Hope 50  £126.50 253 TEXTwiness\,Westray 45  £113 251.1 TEXEastside\,Twatt 52  £130.50 251 TEXHunton\,Stronsay 53  £132 249 CHARHunton\,Stronsay 46.5  £115 247.3 TEXOdiness\,Stronsay 44  £109 247.7 TEXOdiness\,Stronsay 40  £98 245 TEXSerrigar\,South Ronaldsay 42  £103.50 246.4 TEXVetquoy\,Twatt 44  £108 245.5 BLACKVetquoy\,Twatt 42  £101.50 241.7 CHEVSouth Breck\,Firth 40  £98 245 TEXMillhouse\,Deerness 44  £107.50 244.3 CHEVMillhouse\,Deerness 47  £114.50 243.6 SUFMillhouse\,Deerness 45  £109.50 243.3 TEXMillbrae\,Sanday 43  £105 244.2 TEXMillbrae\,Sanday 42  £102 242.9 TEXLower Bu\,Holm 48  £117 243.8 TEXNetherton\,Holm 45  £109.50 243.3 CHEVSwannay Farm\,By Evie 44  £107 243.2 TEXSwannay Farm\,By Evie 45  £109 242.2 CHEVDrydale\,Stromness 46  £111.50 242.4 TEXDrydale\,Stromness 47  £113 240.4 TEXPole\,Burray 45  £108.50 241.1 TEXLaithe\,Sandwick 46  £110.50 240.2 TEXLaithe\,Sandwick 44  £105 238.6 OTHERAvelshay\,Rousay 45  £108 240 TEXAvelshay\,Rousay 41  £98 239 TEXQuholmslie\,Stromness 47.5  £113.50 238.9 TEXQuholmslie\,Stromness 40.5  £96.50 238.3 TEXBenlaw\,Evie 49  £115 234.7 CHARWarthill\,Holm 41  £94 229.3 TEXWhitehall\,Stronsay 50  £113.50 227 CHEV Top price per head was  £132 for 3 Charollais scaling 53 kilos from M & W Holland\, Hunton\, Stronsay purchased by E Flett. OTHER HOGGS PER HEAD Eastside\,Twatt 52  £130.50 TEX Heads\,St Margarets Hope 50  £126.50 TEX Dawn Cottage\,Holm 72  £125 BL TEX Dawn Cottage\,Holm 60  £124 TEX Netherton\,Holm 53.5  £123 CHEV Odiness\,Stronsay 55  £120 TEX Twiness\,Westray 48  £118 TEX Twiness\,Westray 50  £118 SUF Hunton\,Stronsay 48  £118.50 CHEV Hunton\,Stronsay 47  £116 CHEV Hunton\,Stronsay 47  £115 TEX Lower Bu\,Holm 48  £117 TEX Drydale\,Stromness 55  £117 TEX Drydale\,Stromness 47.5  £114 TEX Millhouse\,Deerness 50  £116 CHEV Millhouse\,Deerness 47  £114.50 SUF Pole\,Burray 50  £115.50 BLACK Millbrae\,Sanday 55  £115.50 TEX Vetquoy\,Twatt 55  £115 BLACK Benlaw\,Evie 49  £115 CHAR Whitehall\,Stronsay 50  £113.50 CHEV Quholmslie\,Stromness 47.5  £113.50 TEX Laithe\,Sandwick 46  £110.50 TEX Swannay Farm\,By Evie 45  £109 CHEV Avelshay\,Rousay 45  £108 TEX Serrigar\,South Ronaldsay 42  £103.50 TEX Breeding Ewes averaged  £154 and topped at  £160 for a pen of 8 Texels from T & M Bain\, Twiness\, Westray. Store Hoggs averaged  £69.28 (+ £0.78) and topped at  £96 for 3 Zwartbles from Northbank Holdings\, St Ola. OTHER STORE HOGGS Odiness\,Stronsay  £95 TEX Sunnybank\,St Ola  £95 TEX Sunnybank\,St Ola  £86 TEX Inkerman\,Sanday  £91 TEX Twiness\,Westray  £90 TEX Vinkwin\,Evie  £89 TEX Vinkwin\,Evie  £85 BLACK South Breck\,Firth  £88 TEX Northbank\,St Ola  £88 WHITE Northbank\,St Ola  £88 ZWAR Gretna Green\,Westray  £86 WHITE Upper Work\,St Ola  £81 TEX Redland\,Firth  £79 CHAR Redland\,Firth  £75 TEX Brencherhouse\,Birsay  £60 BL FACE Vindon\,Finstown  £59 TEX Millhouse\,Deerness  £51 CHEV Cast Sheep topped at  £228 for a Texel Ewe from M & W Holland\, Hunton\, Stronsay. OTHER CAST SHEEP Twiness\,Westray  £222 TEX Odiness\,Stronsay  £196 TEX Odiness\,Stronsay  £148 TEX Hunton\,Stronsay  £186 TEX Rennibister\,Kirkwall  £178 TEX Rennibister\,Kirkwall  £162 TEX South Breck\,Firth  £176 CHEV South Breck\,Firth  £170 TEX Bayview\,Orphir  £160 SUF Serrigar\,South Ronaldsay  £158 CHEV Serrigar\,South Ronaldsay  £140 TEX South Seatter\,Sandwick  £156 TEX Skaill\,Orphir  £148 TEX Skaill\,Orphir  £128 TEX Whitehall\,Stronsay  £146 TEX Lower Bu\,Holm  £146 TEX Benlaw\,Evie  £144 CHAR Bu\,Orphir  £128 TEX Bu\,Orphir  £120 BELTEX Heads\,St Margarets Hope  £128 CHEV Heads\,St Margarets Hope  £108 TEX Vinkwin\,Evie  £120 TEX Lesliedale\,St Ola  £116 OTHER Vetquoy\,Twatt  £114 BLACK Mizpah\,St Ola  £100 BL FACE St Clair\,Holm  £98 CHEV St Clair\,Holm  £96 TEX Warthill\,Holm  £96 TEX Inkerman\,Sanday  £96 TEX Northbank\,St Ola  £78 ZWAR Upper Work\,St Ola  £68 LLEYN Swannay Farm\,By Evie  £64 WHITE Sunnybank\,St Ola  £50 MULE
URL:https://orkneymart.com/event/cattle-sheep-sales-11/
CATEGORIES:Sales Report
END:VEVENT
END:VCALENDAR