BEGIN:VCALENDAR
VERSION:2.0
PRODID:-//Orkney Auction Mart - ECPv6.15.17.1//NONSGML v1.0//EN
CALSCALE:GREGORIAN
METHOD:PUBLISH
X-WR-CALNAME:Orkney Auction Mart
X-ORIGINAL-URL:https://orkneymart.com
X-WR-CALDESC:Events for Orkney Auction Mart
REFRESH-INTERVAL;VALUE=DURATION:PT1H
X-Robots-Tag:noindex
X-PUBLISHED-TTL:PT1H
BEGIN:VTIMEZONE
TZID:Europe/London
BEGIN:DAYLIGHT
TZOFFSETFROM:+0000
TZOFFSETTO:+0100
TZNAME:BST
DTSTART:20220327T010000
END:DAYLIGHT
BEGIN:STANDARD
TZOFFSETFROM:+0100
TZOFFSETTO:+0000
TZNAME:GMT
DTSTART:20221030T010000
END:STANDARD
BEGIN:DAYLIGHT
TZOFFSETFROM:+0000
TZOFFSETTO:+0100
TZNAME:BST
DTSTART:20230326T010000
END:DAYLIGHT
BEGIN:STANDARD
TZOFFSETFROM:+0100
TZOFFSETTO:+0000
TZNAME:GMT
DTSTART:20231029T010000
END:STANDARD
BEGIN:DAYLIGHT
TZOFFSETFROM:+0000
TZOFFSETTO:+0100
TZNAME:BST
DTSTART:20240331T010000
END:DAYLIGHT
BEGIN:STANDARD
TZOFFSETFROM:+0100
TZOFFSETTO:+0000
TZNAME:GMT
DTSTART:20241027T010000
END:STANDARD
END:VTIMEZONE
BEGIN:VEVENT
DTSTART;TZID=Europe/London:20230109T000000
DTEND;TZID=Europe/London:20230109T000000
DTSTAMP:20260423T054917
CREATED:20231020T092402Z
LAST-MODIFIED:20231027T105611Z
UID:10000665-1673222400-1673222400@orkneymart.com
SUMMARY:Cattle & Sheep Sales
DESCRIPTION:Forward on Monday were 7 Prime Cattle & 6 OTM Cattle. Prime Heifers averaged 260 p/kg and topped at 266 p/kg for an Aberdeen Angus scaling 580 kilos from R J & L J Gaudie\, Netherskaill\, Birsay realising  £1542 purchased by E Flett. OTHER PRIME HEIFERS Netherskaill\,Birsay 560  £1\,461.60 261 SIMNetherskaill\,Birsay 570  £1\,482.00 260 LIMYarpha\,Orphir 590  £1\,539.90 261 CHARYarpha\,Orphir 565  £1\,469.00 260 CHARYarpha\,Orphir 585  £1\,515.15 259 CHAR OTM Cows averaged 174 p/kg and topped at 181.8 p/kg for an Aberdeen Angus scaling 770 kilos from J J H Scott\, Redland\, Firth realising  £1400. OTHER OTM COWS PER KILO Redland\,Firth 665  £1\,190.00 178.9 AARedland\,Firth 805  £1\,400.00 173.9 AAUpper Braebuster\,Deerness 680  £1\,200.00 176.5 AAUpper Braebuster\,Deerness 660  £1\,120.00 169.7 SIMMidhouse\,Harray 620  £1\,000.00 161.3 SIM Following the Cattle were 748 Prime\, 381 Store & 104 Cast Sheep. Prime Lambs averaged 211.2 p/kg SQQ Lambs averaged 211.2 p/kg Lambs per head averaged  £93.52. Prime Lambs topped at 239.8 p/kg for 4 Texels scaling 44 kilos from D & K Morgan\, Bryameadow\, Twatt realising  £105.50. OTHER LAMBS PER KILO Little Crofty\,Tankerness 45  £107.50 238.9 BELTEXHuan\,Sandwick 45  £105.50 234.4 BELTEXBryameadow\,Twatt 47  £110 234 TEXBryameadow\,Twatt 44.5  £103.50 232.6 TEXAppieteen\,Sandwick 48  £112 233.3 TEXAppiehouse\,Stenness 50  £115.50 231 TEXHolland\,Firth 47  £107.50 228.7 TEXHolland\,Firth 41  £93 226.8 TEXHolland\,Firth 51  £114.50 224.5 TEXLaga\,Evie 44  £99 225 TEXWithaquoy\,Holm 50  £112 224 TEXTuquoy\,Westray 44  £98.50 223.9 TEXBreck\,Stronsay 42  £94 223.8 TEXLower Cornquoy\,Holm 44  £98 222.7 TEXRosemount\,Sandwick 51  £113.50 222.5 TEXCraebreck\,Holm 43  £95 220.9 TEXMillhouse\,Deerness 43  £94.50 219.8 TEXMillhouse\,Deerness 44  £94.50 214.8 TEXHobbister\,Orphir 44  £96 218.2 BLACKHobbister\,Orphir 45  £97 215.6 LLEYNGrind\,Stronsay 37  £80.50 217.6 TEXSouth Breck\,Firth 44.5  £96 215.7 TEXSouth Breck\,Firth 47  £100 212.8 TEXClairness\,Sandwick 44.5  £96 215.7 TEXClairness\,Sandwick 43.5  £92 211.5 TEXStonelea\,Stenness 43  £92.50 215.1 TEXFea\,Holm 42  £90 214.3 TEXUpper Scapa\,St Ola 46  £98 213 TEXUpper Scapa\,St Ola 45  £95 211.1 TEXDrydale\,Stromness 49  £104 212.2 TEXDrydale\,Stromness 45  £95 211.1 TEXBreck\,Orphir 43.5  £91 209.2 TEXBurnhouse\,Longhope 44  £92 209.1 CHARNorth Moa\,Rendall 55  £114.50 208.2 CHARAvelshay\,Rousay 39.5  £81 205.1 TEXVirginia\,Stenness 42.5  £87 204.7 TEXBurns Of Myre\,Orphir 45  £90 200 TEX Top price per head was  £115.50 for 4 Texels scaling 50 kilos from S W Scott\, Appiehouse\, Stenness. OTHER LAMBS PER HEAD North Moa\,Rendall 55  £114.50 208.2 CHARAppiehouse\,Stenness 56  £114.50 204.5 TEXAppiehouse\,Stenness 54  £114 211.1 TEXAppiehouse\,Stenness 51  £111 217.6 TEXHolland\,Firth 51  £114.50 224.5 TEXHolland\,Firth 50  £110 220 TEXRosemount\,Sandwick 51  £113.50 222.5 TEXAppieteen\,Sandwick 48  £112 233.3 TEXWithaquoy\,Holm 50  £112 224 TEXWithaquoy\,Holm 52  £108 207.7 TEXBryameadow\,Twatt 47  £110 234 TEXHuan\,Sandwick 48  £108.50 226 TEXHuan\,Sandwick 45  £105.50 234.4 BELTEXLittle Crofty\,Tankerness 45  £107.50 238.9 BELTEXLittle Crofty\,Tankerness 49  £104.50 213.3 TEXCraebreck\,Holm 52  £107 205.8 CHEVTuquoy\,Westray 52  £105 201.9 SUFDrydale\,Stromness 49  £104 212.2 TEXSouth Breck\,Firth 47  £100 212.8 TEXStonelea\,Stenness 48  £100 208.3 SUFStonelea\,Stenness 48  £99 206.3 TEXLaga\,Evie 44  £99 225 TEXClairness\,Sandwick 47  £98 208.5 TEXClairness\,Sandwick 48  £98 204.2 SUFUpper Scapa\,St Ola 46  £98 213 TEXLower Cornquoy\,Holm 44  £98 222.7 TEXLower Cornquoy\,Holm 45  £97 215.6 TEXHobbister\,Orphir 47  £97 206.4 SUFHobbister\,Orphir 46  £97 210.9 LLEYNMillhouse\,Deerness 45  £96 213.3 TEXMillhouse\,Deerness 45  £95 211.1 SUFBurnhouse\,Longhope 47.5  £95 200 CHARBreck\,Stronsay 42  £94 223.8 TEXBreck\,Orphir 43.5  £91 209.2 TEXFea\,Holm 42  £90 214.3 TEXBurns Of Myre\,Orphir 45  £90 200 TEX Store Lambs averaged  £62.86 and topped at  £84.50 for a Charollais from J C Sinclair\, Appieteen\, Sandwick. OTHER STORE LAMBS Clairness\,Sandwick  £83 SUF Clairness\,Sandwick  £83 BLACK Summerfield\,St Ola  £82.50 TEX Summerfield\,St Ola  £80 TEX Millhouse\,Deerness  £80.50 SUF Upper Hobbister\,Stenness  £80 TEX Upper Hobbister\,Stenness  £76 BLACK Grind\,Stronsay  £77 WHITE Breck\,Stronsay  £76 WHITE Fea\,Holm  £76 WHITE Fea\,Holm  £74.50 BLACK Stonelea\,Stenness  £75 BELTEX Netherhill\,Tankerness  £75 TEX Netherhill\,Tankerness  £72 SUF Miry Park\,Sanday  £68 WHITE Miry Park\,Sanday  £68 BLACK Kirkvoe\,Rendall  £66 SPEK Smoogarth\,Firth  £58 SUF Mid Stove\,Quoyloo  £47 WHITE Cast Sheep topped at  £210 for a Texel Ewe from A T Rendall\, Old Hall\, Stromness. OTHER CAST SHEEP Old Hall\,Stromness  £196 TEX Old Hall\,Stromness  £194 TEX Old Hall\,Stromness  £188 TEX Old Hall\,Stromness  £162 TEX Feolquoy\,Stromness  £182 CHEV Feolquoy\,Stromness  £180 TEX Feolquoy\,Stromness  £174 CHEV Appiehouse\,Stenness  £180 CHAR Appiehouse\,Stenness  £170 CHAR Appiehouse\,Stenness  £160 CHAR Holland\,Firth  £160 CHAR Upper Hobbister\,Stenness  £125 BLACK Withaquoy\,Holm  £120 LLEYN Huan\,Sandwick  £112 SUF Smoogarth\,Firth  £112 TEX Avelshay\,Rousay  £98 OTHER Craebreck\,Holm  £94 TEX Bryameadow\,Twatt  £92 TEX Tuquoy\,Westray  £91 TEX Tuquoy\,Westray  £88 TEX Burnhouse\,Longhope  £88 TEX Kirkvoe\,Rendall  £86 TEX Appietown\,Rendall  £84 CHAR South Breck\,Firth  £80 TEX Stonelea\,Stenness  £72 SUF Appieteen\,Sandwick  £72 SHET
URL:https://orkneymart.com/event/cattle-sheep-sales-15/
CATEGORIES:Sales Report
END:VEVENT
BEGIN:VEVENT
DTSTART;TZID=Europe/London:20230117T000000
DTEND;TZID=Europe/London:20230117T000000
DTSTAMP:20260423T054917
CREATED:20231020T092402Z
LAST-MODIFIED:20231027T105517Z
UID:10000663-1673913600-1673913600@orkneymart.com
SUMMARY:Sheep Sale
DESCRIPTION:Forward on Tuesday were 312 Prime\, 461 Store & 82 Cast Sheep. Prime Hoggs averaged 205.8 (-5.4p) SQQ Hoggs averaged 205.5 p/kg (-5.7p) Hoggs per head averaged  £90.56 (- £2.96) Prime Hoggs topped at 213.6 p/kg for 3 Texels scaling 44 kilos from T & E S Gullion\, Warthill\, Holm realising  £94. OTHER HOGGS PER KILO Samsons Lane\,Stronsay 48  £102 212.5 SPEKSamsons Lane\,Stronsay 45  £95 211.1 BLACKEast Howe\,Birsay 40  £85 212.5 TEXBraehead\,Stromness 45  £95 211.1 TEXEast Howe\,Birsay 44.5  £93.50 210.1 TEXMoan\,Harray 47  £99 210.6 TEXLittle Crofty\,Tankerness 39  £82 210.3 TEXLittle Crofty\,Tankerness 41  £86 209.8 TEXCopenageo\,Tankerness 45  £94.50 210 TEXCopenageo\,Tankerness 47  £98 208.5 TEXHurtiso\,Holm 46  £96.50 209.8 TEXHurtiso\,Holm 44  £91.50 208 TEXHolland\,Papa Westray 42  £88.0 209.5 TEXHolland\,Papa Westray 42  £87.50 208.3 SUFAppiehouse\,Stenness 50  £104.50 209 SUFAppiehouse\,Stenness 45  £94 208.9 TEXHobbister\,Orphir 45  £94 208.9 LLEYNHobbister\,Orphir 46  £95.50 207.6 SUFHuip\,Stronsay 45  £93.50 207.8 TEXHuip\,Stronsay 46  £95 206.5 TEXUpper Scapa\,St Ola 42  £87 207.1 SUFUpper Scapa\,St Ola 45  £93 206.7 TEXWarthill\,Holm 43  £89 207 TEXSkaill\,Westray 41  £84.50 206.1 TEX Top price per head was  £106 for a Texel scaling 52 kilos from M Walker\, Copenageo\, Tankerness and for 2 Black Hoggs scaling 52 kilos from D Peace\, Samsons Lane\, Stronsay. OTHER HOGGS PER HEAD Huip\,Stronsay 51  £105 SUF Appiehouse\,Stenness 50  £104.50 SUF Samsons Lane\,Stronsay 52  £104 TEX Samsons Lane\,Stronsay 48  £102 SPEK Hurtiso\,Holm 49  £100 TEX Moan\,Harray 47  £99 TEX Braehead\,Stromness 47  £98 TEX East Howe\,Birsay 47  £98 OTHER Copenageo\,Tankerness 47  £98 TEX Hobbister\,Orphir 46  £95.50 SUF Hobbister\,Orphir 45  £94 LLEYN Warthill\,Holm 44  £94 TEX Upper Scapa\,St Ola 45  £93 TEX Holland\,Papa Westray 42  £88 TEX Little Crofty\,Tankerness 42  £87 TEX Skaill\,Westray 41  £84.50 TEX Store Hoggs averaged  £42.35 (- £20.51) and topped at  £64 for a pair of Texels from D Peace\, Samsons Lane\, Stronsay and for 4 Suffolks from R B S Heard\, Huip\, Stronsay. OTHER STORE HOGGS Hurtiso\,Holm  £63 TEX Redland\,Firth  £60 SUF Huip\,Stronsay  £59.50 TEX Huip\,Stronsay  £57 WHITE Braehead\,Stromness  £54 TEX Holland\,Papa Westray  £53 TEX Samsons Lane\,Stronsay  £53 WHITE Salwick\,Longhope  £33.50 LLEYN Honeysgoe\,South Ronaldsay  £29 CHEV Westersands\,Deerness  £29 TEX Cast Sheep topped at  £86 for a pair of Texel Ewes from G & S Sinclair\, Moan\, Harray. OTHER CAST SHEEP Laga\,Evie  £80 LLEYN Laga\,Evie  £72 LLEYN Skaill\,Westray  £78 TEX Samsons Lane\,Stronsay  £76 TEX Moan\,Harray  £75 TEX Northbigging\,Dounby  £72 TEX Moan\,Harray  £70 TEX Westersands\,Deerness  £70 TEX Honeysgoe\,South Ronaldsay  £64 CHEV Upper Scapa\,St Ola  £55 TEX Charleston\,Papa Westray  £49 TEX Hobbister\,Orphir  £50 SUF Holland\,Papa Westray  £50 SHET
URL:https://orkneymart.com/event/sheep-sale-14/
CATEGORIES:Sales Report
END:VEVENT
BEGIN:VEVENT
DTSTART;TZID=Europe/London:20230123T000000
DTEND;TZID=Europe/London:20230123T000000
DTSTAMP:20260423T054917
CREATED:20231020T092348Z
LAST-MODIFIED:20231027T105611Z
UID:10000662-1674432000-1674432000@orkneymart.com
SUMMARY:Cattle & Sheep Sales
DESCRIPTION:Forward on Monday were 6 Prime & 4 OTM Cattle. Prime Heifers topped at 280 p/kg for a Limousin scaling 625 kilos from J & R Stanger\, South Seatter\, Sandwick realising  £1750 purchased by Donaldsons. OTHER PRIME HEIFERS Yarpha\,Oprhir 565  £1\,497 265 SHYarpha\,Oprhir 540  £1\,425 264 LIMSouth Seatter\,Sandwick 630  £1\,638 260 CH OTM Cattle sold to 213.6 p/kg for an Aberdeen Angus Heifer scaling 515 kilos from Glen Farms\, St Ola realising  £1100. OTHER OTM CATTLE Huip\,Stronsay 735  £1\,380 188 CHNorthbank\,St Ola 760  £1\,400 184.2 CH Following the Cattle were 295 Prime Hoggs\, 162 Store Hoggs & 82 Cast Sheep. Prime Hoggs averaged 213.7 p/kg (+7.9p) SQQ Hoggs averaged 213.2 p/kg (+7.7p) Hoggs per head averaged  £93.58 (+ £3.02) Prime Hoggs topped at 224.5 p/kg for a pair of Texels scaling 51 kilos from P & F Ross\, Lenahowe\, Sandwick realising  £114.50. OTHER HOGGS PER KILO Lenahowe\,Sandwick 51  £114.50 224.5 TEXLenahowe\,Sandwick 50  £111 222 TEXHuip\,Stronsay 40.5  £90.50 223.5 SUFDenwick\,Deerness 43  £95 220.9 TEXAvelshay\,Rousay 50  £109 218 TEXAvelshay\,Rousay 43  £93.50 217.4 TEXSt Clair\,Holm 42  £91.50 218 TEXSt Clair\,Holm 43  £93.50 217.4 OTHERSt Clair\,Holm 45  £97.50 216.7 TEXHobbister\,Orphir 45  £97.50 216.7 SUFHobbister\,Orphir 44  £95 215.9 LLEYNHobbister\,Orphir 44  £95 215.9 SUFRoadside\,St Ola 43  £92.50 215.1 TEXAnnster\,South Ronaldsay 43  £90.50 210.5 WHITERennibister\,Kirkwall 43  £89 207 TEX Top price per head was  £118.50 for a pair of Texels scaling 54 kilos from P & F Ross\, Lenahowe\, Sandwick. OTHER HOGGS PER HEAD Lenahowe\,Sandwick 51  £114.50 TEX Lenahowe\,Sandwick 50  £111 TEX Lenahowe\,Sandwick 51  £111 TEX Avelshay\,Rousay 52  £110 TEX Avelshay\,Rousay 50  £109 TEX Rennibister\,Kirkwall 48  £98 TEX St Clair\,Holm 45  £97.50 TEX Hobbister\,Orphir 45  £97.50 SUF Denwick\,Deerness 43  £95 TEX Huip\,Stronsay 42.5  £92.50 SUF Roadside\,St Ola 43  £92.50 TEX Annster\,South Ronaldsay 43  £90.50 WHITE Store Hoggs averaged  £57.40 (+15.05) and topped at  £80 for a pair of Texels from G Miller\, Roadside\, St Ola. OTHER STORE HOGGS Huip\,Stronsay  £73 SUF Huip\,Stronsay  £67.50 TEX Rennibister\,Kirkwall  £72.50 TEX Rennibister\,Kirkwall  £68 TEX Roadside\,St Ola  £66 TEX Annster\,South Ronaldsay  £58.50 TEX Onziebust\,Egilsay  £49.50 CHEV Cast Sheep topped at  £172 for a Black Texel Ewe from A T Annal\, Myre\, South Ronaldsay. OTHER CAST SHEEP Myers\,South Ronaldsay  £166 BL FACE Holland\,Firth  £150 TEX Holland\,Firth  £140 CHAR Holland\,Firth  £140 TEX St Clair\,Holm  £146 TEX Rennibister\,Kirkwall  £138 TEX Annster\,South Ronaldsay  £96 OTHER Littlequoy\,Burray  £92 MULE Littlequoy\,Burray  £90 MULE Westersands\,Deerness  £74 SHET Onziebust\,Egilsay  £72 SUF Bogie Houses\,Evie  £70 SUF
URL:https://orkneymart.com/event/cattle-sheep-sales-14/
CATEGORIES:Sales Report
END:VEVENT
BEGIN:VEVENT
DTSTART;TZID=Europe/London:20230130T000000
DTEND;TZID=Europe/London:20230130T000000
DTSTAMP:20260423T054917
CREATED:20231020T092348Z
LAST-MODIFIED:20231027T105611Z
UID:10000660-1675036800-1675036800@orkneymart.com
SUMMARY:Cattle & Sheep Sales
DESCRIPTION:Forward on Monday were 7 Prime & 6 OTM Cattle. Prime Heifers topped at 282 p/kg for a Limousin scaling 565 kilos from Glen Orkney Farms\, St Ola realising  £1593 purchased by Williamsons. OTHER PRIME HEIFERS Midhouse\,Evie 620  £1\,618.20 261 CHARMidhouse\,Evie 565  £1\,469 260 LIMMidhouse\,Evie 560  £1\,450.40 259 CHARNorthbigging\,Dounby 605  £1\,579.05 261 CHARNorthbigging\,Dounby 565  £1\,463.35 259 CHAR OTM Cows averaged 197 p/kg and topped at 214.3 p/kg for a Simmental scaling 700 kilos from S & D Muir\, Biggings\, Holm realising  £1500. OTHER COWS PER KILO Biggings\,Holm 630  £1\,300 206.3 SIMBiggings\,Holm 700  £1\,430 204.3 SIMAppieteen\,Sandwick 670  £1\,240 185.1 AA Dairy Cows topped at 139.3 p/kg for a Friesian Cow scaling 725 kilos from J C Sinclair\, Appieteen\, Sandwick realising  £1010. Following the Cattle were 372 Prime\, 134 Store & 135 Cast Sheep. Prime Hoggs averaged 210 p/kg (-3.7p) SQQ Hoggs averaged 208 p/kg (3.2p) Hoggs per head averaged  £95.10 (+ £1.52) Prime Hoggs topped at 225 p/kg for a pair of Texels scaling 48 kilos from J M Lennie\, Nearhouse\, Tankerness realising  £108 purchased by Williamsons. OTHER HOGGS PER KILO Hermisgarth\,Sanday 50  £112 224 TEXHermisgarth\,Sanday 50  £110.50 221 TEXNearhouse\,Tankerness 46  £102 221.7 TEXNearhouse\,Tankerness 46  £100 217.4 TEXNearhouse\,Tankerness 47  £102 217 TEXColligarth\,Sanday 45  £99.50 221.1 TEXColligarth\,Sanday 48  £103.50 215.6 TEXStembister\,Toab 50  £109 218 TEXStembister\,Toab 50  £108.50 217 SUFStembister\,Toab 45  £97.50 216.7 TEXNigley\,Toab 45  £98 217.8 TEXCott\,Rendall 45  £97.50 216.7 TEXCott\,Rendall 49  £105 214.3 CHEVWithaquoy\,Holm 50  £108 216 SUFWithaquoy\,Holm 49  £105 214.3 CHEVPurtabreck\,Toab 45  £97 215.6 TEXPurtabreck\,Toab 44  £94.50 214.8 TEXHeathfield\,St Ola 48  £102.50 213.5 TEXHeathfield\,St Ola 46  £98 213 TEXSwannay Farm\,By Evie 41  £87.50 213.4 TEXSwannay Farm\,By Evie 42  £89.50 213.1 CHEVHobbister\,Orphir 42  £88.50 210.7 LLEYNFlaws\,Holm 49  £103 210.2 TEXMidland\,Rendall 45  £94.50 210 SUFCastle\,Stromness 43  £89 207 TEXCastle\,Stromness 42  £86.50 206 TEX Top price per head was  £114 for 3 Texels scaling 52 kilos from A & A Muir\, Hermisgarth\, Sanday purchased by E Flett. OTHER HOGGS PER HEAD Hermisgarth\,Sanday 50  £112 TEX Hermisgarth\,Sanday 52  £111.50 TEX Hermisgarth\,Sanday 50  £110.50 TEX Stembister\,Toab 50  £109 TEX Stembister\,Toab 53  £109 TEX Stembister\,Toab 50  £108.50 SUF Cott\,Rendall 52  £109 CHEV Nearhouse\,Tankerness 48  £108 TEX Withaquoy\,Holm 54  £108 CHEV Withaquoy\,Holm 50  £108 SUF Heathfield\,St Ola 54  £107 SUF Purtabreck\,Toab 54  £106 TEX Colligarth\,Sanday 48  £103.50 TEX Flaws\,Holm 49  £103 TEX Nigley\,Toab 45  £98 TEX Midland\,Rendall 45  £94.50 SUF Swannay Farm\,By Evie 42  £89.50 CHEV Castle\,Stromness 43  £89 TEX Hobbister\,Orphir 42  £88.50 LLEYN Store Hoggs averaged  £56.62 (- £0.78) and topped at  £76 for 21 Texels from S & D Scott\, Nigley\, Toab. OTHER STORE HOGGS Castle\,Stromness  £74 TEX Backarass\,Westray  £73 SUF Backarass\,Westray  £68 TEX Heathfield\,St Ola  £72 SUF Grind\,Stronsay  £72 TEX Grind\,Stronsay  £68 TEX Millbrae\,Sanday  £71 BELTEX Colligarth\,Sanday  £70 TEX West Nearhouse\,Birsay  £60 CHEV Lower Gritley\,Deerness  £50 BLACK Onziebust\,Wyre  £45 CHEV Cast Sheep topped at  £176 for a Texel Ewe from I & I Brow\, Millbrae\, Sanday. OTHER CAST SHEEP Colligarth\,Sanday  £160 TEX Colligarth\,Sanday  £140 TEX Hermisgarth\,Sanday  £152 TEX Nearhouse\,Tankerness  £152 CHEV Nearhouse\,Tankerness  £148 CHEV Nearhouse\,Tankerness  £140 CHEV Withaquoy\,Holm  £138 BLACK Withaquoy\,Holm  £132 TEX Stembister\,Toab  £130 TEX Millbrae\,Sanday  £124 TEX Millbrae\,Sanday  £110 TEX Northbigging\,Dounby  £100 LLEYN Northbigging\,Dounby  £100 SUF Midland\,Rendall  £96 CHEV Furrowend\,Stronsay  £91 BELTEX Swannay Farm\,By Evie  £90 SUF Flaws\,Holm  £86 TEX Cott\,Rendall  £84 TEX West Nearhouse\,Birsay  £82 CHEV Backarass\,Westray  £62 TEX Nigley\,Toab  £50 TEX
URL:https://orkneymart.com/event/cattle-sheep-sales-13/
CATEGORIES:Sales Report
END:VEVENT
END:VCALENDAR