BEGIN:VCALENDAR
VERSION:2.0
PRODID:-//Orkney Auction Mart - ECPv6.15.17.1//NONSGML v1.0//EN
CALSCALE:GREGORIAN
METHOD:PUBLISH
X-WR-CALNAME:Orkney Auction Mart
X-ORIGINAL-URL:https://orkneymart.com
X-WR-CALDESC:Events for Orkney Auction Mart
REFRESH-INTERVAL;VALUE=DURATION:PT1H
X-Robots-Tag:noindex
X-PUBLISHED-TTL:PT1H
BEGIN:VTIMEZONE
TZID:Europe/London
BEGIN:DAYLIGHT
TZOFFSETFROM:+0000
TZOFFSETTO:+0100
TZNAME:BST
DTSTART:20210328T010000
END:DAYLIGHT
BEGIN:STANDARD
TZOFFSETFROM:+0100
TZOFFSETTO:+0000
TZNAME:GMT
DTSTART:20211031T010000
END:STANDARD
BEGIN:DAYLIGHT
TZOFFSETFROM:+0000
TZOFFSETTO:+0100
TZNAME:BST
DTSTART:20220327T010000
END:DAYLIGHT
BEGIN:STANDARD
TZOFFSETFROM:+0100
TZOFFSETTO:+0000
TZNAME:GMT
DTSTART:20221030T010000
END:STANDARD
BEGIN:DAYLIGHT
TZOFFSETFROM:+0000
TZOFFSETTO:+0100
TZNAME:BST
DTSTART:20230326T010000
END:DAYLIGHT
BEGIN:STANDARD
TZOFFSETFROM:+0100
TZOFFSETTO:+0000
TZNAME:GMT
DTSTART:20231029T010000
END:STANDARD
END:VTIMEZONE
BEGIN:VEVENT
DTSTART;TZID=Europe/London:20221205T000000
DTEND;TZID=Europe/London:20221205T000000
DTSTAMP:20260423T065534
CREATED:20231020T092417Z
LAST-MODIFIED:20231027T105611Z
UID:10000670-1670198400-1670198400@orkneymart.com
SUMMARY:Cattle & Sheep Sales
DESCRIPTION:Forward on Monday were 8 Prime\, 1 Store & 22 OTM Cattle. Prime Heifers sold to 276 p/kg for a Charolais scaling 590 kilos from J & R Stanger\, South Seatter\, Sandwick realising  £1628 purchased by Williamsons. OTHER PRIME HEIFERS Midhouse\,Evie 505  £1\,318 261 LIMCloke\,Dounby 580  £1\,450 250 SAL Store Cattle sold to  £1270 for an Aberdeen Angus Steer from Hobbister\, Orphir. OTM Cows topped at 203.1 p/kg for a Saler Cow scaling 645 kilos from Millburn\, Harray realising  £1310. OTHER OTM PER KILO Millburn\,Harray 700  £1\,310 187.1 SALMillburn\,Harray 760  £1\,370 180.3 SALMillburn\,Harray 800  £1\,440 180 SIMMillburn\,Harray 755  £1\,340 177.5 SALMillburn\,Harray 840  £1\,490 177.4 SIMMillburn\,Harray 855  £1\,430 167.3 SIMThe Northfield\,Burray 780  £1\,440 184.6 AAThe Northfield\,Burray 745  £1\,260 169.1 AAThe Northfield\,Burray 720  £1\,200 166.7 AAHobbister\,Orphir 720  £1\,220 169.4 AAStoneyquoy\,Lyness 665  £1\,120 168.4 LIMMidhouse\,Evie 780  £1\,290 165.4 SIMGarbo\,Sanday 830  £1\,360 163.9 AAGarbo\,Sanday 820  £1\,330 162.2 SIMHaybrake\,Lyness 750  £1\,140 152 CHARRamray\,Graemsay 620  £920 148.4 AA Top price per head was  £1490 for a Simmental scaling 840 kilos from Millburn\, Harray. OTM BULLS Twatt Farm\,Birsay 960  £1\,390 144.8 OTH Following the Cattle were 882 Prime Lambs\, 658 Store Lambs & 231 Cast Sheep. Prime Lambs averaged 225.1 p/kg (-2.9p) SQQ Lambs averaged 226.5 p/kg (-3.5p) Lambs per head averaged  £104.42 (- £0.22) Prime Lambs topped at 237.6 p/kg for 5 Texels scaling 46.5 kilos from West Burnside\, Tankerness realising  £110.50. OTHER LAMBS PER KILO Bachylis\,Orphir 45  £106 235.6 TEXWarthill\,Holm 45  £105.50 234.4 TEXWarthill\,Holm 50  £115.50 231 TEXSt Clair\,Holm 45  £105.50 234.4 TEXSt Clair\,Holm 42  £97 231 TEXBrettovale\,Dounby 50  £117 234 TEXMoan\,Harray 44.5  £104 233.7 TEXMoan\,Harray 46  £107 233 BLACKSummerfield\,St Ola 45  £105 233.3 TEXSummerfield\,St Ola 46.5  £108 232.3 TEXLittle Crofty\,Tankerness 44  £102.50 233 BELTEXPerth\,Westray 46  £107 232.6 SUFQuoykea\,Toab 47.5  £110.50 232.6 TEXGrind\,Stronsay 40  £93 232.5 SUFCharleston\,Papa Westray 46.5  £108 232.3 TEXCharleston\,Papa Westray 47  £109 231.9 TEXCharleston\,Papa Westray 47.5  £110 231.6 TEXWest Burnside\,Tankerness 46.5  £108 232.3 TEXWest Burnside\,Tankerness 50  £115.50 231 TEXSwannay Farm\,By Evie 44  £102 231.8 TEXSwannay Farm\,By Evie 43  £99 230.2 TEXBreck\,Stronsay 41  £95 231.7 TEXBreck\,Stronsay 50  £115 230 BLACKLaithe\,Sandwick 49  £113.50 231.6 TEXTwiness\,Westray 49  £113.50 231.6 TEXInkerman\,Sanday 46  £106.50 231.5 TEXEastside\,Twatt 46  £106.50 231.5 TEXSouth Fea\,Orphir 48  £111 231.3 TEXCraebreck\,Holm 48  £111 231.3 TEXCraebreck\,Holm 50  £114.50 229 TEXDrydale\,Stromness 47  £108.50 230.9 TEXFea\,Holm 47  £108.50 230.9 BLACKFea\,Holm 46.5  £106.50 229 TEXHolland\,Firth 47  £108.50 230.9 TEXHolland\,Firth 44  £101 229.5 CHARVindon\,Finstown 43.5  £100 229.9 CHARVindon\,Finstown 49  £112.50 229.6 CHARSouth Seatter\,Sandwick 47  £108 229.8 SUFSouth Seatter\,Sandwick 47.5  £108.50 228.4 TEXHolland\,Papa Westray 49  £112.50 229.6 SUFFea\,St Ola 48  £110 229.2 CHEVFea\,St Ola 48.5  £110.50 227.8 SUFMillhouse\,Deerness 50  £114.50 229 SUFBinscarth\,Firth 46  £105 228.3 TEXBinscarth\,Firth 45  £102.50 227.8 SUFGarson\,Sandwick 47  £106.50 226.6 TEXBenlaw\,Evie 45.5  £102.50 225.3 CHAROnziebust\,Egilsay 46  £103.50 225 SUFNetherhill\,Tankerness 42.5  £95.50 224.7 TEXCrudy\,Sanday 43  £96.50 224.4 TEXLower Bu\,Holm 43  £96 223.3 TEXBreck Cottage\,Birsay 38  £82.50 217.1 TEXNewark\,Eday 43.5  £93.50 214.9 BLACKDenwick\,Deerness 38.5  £80.50 209.1 TEX Top price per head was  £127.50 for 3 Texels scaling 60 kilos from T & M Bain\, Twiness\, Westray. OTHER LAMBS PER HEAD Brettovale\,Dounby 50  £117 TEX Twiness\,Westray 60  £117 SUF Twiness\,Westray 58  £116 SUF Craebreck\,Holm 51  £116.50 TEX South Fea\,Orphir 55  £116 TEX Warthill\,Holm 50  £115.50 TEX West Burnside\,Tankerness 50  £115.50 TEX Vindon\,Finstown 54  £115.50 TEX Vindon\,Finstown 50  £114 TEX Breck\,Stronsay 50  £115 BLACK Millhouse\,Deerness 50  £114.50 SUF Laithe\,Sandwick 52  £114.50 TEX Laithe\,Sandwick 49  £113.50 TEX South Seatter\,Sandwick 51  £113 SUF Holland\,Papa Westray 49  £112.50 SUF Little Crofty\,Tankerness 50  £112.50 TEX Bachylis\,Orphir 49  £112.50 TEX Drydale\,Stromness 50  £112 TEX Moan\,Harray 50  £110.50 TEX Moan\,Harray 48.5  £110.50 TEX Quoykea\,Toab 47.5  £110.50 TEX Fea\,St Ola 48.5  £110.50 SUF Fea\,St Ola 48  £110 CHEV Charleston\,Papa Westray 47.5  £110 TEX Eastside\,Twatt 50  £109 TEX Holland\,Firth 47  £108.50 TEX Fea\,Holm 47  £108.50 BLACK Summerfield\,St Ola 46.5  £108 TEX Perth\,Westray 46  £107 SUF Inkerman\,Sanday 46  £106.50 TEX Garson\,Sandwick 47  £106.50 TEX St Clair\,Holm 45  £105.50 TEX Binscarth\,Firth 46  £105 TEX Onziebust\,Egilsay 46  £103.50 SUF Benlaw\,Evie 45.5  £102.50 CHAR Swannay Farm\,By Evie 44  £102 TEX Store Lambs averaged  £65.66 and sold to  £90 for a Beltex from A Bibby\, Smiddy\, Stronsay. OTHER STORE LAMBS Lower Cottiscarth\,Rendall  £88.50 TEX Lower Cottiscarth\,Rendall  £82 SUF Quanterness\,St Ola  £88 SUF Quanterness\,St Ola  £84 TEX Skaill\,Orphir  £86 TEX Clifton\,Westray  £86 SUF Clifton\,Westray  £83 SUF Rosebank\,Deerness  £86 TEX Rosebank\,Deerness  £81 TEX Vinkwin\,Evie  £85 TEX Vinkwin\,Evie  £83 TEX Fea\,St Ola  £84 CHEV Seattersquoy\,Stenness  £82 BELTEX Seattersquoy\,Stenness  £80 TEX Crudy\,Sanday  £80.50 TEX Smiddy\,Stronsay  £80 TEX Onziebust\,Egilsay  £80 TEX Cott\,Rousay  £77 CHEV Cott\,Rousay  £74.50 TEX Gorn\,Harray  £72 SUF Gorn\,Harray  £70 WHITE Little Wards\,Longhope  £71.50 SUF Hayon\,Birsay  £71 B Bachylis\,Orphir  £70 TEX Kinloch\,Sanday  £70 TEX Denwick\,Deerness  £64 BLACK Lower Gritley\,Deerness  £60 ZWAR Blinkbonny\,Stronsay  £55 TEX Cast Sheep topped at  £195 for a Texel Ewe from Garson\, Sandwick. OTHER CAST SHEEP Newbigging\,Westray  £167 TEX Newbigging\,Westray  £157 TEX Newbigging\,Westray  £155 TEX Blinkbonny\,Stronsay  £165 CHEV Twiness\,Westray  £151 TEX Clifton\,Westray  £147 TEX Clifton\,Westray  £121 TEX Lower Cottiscarth\,Rendall  £145 CHEV Perth\,Westray  £145 CHEV Garson\,Sandwick  £139 TEX Garson\,Sandwick  £127 TEX Laithe\,Sandwick  £139 CHEV Holland\,Firth  £135 SPEK Northbigging\,Dounby  £129 CHAR Northbigging\,Dounby  £121 CHAR Onziebust\,Egilsay  £119 CHEV Queenamuckle\,Rendall  £119 TEX Queenamuckle\,Rendall  £111 TEX Breck\,Stronsay  £117 TEX Warthill\,Holm  £117 TEX Smiddy\,Stronsay  £115 TEX Gerbo\,North Ronaldsay  £99 BELTEX West Burnside\,Tankerness  £91 CHEV St Clair\,Holm  £79 TEX Quanterness\,St Ola  £79 TEX Cott\,Rousay  £77 CHEV Daisybank\,Deerness  £71 ZWAR
URL:https://orkneymart.com/event/cattle-sheep-sales-17/
CATEGORIES:Sales Report
END:VEVENT
BEGIN:VEVENT
DTSTART;TZID=Europe/London:20221214T000000
DTEND;TZID=Europe/London:20221214T000000
DTSTAMP:20260423T065534
CREATED:20231020T092417Z
LAST-MODIFIED:20231027T105517Z
UID:10000668-1670976000-1670976000@orkneymart.com
SUMMARY:Sheep Sale
DESCRIPTION:Forward on Wednesday were 833 Prime Lambs\, 614 Store Lambs & 167 Cast Sheep\, Prime Lambs averaged 219.4 p/kg (-5.7p) SQQ Lambs averaged 217 p/kg (-9.5p) Lambs per head averaged  £98.39 (- £6.03) Prime Lambs topped at 244 p/kg for 3 Texels scaling 50 kilos from J M Lennie\, Nearhouse\, Tankerness realising  £122. OTHER LAMBS PER KILO Quoymorhouse\,Shapinsay 44  £107 243.2 BELTEXHuan\,Sandwick 50  £120.50 241 TEXGorn\,Shapinsay 47.5  £112 235.8 TEXGorn\,Shapinsay 46.5  £109 234.4 TEXStonelea\,Stenness 40  £94 235 BELTEXStonelea\,Stenness 41  £94.50 230.5 BELTEXAppiehouse\,Stenness 49  £113.50 231.6 TEXBraemar\,Deerness 43  £99 230.2 BELTEXMillhouse\,Deerness 52  £119.50 229.8 TEXMillhouse\,Deerness 47  £107 227.7 TEXRowland\,Holm 48  £110 229.2 TEXWhitehall\,Stronsay 46  £105 228.3 TEXWhitehall\,Stronsay 46.5  £105 225.8 TEXPurtabreck\,Toab 43  £98 227.9 TEXUnigarth\,Sandwick 44  £100 227.3 BELTEXLenahowe\,Sandwick 37  £84 227 BELTEXCopenageo\,Tankerness 48.5  £110 226.8 TEXNearhouse\,Tankerness 49  £111 226.5 TEXBiggings\,Stenness 41.5  £94 226.5 BELTEXBiggings\,Stenness 43  £96.50 224.4 TEXQuoykea\,Toab 43.5  £98 225.3 TEXSwannay Farm\,By Evie 42  £94.50 225 TEXCraebreck\,Holm 44  £99 225 TEXCraebreck\,Holm 46.5  £104.50 224.7 TEXSkaill\,Orphir 43.5  £97.50 224.1 TEXBu\,Westray 46  £103 223.9 TEXBriarlea\,Stronsay 46  £102.50 222.8 TEXTuquoy\,Westray 46.5  £103.50 222.6 TEXTuquoy\,Westray 44  £97.50 221.6 TEXVirginia\,Stenness 52  £115.50 222.1 TEXOdiness\,Stronsay 42  £93 221.4 TEXCotland\,St Ola 47  £104 221.3 TEXSwanbister\,Orphir 44  £97 220.5 TEXSouth Seatter\,Sandwick 50  £110 220 CHEVGrutha\,South Ronaldsay 52  £113 217.3 TEXRoadside\,St Ola 42  £90.50 215.5 TEXMessigate\,Tankerness 53  £113.50 214.2 TEXHowe\,Harray 40.5  £86.50 213.6 TEXFairview\,St Margarets Hope 54  £113.50 210.2 SUFRennibister\,Kirkwall 41  £85 207.3 TEX Top price per head was  £123 for a Texel scaling 55 kilos from W S Garson\, Huan\, Sandwick. OTHER LAMBS PER HEAD Nearhouse\,Tankerness 50  £122 TEX Huan\,Sandwick 50  £120.50 TEX Huan\,Sandwick 55  £115 TEX Huan\,Sandwick 50  £114 TEX Millhouse\,Deerness 52  £119.50 TEX Millhouse\,Deerness 51  £115 TEX Rowland\,Holm 52  £115.50 TEX Virginia\,Stenness 52  £115.50 TEX Messigate\,Tankerness 56  £115.50 TEX Messigate\,Tankerness 53  £113.50 TEX Gorn\,Shapinsay 51  £115 TEX Copenageo\,Tankerness 52  £114 TEX Grutha\,South Ronaldsay 62  £114 TEX Grutha\,South Ronaldsay 52  £113 TEX Fairview\,St Margarets Hope 54  £113.50 SUF Appiehouse\,Stenness 49  £113.50 TEX Holland\,South Ronaldsay 60  £113 SUF Tuquoy\,Westray 51  £112.50 SUF South Seatter\,Sandwick 50  £110 CHEV Quoymorhouse\,Shapinsay 44  £107 BELTEX Quoymorhouse\,Shapinsay 45.5  £107 BELTEX Bu\,Westray 51  £105.50 TEX Briarlea\,Stronsay 49  £105.50 BLACK Whitehall\,Stronsay 47  £105 TEX Whitehall\,Stronsay 46.5  £105 TEX Craebreck\,Holm 46.5  £104.50 TEX Cotland\,St Ola 47  £104 TEX Unigarth\,Sandwick 47  £102 TEX Braemar\,Deerness 43  £99 BELTEX Quoykea\,Toab 43.5  £98 TEX Purtabreck\,Toab 43  £98 TEX Skaill\,Orphir 43.5  £97.50 TEX Swanbister\,Orphir 44  £97 TEX Biggings\,Stenness 43  £96.50 TEX Stonelea\,Stenness 42  £96 TEX Swannay Farm\,By Evie 42  £94.50 TEX Roadside\,St Ola 42  £90.50 TEX Store Lambs averaged  £62.69 (- £2.97) and topped at  £87 for 7 Texels from Rachel Banks\, Fairview\, South Ronaldsay and 8 Texels from N & K Sclater\, Skaill\, Orphir. OTHER STORE LAMBS Bu\,Westray  £86 TEX Bu\,Westray  £83 TEX Windywalls\,Graemsay  £85.50 TEX Braemar\,Deerness  £85 TEX Sandside\,Graemsay  £85 TEX Skaill\,Orphir  £80 CHEV Salwick\,Longhope  £80 TEX Rennibister\,Kirkwall  £80 LLEYN Rennibister\,Kirkwall  £79 TEX Cloke\,Dounby  £78 TEX Souley Cottage\,Orphir  £78 TEX Howe\,Harray  £76.50 TEX Briarlea\,Stronsay  £76 ZWAR Briarlea\,Stronsay  £71 ZWAR Westshore\,Rendall  £74 TEX Swanbister\,Orphir  £60 SUF Purtabreck\,Toab  £58 TEX Haybrake\,Lyness  £58 SPEK Longhouse\,Westray  £50 OTHER Cast Sheep topped at  £189 for a Texel Ewe from T & J Leslie\, Quoymorhouse\, Shapinsay. OTHER CAST SHEEP Nearhouse\,Tankerness  £179 TEX Nearhouse\,Tankerness  £169 TEX Quoymorhouse\,Shapinsay  £169 TEX Messigate\,Tankerness  £169 TEX Vindon\,Finstown  £167 TEX Gorn\,Shapinsay  £159 TEX Gorn\,Shapinsay  £151 TEX Virginia\,Stenness  £147 TEX Virginia\,Stenness  £139 TEX Rennibister\,Kirkwall  £145 TEX Rennibister\,Kirkwall  £137 TEX Biggings\,Stenness  £139 TEX Fillets\,Graemsay  £135 TEX Tuquoy\,Westray  £129 TEX Bu\,Westray  £127 TEX Bu\,Westray  £113 TEX Whitehall\,Stronsay  £125 TEX Whitehall\,Stronsay  £117 TEX Lenahowe\,Sandwick  £117 BELTEX Lenahowe\,Sandwick  £109 TEX Salwick\,Longhope  £119 TEX Cotland\,St Ola  £97 TEX Laga\,Evie  £95 LLEYN Copenageo\,Tankerness  £91 CHEV Ingsay\,Swannay  £71 CHEV Fairview\,St Margarets Hope  £69 TEX South Seatter\,Sandwick  £63 SHET Longhouse\,Westray  £63 OTHER Howe\,Harray  £49 TEX
URL:https://orkneymart.com/event/sheep-sale-15/
CATEGORIES:Sales Report
END:VEVENT
BEGIN:VEVENT
DTSTART;TZID=Europe/London:20221219T000000
DTEND;TZID=Europe/London:20221219T000000
DTSTAMP:20260423T065534
CREATED:20231020T092402Z
LAST-MODIFIED:20231027T105611Z
UID:10000666-1671408000-1671408000@orkneymart.com
SUMMARY:Cattle & Sheep Sales
DESCRIPTION:Forward on Monday were 4 OTM Cattle\, 399 Prime\, 303 Store & 25 Cast Sheep. OTM Cattle sold to 174.2 p/kg for an Aberdeen Angus Cow scaling 930 kilos from Northfield\, Burray realising the top price per head  £1620. Prime Lambs averaged 221 p/kg (+1.6p) SQQ Lambs averaged 223.3 p/kg (+6.3p) Lambs per head averaged  £100.06. Prime Lambs topped at 234.1 p/kg for 5 Beltex scaling 44 kilos from J I & W N Stout\, Whitehall\, Stronsay realising  £103. OTHER LAMBS PER KILO Upperfield\,St Ola 45.5  £105 230.8 TEXSerrigar\,South Ronaldsay 47  £108 229.8 TEXSerrigar\,South Ronaldsay 42  £95 226.2 TEXSerrigar\,South Ronaldsay 46  £104 226.1 TEXHuan\,Sandwick 50  £114.50 229 TEXHuan\,Sandwick 50  £113.50 227 SPEKBraehead\,Stromness 45  £103 228.9 TEXBreck\,Orphir 48  £109.50 228.1 TEXHolland\,Papa Westray 46  £104.50 227.2 TEXWhitehall\,Stronsay 45  £102 226.7 TEXWithaquoy\,Holm 49  £111 226.5 TEXWithaquoy\,Holm 45.5  £102.50 225.3 TEXGrind\,Stronsay 40  £90.50 226.3 TEXHowdis Meadow\,Rousay 43.5  £98 225.3 TEXCharleston\,Papa Westray 42  £94.50 225 TEXCharleston\,Papa Westray 43  £96.50 224.4 TEXCharleston\,Papa Westray 41.5  £93 224.1 TEXVinkwin\,Evie 44  £98 222.7 TEXNether Ouseness\,Westray 40  £88.50 221.3 TEXNewhall\,Stromness 40  £88.50 221.3 TEXHobbister\,Orphir 46  £100 217.4 BLACKHobbister\,Orphir 46.5  £100 215.1 LLEYN Top price per head was  £115 for 4 Texels scaling 52 kilos from W S Garson\, Huan\, Sandwick. OTHER LAMBS PER HEAD Huan\,Sandwick 50  £114.50 TEX Huan\,Sandwick 60  £114 TEX Holland\,South Ronaldsay 58  £114.50 SUF Holland\,South Ronaldsay 56  £113 SUF Withaquoy\,Holm 60  £114 BLACK Serrigar\,South Ronaldsay 52  £113 TEX Breck\,Orphir 48  £109.50 TEX Upperfield\,St Ola 45.5  £105 TEX Holland\,Papa Westray 46  £104.50 TEX Braehead\,Stromness 45  £103 TEX Whitehall\,Stronsay 44  £103 BELTEX Whitehall\,Stronsay 45  £102 TEX Hobbister\,Orphir 49  £103 LLEYN Hobbister\,Orphir 48  £102 LLEYN Howdis Meadow\,Rousay 43.5  £98 TEX Vinkwin\,Evie 44  £98 TEX Charleston\,Papa Westray 43  £96.50 TEX Charleston\,Papa Westray 43  £96 TEX Newhall\,Stromness 44  £93.50 SUF Grind\,Stronsay 40  £90.50 TEX Store Lambs averaged  £68.45 (+ £5.76) and topped at  £89 for 8 Texels from S & S Barnett\, Serrigar\, South Ronaldsay. OTHER STORE LAMBS Vinkwin\,Evie  £88 TEX Vinkwin\,Evie  £81 ZWAR Howdis Meadow\,Rousay  £85.50 TEX Howdis Meadow\,Rousay  £85 SUF Howdis Meadow\,Rousay  £85 TEX Serrigar\,South Ronaldsay  £84 TEX Eastside\,Twatt  £80 TEX Newhall\,Stromness  £79 TEX Nether Ouseness\,Westray  £76 TEX Little Wards\,Longhope  £67 SUF Cast Sheep topped at  £115 for a Texel Ram from M & A Sinclair\, Rosebank\, Twatt.
URL:https://orkneymart.com/event/cattle-sheep-sales-16/
CATEGORIES:Sales Report
END:VEVENT
END:VCALENDAR