BEGIN:VCALENDAR
VERSION:2.0
PRODID:-//Orkney Auction Mart - ECPv6.15.17.1//NONSGML v1.0//EN
CALSCALE:GREGORIAN
METHOD:PUBLISH
X-WR-CALNAME:Orkney Auction Mart
X-ORIGINAL-URL:https://orkneymart.com
X-WR-CALDESC:Events for Orkney Auction Mart
REFRESH-INTERVAL;VALUE=DURATION:PT1H
X-Robots-Tag:noindex
X-PUBLISHED-TTL:PT1H
BEGIN:VTIMEZONE
TZID:Europe/London
BEGIN:DAYLIGHT
TZOFFSETFROM:+0000
TZOFFSETTO:+0100
TZNAME:BST
DTSTART:20210328T010000
END:DAYLIGHT
BEGIN:STANDARD
TZOFFSETFROM:+0100
TZOFFSETTO:+0000
TZNAME:GMT
DTSTART:20211031T010000
END:STANDARD
BEGIN:DAYLIGHT
TZOFFSETFROM:+0000
TZOFFSETTO:+0100
TZNAME:BST
DTSTART:20220327T010000
END:DAYLIGHT
BEGIN:STANDARD
TZOFFSETFROM:+0100
TZOFFSETTO:+0000
TZNAME:GMT
DTSTART:20221030T010000
END:STANDARD
BEGIN:DAYLIGHT
TZOFFSETFROM:+0000
TZOFFSETTO:+0100
TZNAME:BST
DTSTART:20230326T010000
END:DAYLIGHT
BEGIN:STANDARD
TZOFFSETFROM:+0100
TZOFFSETTO:+0000
TZNAME:GMT
DTSTART:20231029T010000
END:STANDARD
END:VTIMEZONE
BEGIN:VEVENT
DTSTART;TZID=Europe/London:20220906T000000
DTEND;TZID=Europe/London:20220906T000000
DTSTAMP:20260423T104346
CREATED:20231020T092624Z
LAST-MODIFIED:20231027T105502Z
UID:10000699-1662422400-1662422400@orkneymart.com
SUMMARY:Sheep Sale
DESCRIPTION:Forward for sale on Tuesday were 391 Prime Lambs\, 18 Store Lambs & 194 Cast Sheep. Prime Lambs averaged 226.8 p/kg (+10.9p) SQQ Lambs averaged 226.9 p/kg (+14.1p) Lambs per head averaged  £107.72 (+ £6.03) Prime Lambs sold to 247.8 p/kg for a pair of Texels scaling 46 kilos from J & M Smith\, Lower Cornquoy\, Holm realising  £114. OTHER LAMBS PER KILO BRYAMEADOW\,TWATT 51  £124.00 243.1 BELTEXFLAWS\,HOLM 50  £119.00 238 TEXFLAWS\,HOLM 52  £121.00 232.7 TEXLITTLE CROFTY\,TANKERNESS 44.5  £105.50 237.1 BELTEXLITTLE CROFTY\,TANKERNESS 45  £103.50 230 BELTEXCOPENAGEO\,TANKERNESS 48  £113.00 235.4 TEXCOPENAGEO\,TANKERNESS 47.5  £109.50 230.5 TEXSKAILL\,WESTRAY 46  £108.00 234.8 TEXSKAILL\,WESTRAY 45  £105.50 234 TEXSKAILL\,WESTRAY 46  £107.50 233.7 TEXODINESS\,STRONSAY 44  £103.00 234.1 BELTEXODINESS\,STRONSAY 45.5  £106.50 234.1 TEXODINESS\,STRONSAY 51  £118.00 231.4 TEXODINESS\,STRONSAY 52  £120.00 230.8 TEXRENNIBISTER\,KIRKWALL 49  £114.50 233.7 TEXRENNIBISTER\,KIRKWALL 50  £114.50 229 TEXRENNIBISTER\,KIRKWALL 46  £105.00 228.3 TEXLOWER CORNQUOY\,HOLM 50  £116.50 233 TEXLOWER CORNQUOY\,HOLM 47  £109.50 233 TEXLOWER CORNQUOY\,HOLM 46  £106.00 230.4 CHARHOLLAND\,FIRTH 49  £114.00 232.7 TEXHOLLAND\,FIRTH 51  £117.50 230.4 TEXNEWARK\,SANDAY 49  £114.00 232.7 TEXNEWARK\,SANDAY 48  £109.00 227.1 TEXYARPHA\,ORPHIR 46  £106.00 230.4 TEXYARPHA\,ORPHIR 44  £100.50 228.4 TEXYARPHA\,ORPHIR 48  £109.50 228.1 TEXYARPHA\,ORPHIR 50  £113.50 227 SUFVESTRAFIOLD\,SANDWICK 50  £115.00 230 TEXBEAFIELD\,SANDAY 51  £117.00 229.4 TEXBEAFIELD\,SANDAY 48  £109.00 227.1 OTHERBEAFIELD\,SANDAY 50  £113.50 227 TEXLAITHE\,SANDWICK 50  £114.50 229 TEXGARSON\,SANDWICK 47  £107.50 228.7 TEXGARSON\,SANDWICK 45  £102.00 226.7 TEXGARSON\,SANDWICK 46  £104.00 226.1 CHARUPPER SCAPA\,ST OLA 46  £104.50 227.2 TEXUPPER SCAPA\,ST OLA 46  £104.00 226.1 TEXUPPER SCAPA\,ST OLA 48  £108.50 226 CHARMIDHOUSE\,HARRAY 37.5  £84.00 224 BELTEXVASSQUOY\,TWATT 44  £98.50 223.9 TEXWESTFIELD\,STROMNESS 47  £105.00 223.4 SUFBIGGINGS\,STENNESS 52  £113.50 218.3 WHITESTRATHEAST\,HOLM 46.5  £99.50 214 MULEVOAN\,STENNESS 40  £83.00 207.5 TEX Top price per head was  £124 for a pair of Beltex scaling 51 kilos from D & K Morgan\, Bryameadow\, Twatt. OTHER LAMBS PER HEAD ODINESS\,STRONSAY 55  £122.50 CHAR ODINESS\,STRONSAY 52  £120.00 TEX ODINESS\,STRONSAY 52  £119.00 CHAR ODINESS\,STRONSAY 51  £118.00 TEX FLAWS\,HOLM 52  £121.00 TEX FLAWS\,HOLM 50  £119.00 TEX HOLLAND\,FIRTH 51  £117.50 TEX BEAFIELD\,SANDAY 51  £117.00 TEX NEWARK\,SANDAY 52  £117.00 TEX NEWARK\,SANDAY 52  £115.00 CHEV LOWER CORNQUOY\,HOLM 50  £116.50 TEX LOWER CORNQUOY\,HOLM 46  £114.00 TEX VESTRAFIOLD\,SANDWICK 50  £115.00 TEX RENNIBISTER\,KIRKWALL 50  £114.50 TEX RENNIBISTER\,KIRKWALL 49  £114.50 TEX LAITHE\,SANDWICK 50  £114.50 TEX BIGGINGS\,STENNESS 52  £113.50 WHITE YARPHA\,ORPHIR 50  £113.50 SUF YARPHA\,ORPHIR 50  £113.00 TEX COPENAGEO\,TANKERNESS 48  £113.00 TEX SKAILL\,WESTRAY 48  £111.50 TEX GARSON\,SANDWICK 49  £109.50 CHEV UPPER SCAPA\,ST OLA 49  £109.50 CHAR UPPER SCAPA\,ST OLA 48.5  £109.50 TEX UPPER SCAPA\,ST OLA 48  £108.50 CHAR LITTLE CROFTY\,TANKERNESS 44.5  £105.50 BELTEX WESTFIELD\,STROMNESS 47  £105.00 SUF STRATHEAST\,HOLM 46.5  £99.50 MULE VASSQUOY\,TWATT 44  £98.50 TEX Store Lambs averaged  £77.58 and sold to  £84 for a Blue Texel from B Charter\, Voan\, Stenness. Cast Sheep sold to  £196 for a Texel Ewe from R Wood\, Garson\, Sandwick. OTHER CAST SHEEP BRYAMEADOW\,TWATT  £178.00 TEX BRYAMEADOW\,TWATT  £159.00 TEX MIZPAH\,ST OLA  £174.00 TEX SKAILL\,WESTRAY  £150.00 TEX LENAHOWE\,SANDWICK  £150.00 TEX LENAHOWE\,SANDWICK  £148.00 TEX LENAHOWE\,SANDWICK  £136.00 BELTEX STANDPRETTY\,EVIE  £137.00 CHAR STANDPRETTY\,EVIE  £118.00 CHAR STANDPRETTY\,EVIE  £110.00 CHAR RENNIBISTER\,KIRKWALL  £135.00 TEX OLD MANSE\,WESTRAY  £133.00 SUF ST CLAIR\,HOLM  £126.00 TEX NORTH GUITH\,EDAY  £112.00 SUF AVELSHAY\,ROUSAY  £104.00 TEX QUANTERNESS\,ST OLA  £97.00 TEX LAITHE\,SANDWICK  £94.00 CHAR LAITHE\,SANDWICK  £90.00 CHAR NAVERSDALE\,ORPHIR  £67.00 SHET MID STOVE\,QUOYLOO  £56.00 SHET
URL:https://orkneymart.com/event/sheep-sale-31/
CATEGORIES:Sales Report
END:VEVENT
BEGIN:VEVENT
DTSTART;TZID=Europe/London:20220913T000000
DTEND;TZID=Europe/London:20220913T000000
DTSTAMP:20260423T104346
CREATED:20231020T092609Z
LAST-MODIFIED:20231027T105502Z
UID:10000697-1663027200-1663027200@orkneymart.com
SUMMARY:Sheep Sale
DESCRIPTION:Forward for sale on Tuesday were 474 Prime\, 17 Store & 417 Cast Sheep. Prime Lambs averaged 220 p/kg (-6.8p) SQQ Lambs averaged 216.9 p/kg (-10p) Lambs per head averaged  £101.68 (- £6.04) Prime Lambs topped at 250 p/kg for a pair of Blue Texels scaling 47 kilos from R E & R F Scott\, Dawn Cottage\, Holm realising  £117.50 purchased by Donaldsons. OTHER LAMBS PER KILO PURTABRECK\,TOAB 46  £110.00 239.1 TEXDAWN COTTAGE\,HOLM 49  £117.00 238.8 BL TEXBIGGINGS\,RENDALL 47  £112.00 238.3 TEXBIGGINGS\,RENDALL 45  £105.50 234.4 TEXVESTRAFIOLD\,SANDWICK 45  £105.00 233.3 TEXVESTRAFIOLD\,SANDWICK 46  £105.50 229.3 TEXVESTRAFIOLD\,SANDWICK 45  £103.00 228.9 TEXSTONELEA\,STENNESS 46  £107.00 232.6 BELTEXSTONELEA\,STENNESS 49  £112.50 229.6 TEXSTONELEA\,STENNESS 46  £104.50 227.2 TEXNEARHOUSE\,TANKERNESS 50  £116.00 232 TEXNEARHOUSE\,TANKERNESS 50  £115.00 230 TEXLOWER BU\,HOLM 50  £113.50 227 TEXST CLAIR\,HOLM 50  £113.50 227 TEXST CLAIR\,HOLM 49  £110.00 224.5 TEXTHE KNOWE\,SANDAY 49  £110.00 224.5 TEXTHE KNOWE\,SANDAY 49  £110.00 224.5 SUFARWICK\,EVIE 50  £111.50 223 TEXLENAHOWE\,SANDWICK 50  £111.50 223 CHARNESS\,SHAPINSAY 46  £102.50 222.8 TEXYARPHA\,ORPHIR 43  £95.50 222.1 TEXYARPHA\,ORPHIR 44  £97.00 220.5 TEXSTANDPRETTY\,EVIE 46  £102.00 221.7 TEXSTANDPRETTY\,EVIE 46  £100.00 217.4 SUFQUEENAMUCKLE\,RENDALL 43  £94.50 219.8 CHARQUEENAMUCKLE\,RENDALL 45  £97.50 216.7 SUFQUEENAMUCKLE\,RENDALL 44  £94.50 214.8 SUFGRIND\,STRONSAY 46  £101.00 219.6 TEXNISTIGAR\,WESTRAY 45  £97.00 215.6 TEXNISTIGAR\,WESTRAY 45  £96.50 214.4 TEX Top price per head was  £117.50 for a cross bred Ram Lamb scaling 62 kilos from T Linklater\, Stonelea\, Stenness. OTHER LAMBS PER HEAD DAWN COTTAGE\,HOLM 47  £117.50 BL TEX DAWN COTTAGE\,HOLM 49  £117.00 BL TEX NEARHOUSE\,TANKERNESS 50  £116.00 TEX NEARHOUSE\,TANKERNESS 50  £115.00 TEX NEARHOUSE\,TANKERNESS 52  £115.00 CHEV BIGGINGS\,RENDALL 53  £114.50 TEX BIGGINGS\,RENDALL 47  £112.00 TEX THE KNOWE\,SANDAY 52  £114.00 SUF LOWER BU\,HOLM 50  £113.50 TEX ST CLAIR\,HOLM 50  £113.50 TEX STONELEA\,STENNESS 49  £112.50 TEX LENAHOWE\,SANDWICK 50  £111.50 CHAR LENAHOWE\,SANDWICK 50  £111.50 TEX ARWICK\,EVIE 50  £111.50 TEX PURTABRECK\,TOAB 46  £110.00 TEX VESTRAFIOLD\,SANDWICK 49  £109.00 TEX NESS\,SHAPINSAY 46  £102.50 TEX STANDPRETTY\,EVIE 46  £102.00 TEX STANDPRETTY\,EVIE 46  £100.00 SUF GRIND\,STRONSAY 46  £101.00 TEX QUEENAMUCKLE\,RENDALL 45  £97.50 SUF QUEENAMUCKLE\,RENDALL 46  £97.00 SUF YARPHA\,ORPHIR 44  £97.00 TEX NISTIGAR\,WESTRAY 45  £97.00 TEX Store Lambs sold to  £83 for a Cheviot from T Moar\, Slewick\, Hoy. Cast Sheep topped at  £178 for a pair of Texels from G Thomson\, Howe\, South Ronaldsay. OTHER CAST SHEEP UPPER SCAPA\,ST OLA  £159.00 TEX UPPER SCAPA\,ST OLA  £155.00 TEX UPPER SCAPA\,ST OLA  £126.00 TEX HOWE\,SOUTH RONALDSAY  £147.00 TEX HOWE\,SOUTH RONALDSAY  £125.00 TEX APPIETEEN\,SANDWICK  £138.00 TEX APPIETEEN\,SANDWICK  £129.00 TEX APPIETEEN\,SANDWICK  £123.00 TEX STONELEA\,STENNESS  £136.00 CHAR STONELEA\,STENNESS  £121.00 TEX NORTH GUITH\,EDAY  £132.00 CHEV BIGGINGS\,STENNESS  £125.00 BLACK HURTISO\,HOLM  £121.00 CHEV TWATT FARM\,BIRSAY  £119.00 LLEYN TWATT FARM\,BIRSAY  £118.00 LLEYN SELWICK\,HOY  £115.00 SUF GRIND\,STRONSAY  £114.00 SUF NISTIGAR\,WESTRAY  £111.00 TEX ARWICK\,EVIE  £109.00 LLEYN BALFOUR ESTATES\,SHAPINSAY  £96.00 TEX BALFOUR ESTATES\,SHAPINSAY  £96.00 MULE APPIETOWN\,RENDALL  £95.00 TEX SUNNYBANK\,ST MARGARET’S HOPE  £89.00 TEX NORTHBIGGING\,DOUNBY  £86.00 LLEYN
URL:https://orkneymart.com/event/sheep-sale-30/
CATEGORIES:Sales Report
END:VEVENT
BEGIN:VEVENT
DTSTART;TZID=Europe/London:20220920T000000
DTEND;TZID=Europe/London:20220920T000000
DTSTAMP:20260423T104346
CREATED:20231020T092609Z
LAST-MODIFIED:20231027T105502Z
UID:10000695-1663632000-1663632000@orkneymart.com
SUMMARY:Sheep Sale
DESCRIPTION:Forward on Tuesday were 523 Prime Lambs\, 363 Store Lambs & 188 Cast Sheep. Prime Lambs averaged 221.9 p/kg (+1.9p) SQQ Lambs averaged 221.6 p/kg (+4.7p) Lambs per head averaged + £3.81 Prime Lambs topped at 246.8 p/kg for a pair of Texels scaling 47 kilos from T B Stout\, Mizpha\, St Ola realising  £116. OTHER LAMBS PER KILO CRUDY\,SANDAY 50  £121.50 243 TEXKIERFIOLD\,SANDWICK 46  £110.00 239.1 BELTEXKIERFIOLD\,SANDWICK 45  £103.00 228.9 TEXKIERFIOLD\,SANDWICK 48  £109.50 228.1 TEXLITTLE CROFTY\,TANKERNESS 48  £114.50 238.5 BELTEXLITTLE CROFTY\,TANKERNESS 48.5  £115.00 237.1 BELTEXSMIDDY\,STRONSAY 48  £113.00 235.4 BELTEXROSEBANK\,TWATT 48  £111.50 232.3 TEXSOUTH BRECK\,FIRTH 50  £116.00 232 CHARSOUTH BRECK\,FIRTH 48  £109.00 227.1 TEXMIZPAH\,ST OLA 50  £116.00 232 TEXLINKSNESS\,STRONSAY 52  £120.00 230.8 TEXLINKSNESS\,STRONSAY 49  £113.00 230.6 TEXLINKSNESS\,STRONSAY 48  £109.50 228.1 TEXODINESS\,STRONSAY 46.5  £106.50 229 TEXODINESS\,STRONSAY 45  £101.50 225.6 TEXODINESS\,STRONSAY 46  £103.50 225 TEXUPPERFIELD\,ST OLA 48  £109.50 228.1 TEXUPPERFIELD\,ST OLA 48  £108.50 226 TEXUPPERFIELD\,ST OLA 49  £110.00 224.5 TEXSERRIGAR\,SOUTH RONALDSAY 48.5  £110.50 227.8 TEXSERRIGAR\,SOUTH RONALDSAY 51  £114.00 223.5 TEXWILLOWVALE\,STROMNESS 47  £107.00 227.7 SPEKWILLOWVALE\,STROMNESS 46  £104.00 226.1 TEXSMOOGARTH\,FIRTH 46  £104.50 227.2 TEXSMOOGARTH\,FIRTH 48  £107.00 222.9 SUFLOWER CORNQUOY\,HOLM 48  £109.00 227.1 TEXHEIMA\,DOUNBY  45  £102.00 226.7 BELTEXHEIMA\,DOUNBY  40  £90.00 225 BELTEXLITTLE HOWES\,HOLM 40  £90.50 226.3 BELTEXLITTLE HOWES\,HOLM 42.5  £94.50 222.4 TEXYARPHA\,ORPHIR 46  £104.00 226.1 CHARYARPHA\,ORPHIR 48  £108.50 226 TEXYARPHA\,ORPHIR 46  £103.50 225 SUFHOWE\,HARRAY 44  £99.50 226.1 TEXHOWE\,HARRAY 46  £103.00 223.9 TEXHOWEQUOY\,HOLM 47  £106.00 225.5 TEXEAST HOWE\,BIRSAY 49  £110.00 224.5 OTHEREAST HOWE\,BIRSAY 48  £107.50 224 TEXEAST HOWE\,BIRSAY 48  £107.00 222.9 OTHERMAESQUOY\,HARRAY 49  £109.00 222.4 TEXBIGGINGS\,STENNESS 45  £101.00 224.4 TEXBIGGINGS\,STENNESS 46.5  £103.50 222.6 TEXCLOKE\,DOUNBY 45  £100.00 222.2 SUFCLOKE\,DOUNBY 45  £100.00 222.2 TEXSTANDPRETTY\,EVIE 45  £100.00 222.2 TEXSTANDPRETTY\,EVIE 48  £106.00 220.8 TEXNEWARK\,SANDAY 45.5  £101.00 222 CHARNEWARK\,SANDAY 44  £97.00 220.5 TEXCOTLAND\,ST OLA 47  £104.00 221.3 TEXCOTLAND\,ST OLA 47.5  £104.50 220 TEX Top price per head was  £122.50 for a pair of Texels scaling 54 kilos from T B Stout\, Mizpha\, St Ola. OTHER LAMBS PER HEAD SERRIGAR\,SOUTH RONALDSAY 55  £122.00 TEX SERRIGAR\,SOUTH RONALDSAY 54  £116.50 TEX SERRIGAR\,SOUTH RONALDSAY 54  £115.00 TEX CRUDY\,SANDAY 50  £121.50 TEX LINKSNESS\,STRONSAY 52  £120.00 TEX MIZPAH\,ST OLA 50  £116.00 TEX MIZPAH\,ST OLA 47  £116.00 TEX SOUTH BRECK\,FIRTH 50  £116.00 CHAR SOUTH BRECK\,FIRTH 51  £114.00 CHAR UPPERFIELD\,ST OLA 52  £115.00 TEX LITTLE CROFTY\,TANKERNESS 48.5  £115.00 BELTEX LITTLE CROFTY\,TANKERNESS 48  £114.50 BELTEX SMIDDY\,STRONSAY 48  £113.00 BELTEX KIERFIOLD\,SANDWICK 50  £112.00 TEX KIERFIOLD\,SANDWICK 46  £110.00 BELTEX ROSEBANK\,TWATT 48  £111.50 TEX ROSEBANK\,TWATT 49  £110.50 SUF MAESQUOY\,HARRAY 51  £110.50 TEX MAESQUOY\,HARRAY 49  £109.00 TEX EAST HOWE\,BIRSAY 51  £110.00 TEX EAST HOWE\,BIRSAY 49  £110.00 OTHER STANDPRETTY\,EVIE 50  £109.50 CHAR SMOOGARTH\,FIRTH 53  £109.50 SUF SMOOGARTH\,FIRTH 50  £109.50 SUF LOWER CORNQUOY\,HOLM 48  £109.00 TEX BIGGINGS\,STENNESS 50  £108.50 TEX BIGGINGS\,STENNESS 50  £108.00 SUF HOWEQUOY\,HOLM 50  £108.50 TEX YARPHA\,ORPHIR 48  £108.50 TEX YARPHA\,ORPHIR 49  £108.00 SPEK WILLOWVALE\,STROMNESS 47  £107.00 SPEK ODINESS\,STRONSAY 46.5  £106.50 TEX COTLAND\,ST OLA 47.5  £104.50 TEX COTLAND\,ST OLA 47  £104.00 TEX NEWARK\,SANDAY 45.5  £101.00 CHAR HOWE\,HARRAY 46  £103.00 TEX HEIMA\,DOUNBY  45  £102.00 BELTEX CLOKE\,DOUNBY 45  £100.00 SUF Store Lambs averaged  £72.84 and topped at  £88 for a Cheviot from N Fergus\, Seatter\, Deerness. OTHER STORE LAMBS STANDPRETTY\,EVIE  £87.50 TEX SEATTER\,DEERNESS  £84.50 BLACK APPIETOWN\,RENDALL  £83.50 TEX HEIMA\,DOUNBY   £82.50 BELTEX WESTSHORE\,RENDALL  £82.50 TEX WESTSHORE\,RENDALL  £82.00 TEX SEATTER\,DEERNESS  £81.00 WHITE BOGIE HOUSES\,EVIE  £80.00 WHITE NEWARK\,SANDAY  £79.50 TEX Cast Sheep sold to  £130 for a Suffolk Ewe from M & A Sinclair\, Rosebank\, Twatt. OTHER CAST SHEEP SOUTH BRECK\,FIRTH  £122.00 TEX LOWER CORNQUOY\,HOLM  £120.00 TEX LOWER CORNQUOY\,HOLM  £116.00 TEX LOWER CORNQUOY\,HOLM  £110.00 TEX ODINESS\,STRONSAY  £120.00 TEX ODINESS\,STRONSAY  £113.00 TEX ROSEBANK\,TWATT  £119.00 TEX ROSEBANK\,TWATT  £115.00 TEX ROSEBANK\,TWATT  £114.00 TEX LINKSNESS\,STRONSAY  £118.00 TEX LINKSNESS\,STRONSAY  £111.00 TEX COTT\,RENDALL  £116.00 SUF COTT\,RENDALL  £116.00 TEX HOWE\,HARRAY  £116.00 CHAR HOWE\,HARRAY  £111.00 CHAR WILLOWVALE\,STROMNESS  £115.00 TEX WILLOWVALE\,STROMNESS  £112.00 TEX GREENTOFT\,EDAY  £111.00 CHEV GARTH\,SOUTH RONALDSAY  £111.00 CHEV GARTH\,SOUTH RONALDSAY  £103.00 CHEV GARTH\,SOUTH RONALDSAY  £101.00 CHEV UPPERFIELD\,ST OLA  £99.00 TEX SMIDDY\,STRONSAY  £99.00 TEX MAESQUOY\,HARRAY  £99.00 TEX MAESQUOY\,HARRAY  £98.00 CHAR MAESQUOY\,HARRAY  £95.00 CHEV DALE\,EDAY  £91.00 TEX DALE\,EDAY  £86.00 TEX SMOOGARTH\,FIRTH  £91.00 TEX SMOOGARTH\,FIRTH  £86.00 TEX HEATHFIELD\,ST OLA  £89.00 TEX SEATTER\,DEERNESS  £86.00 WHITE SEATTER\,DEERNESS  £85.00 ZWAR CRUDY\,SANDAY  £85.00 TEX CRUDY\,SANDAY  £84.00 RYE HOTTIT\,SOUTH RONALDSAY  £80.00 TEX HOTTIT\,SOUTH RONALDSAY  £80.00 CHEV BENLAW\,EVIE  £79.00 CHAR LITTLE HOWES\,HOLM  £71.00 BELTEX FAULDS\,BURRAY  £65.00 ZWAR
URL:https://orkneymart.com/event/sheep-sale-29/
CATEGORIES:Sales Report
END:VEVENT
BEGIN:VEVENT
DTSTART;TZID=Europe/London:20220927T000000
DTEND;TZID=Europe/London:20220927T000000
DTSTAMP:20260423T104346
CREATED:20231020T092609Z
LAST-MODIFIED:20231027T105502Z
UID:10000693-1664236800-1664236800@orkneymart.com
SUMMARY:Sheep Sale
DESCRIPTION:Forward on Tuesday were 453 Prime Lambs\, 566 Store Lambs & 169 Cast Sheep. Prime Lambs averaged 212.5 p/kg (-9.4p) SQQ Lambs averaged 213.9 p/kg (-7.7p) Lambs per head averaged  £100.39 (- £5.10) Prime Lambs topped at 233.3 p/kg for a pen of 3 Beltex scaling 45 kilos from P & E M Dennison\, Odiness\, Stronsay realising  £105. OTHER LAMBS PER KILO CHARLESTON\,PAPA WESTRAY 47  £104.50 222.3 TEXCHARLESTON\,PAPA WESTRAY 46  £100.50 218.5 CHARNEARHOUSE\,TANKERNESS 49  £108.50 221.4 CHARNEARHOUSE\,TANKERNESS 48  £106.00 220.8 TEXHOWAN\,DOUNBY 45  £98.00 217.8 TEXHOWAN\,DOUNBY 45  £97.50 216.7 TEXHOLLAND\,FIRTH 49  £106.00 216.3 TEXHOLLAND\,FIRTH 49  £106.00 216.3 CHARSKAILL\,WESTRAY 46  £99.50 216.3 TEXSKAILL\,WESTRAY 47  £101.50 216 TEXSKAILL\,WESTRAY 46  £98.50 214.1 TEXNETHER OUSENESS\,WESTRAY 43  £93.00 216.3 TEXNETHER OUSENESS\,WESTRAY 47  £100.50 213.8 TEXODINESS\,STRONSAY 48  £103.50 215.6 CHARODINESS\,STRONSAY 47  £100.50 213.8 TEXODINESS\,STRONSAY 48.5  £103.50 213.4 TEXHOLLAND\,PAPA WESTRAY 48.5  £104.50 215.5 SUFHOLLAND\,PAPA WESTRAY 49  £104.00 212.2 TEXNETHERHILL\,TANKERNESS 42.5  £91.50 215.3 SUFNETHERHILL\,TANKERNESS 46  £99.00 215.2 TEXNETHERHILL\,TANKERNESS 47  £100.50 213.8 TEXKNOCKHALL\,SOUTH RONALDSAY 43  £92.50 215.1 SUFKNOCKHALL\,SOUTH RONALDSAY 46  £98.50 214.1 SUFBRECK\,EDAY 50  £107.50 215 TEXBRECK\,EDAY 49  £105.00 214.3 BLACKBRETTOVALE\,DOUNBY 45.5  £97.50 214.3 BELTEXBRETTOVALE\,DOUNBY 44  £94.00 213.6 TEXBRETTOVALE\,DOUNBY 49  £104.50 213.3 BLACKLOWER ELLIBISTER\,RENDALL 46  £98.50 214.1 TEXLOWER ELLIBISTER\,RENDALL 44.5  £95.00 213.5 TEXLOWER ELLIBISTER\,RENDALL 49  £104.50 213.3 TEXWHITEHALL\,STRONSAY 49  £104.50 213.3 TEXWHITEHALL\,STRONSAY 49  £104.00 212.2 TEXHURTISO\,HOLM 45  £96.00 213.3 CHEVHURTISO\,HOLM 48  £101.00 210.4 SUFQUOYKEA\,TOAB 50  £106.50 213 TEXBRECK\,ORPHIR 51  £108.50 212.7 TEXGAIRBOLLS\,PAPA WESTRAY 47  £99.50 211.7 CHARGAIRBOLLS\,PAPA WESTRAY 50  £105.50 211 CHARMILLBURN\,HARRAY 44  £93.00 211.4 TEXEASTSIDE\,TWATT 49  £103.00 210.2 TEXEASTSIDE\,TWATT 48  £100.50 209.4 TEXOAKLEA\,ST OLA 50  £105.00 210 TEXOAKLEA\,ST OLA 48  £100.00 208.3 TEX Top price per head was  £108.50 for 3 Texels scaling 49 kilos from J M Lennie\, Nearhouse\, Tankerness and a Texel scaling 51 kilos from D & S Marwick\, Breck\, Orphir. OTHER LAMBS PER HEAD BRECK\,EDAY 50  £107.50 TEX BRECK\,EDAY 53  £107.00 BLACK QUOYKEA\,TOAB 50  £106.50 TEX QUOYKEA\,TOAB 52  £106.50 TEX HOLLAND\,FIRTH 49  £106.00 TEX HOLLAND\,FIRTH 49  £106.00 CHAR GAIRBOLLS\,PAPA WESTRAY 52  £106.00 CHAR GAIRBOLLS\,PAPA WESTRAY 50  £105.50 CHAR NEARHOUSE\,TANKERNESS 48  £106.00 TEX NEARHOUSE\,TANKERNESS 50  £105.50 TEX NEARHOUSE\,TANKERNESS 51  £105.50 TEX HOWAN\,DOUNBY 51  £105.50 SUF WHITEHALL\,STRONSAY 51  £105.50 TEX WHITEHALL\,STRONSAY 49  £104.50 TEX HEATHERLEA\,TOAB 53  £105.00 DUTCH SP OAKLEA\,ST OLA 50  £105.00 TEX ODINESS\,STRONSAY 45  £105.00 BELTEX ODINESS\,STRONSAY 49  £104.00 TEX CHARLESTON\,PAPA WESTRAY 47  £104.50 TEX CHARLESTON\,PAPA WESTRAY 50  £104.50 B HOLLAND\,PAPA WESTRAY 50  £104.50 SUF HOLLAND\,PAPA WESTRAY 48.5  £104.50 SUF BRETTOVALE\,DOUNBY 49  £104.50 BLACK LOWER ELLIBISTER\,RENDALL 49  £104.50 TEX LOWER ELLIBISTER\,RENDALL 50  £103.50 TEX NETHERHILL\,TANKERNESS 49  £103.50 TEX NETHERHILL\,TANKERNESS 49  £103.00 SUF EASTSIDE\,TWATT 49  £103.00 TEX HURTISO\,HOLM 50  £103.00 SUF HURTISO\,HOLM 50  £102.50 CHEV SKAILL\,WESTRAY 47  £101.50 TEX SKAILL\,WESTRAY 47  £100.50 TEX NETHER OUSENESS\,WESTRAY 47  £100.50 TEX KNOCKHALL\,SOUTH RONALDSAY 46  £98.50 SUF Store Lambs averaged  £83.71 (+ £10.87) and topped at  £90 for 107 Suffolks from Breck Farms\, Rendall. OTHER STORE LAMBS QUEENAMUCKLE\,RENDALL  £89.00 SUF QUEENAMUCKLE\,RENDALL  £87.00 SUF QUEENAMUCKLE\,RENDALL  £85.00 SUF QUEENAMUCKLE\,RENDALL  £84.00 SUF OAKLEA\,ST OLA  £87.00 MULE HURTISO\,HOLM  £84.50 SUF HURTISO\,HOLM  £80.00 CHEV HELZIEGATHA\,WYRE  £83.00 CHEV WEST NEARHOUSE\,BIRSAY  £82.50 TEX MILLBURN\,HARRAY  £82.50 TEX MILLBURN\,HARRAY  £82.00 TEX MILLBURN\,HARRAY  £80.00 TEX LOCHVIEW\,DOUNBY  £79.00 MULE Cast Sheep topped at  £120 for a Texel Ewe from Johnston\, Brettovale\, Dounby. OTHER CAST SHEEP BRETTOVALE\,DOUNBY  £119.00 TEX BRETTOVALE\,DOUNBY  £105.00 TEX LITTLE CROFTY\,TANKERNESS  £117.00 B LITTLE CROFTY\,TANKERNESS  £115.00 TEX HOWAN\,DOUNBY  £117.00 TEX HOWAN\,DOUNBY  £111.00 TEX EASTSIDE\,TWATT  £115.00 TEX SUMMERFIELD\,ST OLA  £106.00 TEX SEATTERSQUOY\,STENNESS  £106.00 TEX GAIRBOLLS\,PAPA WESTRAY  £100.00 CHAR GAIRBOLLS\,PAPA WESTRAY  £99.00 CHAR HOLLAND\,FIRTH  £99.00 TEX HOLLAND\,FIRTH  £97.00 TEX LOWER BU\,HOLM  £95.00 SPEK LOWER ELLIBISTER\,RENDALL  £92.00 CHEV LOWER ELLIBISTER\,RENDALL  £92.00 TEX CHARLESTON\,PAPA WESTRAY  £87.00 TEX CHARLESTON\,PAPA WESTRAY  £86.00 TEX GORN\,WESTRAY  £84.00 BLACK GRITLEY\,DEERNESS  £84.00 TEX HELZIEGATHA\,WYRE  £80.00 SUF HELZIEGATHA\,WYRE  £80.00 OTHER BRECK\,ORPHIR  £80.00 TEX PURTABRECK\,TOAB  £79.00 TEX BEAQUOY\,DOUNBY  £78.00 LLEYN HEATHERLEA\,TOAB  £75.00 MULE
URL:https://orkneymart.com/event/sheep-sale-28/
CATEGORIES:Sales Report
END:VEVENT
END:VCALENDAR