BEGIN:VCALENDAR
VERSION:2.0
PRODID:-//Orkney Auction Mart - ECPv6.15.17.1//NONSGML v1.0//EN
CALSCALE:GREGORIAN
METHOD:PUBLISH
X-ORIGINAL-URL:https://orkneymart.com
X-WR-CALDESC:Events for Orkney Auction Mart
REFRESH-INTERVAL;VALUE=DURATION:PT1H
X-Robots-Tag:noindex
X-PUBLISHED-TTL:PT1H
BEGIN:VTIMEZONE
TZID:Europe/London
BEGIN:DAYLIGHT
TZOFFSETFROM:+0000
TZOFFSETTO:+0100
TZNAME:BST
DTSTART:20210328T010000
END:DAYLIGHT
BEGIN:STANDARD
TZOFFSETFROM:+0100
TZOFFSETTO:+0000
TZNAME:GMT
DTSTART:20211031T010000
END:STANDARD
BEGIN:DAYLIGHT
TZOFFSETFROM:+0000
TZOFFSETTO:+0100
TZNAME:BST
DTSTART:20220327T010000
END:DAYLIGHT
BEGIN:STANDARD
TZOFFSETFROM:+0100
TZOFFSETTO:+0000
TZNAME:GMT
DTSTART:20221030T010000
END:STANDARD
BEGIN:DAYLIGHT
TZOFFSETFROM:+0000
TZOFFSETTO:+0100
TZNAME:BST
DTSTART:20230326T010000
END:DAYLIGHT
BEGIN:STANDARD
TZOFFSETFROM:+0100
TZOFFSETTO:+0000
TZNAME:GMT
DTSTART:20231029T010000
END:STANDARD
END:VTIMEZONE
BEGIN:VEVENT
DTSTART;TZID=Europe/London:20220808T000000
DTEND;TZID=Europe/London:20220808T000000
DTSTAMP:20260423T115216
CREATED:20231020T092639Z
LAST-MODIFIED:20231027T105610Z
UID:10000704-1659916800-1659916800@orkneymart.com
SUMMARY:Cattle & Sheep Sales
DESCRIPTION:Forward for sale on Monday were 8 Prime\, 7 Breeding & 17 OTM Cattle. Prime Steers sold to 271 p/kg for a Charolais scaling 610 kilos from J & R Stanger\, South Seatter\, Sandwick realising  £1653 purchased by Donaldsons. OTHER PRIME STEERS HOWE\,HARRAY 580  £1\,479.00 255 CHARSTAYE\,DEERNESS 595  £1\,517.25 255 LIM Prime Heifers sold to 267 p/kg for a Charolais scaling 540 kilos from J & R Stanger\, South Seatter\, Sandwick realising  £1437 purchased by Rendalls. OTHER PRIME HEIFERS STEMBISTER\,TOAB 555  £1\,437.45 259 LIMSTEMBISTER\,TOAB 570  £1\,470.60 258 LIMHOWE\,HARRAY 565  £1\,389.90 246 CHAR In Calf Heifers averaged  £1624 and sold to  £1720 for a Shorthorn scanned in Calf to the Saler Bull from J R Burges\, Lower House\, Hillwell\, Shetland. OTM Cattle sold to 233.6 p/kg for a Simmental scaling 595 kilos from Biggings Farm\, Stenness realising  £1390. OTHER OTM COWS PER KILO CROWTAING\,LONGHOPE 685  £1\,280.00 186.9 SIMCROWTAING\,LONGHOPE 805  £1\,480.00 183.9 AACROWTAING\,LONGHOPE 635  £1\,155.00 181.9 BBBIGGINGS\,STENNESS 715  £1\,310.00 183.2 AABIGGINGS\,STENNESS 770  £1\,350.00 175.3 SHBIGGINGS\,STENNESS 595  £1\,040.00 174.8 LIMBIGGINGS\,STENNESS 680  £1\,160.00 170.6 SIMHANOVER\,SANDAY 720  £1\,250.00 173.6 AAHANOVER\,SANDAY 600  £900.00 150 AA Following the Cattle were 79 Prime Lambs & 77 Cast Sheep. Prime Lambs averaged 236.3 p/kg SQQ Lambs averaged 225.5 p/kg Lambs per head averaged  £112.38 Prime Lambs sold to 267.3 p/kg for a Texel scaling 49 kilos from J & M Cursiter\, Charleston\, Papay realising  £131 purchased by E Flett. OTHER LAMBS PER KILO ODINSTONE\,SHAPINSAY 48  £126.00 262.5 TEXODINSTONE\,SHAPINSAY 49  £128.00 261 TEXODINSTONE\,SHAPINSAY 47  £121.00 257.4 TEXCHARLESTON\,PAPA WESTRAY 48  £121.00 252.1 TEXREDLAND\,STROMNESS 46  £115.00 250 TEXREDLAND\,STROMNESS 49  £119.50 243.9 TEXLOWER CORNQUOY\,HOLM 47  £117.00 248.9 TEXLOWER CORNQUOY\,HOLM 48.5  £113.00 233 CHARLENAHOWE\,SANDWICK 48  £119.00 247.9 BELTEXLENAHOWE\,SANDWICK 44  £104.50 237.5 TEXQUANTERNESS\,ST OLA 50  £123.00 246 TEXQUANTERNESS\,ST OLA 52  £124.00 238.5 TEXUPPER SCAPA\,ST OLA 49  £120.50 245.9 TEXUPPER SCAPA\,ST OLA 50  £121.50 243 TEXHOWEQUOY\,HOLM 50  £122.50 245 TEXHOWEQUOY\,HOLM 48  £114.50 238.5 TEXOUTER URIGAIR\,EVIE 45  £108.50 241.1 TEXOUTER URIGAIR\,EVIE 52  £122.00 234.6 TEXWESTFIELD\,STROMNESS 56  £121.50 217 SUFNEWHALL\,STROMNESS 48.5  £104.00 214.4 TEX Top price per head was  £136 for a Texel scaling 60 kilos from S J Cursiter\, Charleston\, Papay. OTHER LAMBS PER HEAD CHARLESTON\,PAPA WESTRAY 49  £131.00 TEX ODINSTONE\,SHAPINSAY 49  £128.00 TEX ODINSTONE\,SHAPINSAY 48  £126.00 TEX QUANTERNESS\,ST OLA 52  £124.00 TEX QUANTERNESS\,ST OLA 50  £123.00 TEX HOWEQUOY\,HOLM 50  £122.50 TEX OUTER URIGAIR\,EVIE 52  £122.00 TEX WESTFIELD\,STROMNESS 56  £121.50 SUF UPPER SCAPA\,ST OLA 50  £121.50 TEX UPPER SCAPA\,ST OLA 49  £120.50 TEX REDLAND\,STROMNESS 49  £119.50 TEX LENAHOWE\,SANDWICK 48  £119.00 BELTEX LOWER CORNQUOY\,HOLM 47  £117.00 TEX NEWHALL\,STROMNESS 48.5  £104.00 TEX Cast Sheep sold to  £162 for a Texel from Leslie\, Odinstone\, Shapinsay. OTHER CAST SHEEP CLOKE\,DOUNBY  £144.00 TEX CLOKE\,DOUNBY  £130.00 TEX ODINSTONE\,SHAPINSAY  £142.00 TEX ODINSTONE\,SHAPINSAY  £140.00 BLACK ODINSTONE\,SHAPINSAY  £136.00 BLACK LENAHOWE\,SANDWICK  £139.00 TEX LENAHOWE\,SANDWICK  £130.00 OTHER CHARLESTON\,PAPA WESTRAY  £135.00 CHEV CLOKE\,DOUNBY  £128.00 TEX PURTABRECK\,TOAB  £120.00 SUF CRUMBRECKS\,ORPHIR  £117.00 TEX WESTNESS\,ROUSAY  £96.00 WHITE QUANTERNESS\,ST OLA  £90.00 CHEV
URL:https://orkneymart.com/event/cattle-sheep-sales-23/
CATEGORIES:Sales Report
END:VEVENT
BEGIN:VEVENT
DTSTART;TZID=Europe/London:20220822T000000
DTEND;TZID=Europe/London:20220822T000000
DTSTAMP:20260423T115216
CREATED:20231020T092624Z
LAST-MODIFIED:20231027T105610Z
UID:10000702-1661126400-1661126400@orkneymart.com
SUMMARY:Cattle & Sheep Sales
DESCRIPTION:Forward for sale on Monday were 7 Prime Cattle & 30 OTM Cattle. Prime Heifers sold to 263 p/kg for a Charolais scaling 570 kilos from J & R Stanger\, South Seatter\, Sandwick realising  £1499 purchased by E Flett. Prime Steers sold to 261 p/kg for a Limousin scaling 550 kilos from J & R Stanger\, South Seatter\, Sandwick realising  £1435 purchased by Donaldsons. OTM Cows averaged 163.1 p/kg (+5.3p) and sold to 195 p/kg for a Limousin scaling 800 kilos from Biggings Farm\, Stenness realising  £1560. OTHER OTM PER KILO MIDHOUSE\,HARRAY 705  £1\,295.00 183.7 AA MIDHOUSE\,HARRAY 700  £1\,270.00 181.4 OTH NEWHALL\,STROMNESS 680  £1\,240.00 182.4 LIM NEWHALL\,STROMNESS 670  £1\,190.00 177.6 LIM NEWHALL\,STROMNESS 670  £1\,150.00 171.6 SIM GREENIGOE\,ORPHIR 880  £1\,590.00 180.7 SIM BIGGINGS\,STENNESS 855  £1\,490.00 174.3 LIM BIGGINGS\,STENNESS 625  £1\,060.00 169.6 LIM BIGGINGS\,STENNESS 720  £1\,220.00 169.4 BB LOWER BRECKQUOY\,HOLM 690  £1\,180.00 171 LIM THE KNOWE\,SANDAY 730  £1\,190.00 163 AA SANDSIDE\,GRAEMSAY 570  £860.00 150.9 SH SANDSIDE\,GRAEMSAY 675  £1\,000.00 148.1 LIM Top price per head was  £1590 for a Charolais scaling 880 kilos from W & M Wylie\, Greenigeo\, Orphir. OTHER COWS PER HEAD BIGGINGS\,STENNESS 800  £1\,560.00 LIM BIGGINGS\,STENNESS 855  £1\,490.00 LIM MIDHOUSE\,HARRAY 705  £1\,295.00 AA MIDHOUSE\,HARRAY 700  £1\,270.00 OTH NEWHALL\,STROMNESS 680  £1\,240.00 LIM NEWHALL\,STROMNESS 670  £1\,190.00 LIM THE KNOWE\,SANDAY 730  £1\,190.00 AA LOWER BRECKQUOY\,HOLM 690  £1\,180.00 LIM OTM Bulls sold to  £2140 for a Charolais scaling 1310 kilos from W & M Wylie\, Greenigeo\, Orphir. OTHER OTM BULLS THE KNOWE\,SANDAY 1245  £1\,940.00 AA APPIETEEN\,SANDWICK 1105  £1\,860.00 CHAR BACKALAND\,EDAY 1120  £1\,790.00 AA LOWER BRECKQUOY\,HOLM 1070  £1\,350.00 OTH GARBO\,SANDAY 930  £1\,290.00 AA Following the Cattle were 132 Prime\, 34 Store\, & 118 Cast Sheep. Prime Lambs averaged 225.4 p/kg (-10.9p) SQQ Lambs averaged 228.6 p/kg (+3.1p) Lambs per head averaged  £107.80 (- £4.58) Prime Lambs sold to 267.7 p/kg for a pair of Beltex scaling 48 kilos from J & E Linklater\, Little Crofty\, Tankerness realising  £128.50. OTHER LAMBS PER KILO LITTLE CROFTY\,TANKERNESS 49.5  £129.50 261.6 BELTEX LITTLE CROFTY\,TANKERNESS 49  £126.00 257.1 BELTEX NORDHEIM\,KIRKWALL 50  £125.00 250 OTHER BRETTOVALE\,DOUNBY 50  £125.00 250 TEX BRETTOVALE\,DOUNBY 48  £117.50 244.8 TEX BRETTOVALE\,DOUNBY 55  £131.50 239.1 TEX NORTH MOA\,RENDALL 45  £108.00 240 CHAR HOWE\,STROMNESS 44  £104.00 236.4 WHITE HOWE\,STROMNESS 49  £109.50 223.5 WHITE NETHER OUSENESS\,WESTRAY 46  £108.50 235.9 TEX NETHER OUSENESS\,WESTRAY 45  £103.00 228.9 TEX NETHER OUSENESS\,WESTRAY 48  £109.50 228.1 TEX NETHERHILL\,TANKERNESS 44  £102.50 233 TEX HOWEQUOY\,HOLM 45  £103.50 230 TEX HOWEQUOY\,HOLM 43  £98.00 227.9 TEX KNOCKHALL\,SOUTH RONALDSAY 48  £108.00 225 SUF KNOCKHALL\,SOUTH RONALDSAY 46  £103.00 223.9 SUF QUEENAMUCKLE\,RENDALL 45  £100.00 222.2 SUF QUEENAMUCKLE\,RENDALL 50  £111.00 222 SUF QUEENAMUCKLE\,RENDALL 50  £110.50 221 SUF ARWICK\,EVIE 42  £93.00 221.4 CHEV GARTH\,ST OLA 47  £103.00 219.1 OTHER WITHAQUOY\,HOLM 50  £109.00 218 TEX WITHAQUOY\,HOLM 53  £115.00 217 TEX SOUTH WALD\,FIRTH 47  £101.00 214.9 TEX WESTFIELD\,STROMNESS 53  £112.50 212.3 SUF Top price per head was  £131.50 for a pair of Texels scaling 55 kilos from J H & H Johnston\, Brettovale\, Dounby. OTHER LAMBS PER HEAD LITTLE CROFTY\,TANKERNESS 49.5  £129.50 BELTEX LITTLE CROFTY\,TANKERNESS 48  £128.50 BELTEX LITTLE CROFTY\,TANKERNESS 49  £126.00 BELTEX NORDHEIM\,KIRKWALL 50  £125.00 OTHER BRETTOVALE\,DOUNBY 50  £125.00 TEX BRETTOVALE\,DOUNBY 51  £119.50 TEX BRETTOVALE\,DOUNBY 48  £117.50 TEX WITHAQUOY\,HOLM 57  £120.00 BLACK WITHAQUOY\,HOLM 53  £115.00 TEX HOWE\,STROMNESS 54  £114.00 WHITE HOWE\,STROMNESS 52  £114.00 WHITE KNOCKHALL\,SOUTH RONALDSAY 52  £112.50 SUF WESTFIELD\,STROMNESS 53  £112.50 SUF QUEENAMUCKLE\,RENDALL 50  £111.00 SUF QUEENAMUCKLE\,RENDALL 50  £110.50 SUF QUEENAMUCKLE\,RENDALL 55  £110.00 SUF NETHER OUSENESS\,WESTRAY 48  £109.50 TEX NETHER OUSENESS\,WESTRAY 46  £108.50 TEX GARTH\,ST OLA 52  £109.00 OTHER NORTH MOA\,RENDALL 45  £108.00 CHAR HOWEQUOY\,HOLM 45  £103.50 TEX NETHERHILL\,TANKERNESS 44  £102.50 TEX SOUTH WALD\,FIRTH 47  £101.00 TEX Store Lambs sold to  £71 for a pen of 11 Lleyns from C Evans\, Sandybank\, Stronsay. Cast Sheep topped at  £148 for a Texel Ewe from G W & E T Wilson\, Howequoy\, Holm. OTHER CAST SHEEP HOWEQUOY\,HOLM  £145.00 TEX WESTFIELD\,STROMNESS  £141.00 SUF WITHAQUOY\,HOLM  £135.00 BLACK NORTH MOA\,RENDALL  £129.00 CHAR QUEENAMUCKLE\,RENDALL  £115.00 TEX QUEENAMUCKLE\,RENDALL  £109.00 TEX NEWARK\,SANDAY  £115.00 TEX NEWARK\,SANDAY  £110.00 TEX NEWARK\,SANDAY  £108.00 TEX CASTLE\,STROMNESS  £111.00 TEX GARTH\,ST OLA  £89.00 OTHER SOUTH WALD\,FIRTH  £87.00 WHITE SOUTH WALD\,FIRTH  £80.00 WHITE SANDYBANK\,STRONSAY  £86.00 TEX SANDYBANK\,STRONSAY  £82.00 TEX HURTISO\,HOLM  £83.00 CHEV HURTISO\,HOLM  £82.00 CHEV EASTAQUOY\,HARRAY  £78.00 CHEV EASTAQUOY\,HARRAY  £77.00 CHEV NETHER OUSENESS\,WESTRAY  £65.00 CHEV WITHAQUOY\,HOLM  £65.00 TEX FARRIVALD\,WESTRAY  £61.00 OTHER
URL:https://orkneymart.com/event/cattle-sheep-sales-22/
CATEGORIES:Sales Report
END:VEVENT
BEGIN:VEVENT
DTSTART;TZID=Europe/London:20220829T000000
DTEND;TZID=Europe/London:20220829T000000
DTSTAMP:20260423T115216
CREATED:20231020T092624Z
LAST-MODIFIED:20231027T105610Z
UID:10000701-1661731200-1661731200@orkneymart.com
SUMMARY:Cattle & Sheep Sales
DESCRIPTION:Forward for sale on Monday were 8 Prime Cattle\, 7 Store Cattle & 23 OTM Cattle. Prime Heifers sold to 269 p/kg for a Limousin scaling 620 kilos from Glen Orkney Farms\, St Ola realising  £1667 purchased by Donaldsons. OTHER PRIME HEIFERS SEBAYVIEW\,TANKERNESS 620  £1\,661.00 268 LIMSKELDAY\,DOUNBY 505  £1\,282.00 254 SAL Prime Steers sold to 239 p/kg for an Aberdeen Angus scaling 610 kilos from G S & E Montgomery\, Midland\, Rendall realising  £1457 purchased by E Flett. Store Steers sold to 231.2 p/kg for an Aberdeen Angus scaling 465 kilos from R J & J L Gaudie\, Netherskaill\, Birsay realising  £1075. OTM Cows averaged 167.7 p/kg and topped at 198.4 p/kg for a Simmental scaling 630 kilos from R K & E M Johnston\, Caperhouse\, Harray realising  £1250. OTHER COWS PER KILO BIGGINGS\,STENNESS 695  £1\,290.00 185.6 LIMBIGGINGS\,STENNESS 685  £1\,250.00 182.5 BBBIGGINGS\,STENNESS 655  £1\,170.00 178.6 BBMIDHOUSE\,EVIE 760  £1\,410.00 185.5 SIMMIDHOUSE\,EVIE 710  £1\,300.00 183.1 SHMIDHOUSE\,EVIE 695  £1\,250.00 179.9 SIMMIDHOUSE\,EVIE 670  £1\,150.00 171.6 OTHBEAFIELD\,SANDAY 795  £1\,380.00 173.6 LIMBEAFIELD\,SANDAY 790  £1\,350.00 170.9 SALBEAFIELD\,SANDAY 910  £1\,550.00 170.3 SHHUIP\,STRONSAY 695  £1\,200.00 172.7 SIMBRAEHEAD\,STROMNESS 750  £1\,075.00 143.3 SIM Top price per head was  £1550 for a Shorthorn scaling 910 kilos from D W & D M Thomson\, Beafield\, Sanday. OTM Bulls sold to 158.5 p/kg for a Limousin scaling 1035 kilos from R J Hume\, Fea\, Holm realising  £1640. OTHER OTM BULLS LANGSKAILL\,ROUSAY 1095  £1\,520.00 138.8 CHAR Following the Cattle were 239 Prime Lambs and 54 Cast Sheep. Prime Lambs averaged 215.9 p/kg (-9.5p) SQQ Lambs averaged 212.8 p/kg (-15.8p) Lambs per head averaged  £101.69 (- £6.11) Prime Lambs sold to 253 p/kg for a pair of Beltex scaling 50 kilos from J & E Linklater\, Little Crofty\, Tankerness realising the top price per head of  £126.50. OTHER LAMBS PER KILO LITTLE CROFTY\,TANKERNESS 48.5  £120.00 247.4 BELTEXLITTLE CROFTY\,TANKERNESS 48  £111.00 231.3 BELTEXCOLLIGARTH\,SANDAY 47  £109.50 233 TEXCOLLIGARTH\,SANDAY 47.5  £106.50 224.2 CHEVROWLAND\,HOLM 47.5  £109.00 229.5 TEXROWLAND\,HOLM 46  £105.00 228.3 TEXROWLAND\,HOLM 47  £106.50 226.6 TEXUPPER SCAPA\,ST OLA 49  £112.00 228.6 TEXUPPER SCAPA\,ST OLA 48  £108.50 226 TEXCOTLAND\,ST OLA 51  £115.00 225.5 TEXCOTLAND\,ST OLA 48  £104.50 217.7 TEXNORTHBIGGING\,DOUNBY 50.5  £113.50 224.8 TEXNORTHBIGGING\,DOUNBY 50  £109.50 219 TEXHOWE\,HARRAY 45.5  £102.00 224.2 TEXHOWE\,HARRAY 47.5  £102.50 215.8 TEXQUEENAMUCKLE\,RENDALL 51  £113.50 222.5 CHARQUEENAMUCKLE\,RENDALL 52  £115.50 222.1 SUFWITHAQUOY\,HOLM 51  £113.50 222.5 TEXWITHAQUOY\,HOLM 50  £110.00 220 TEXHEIMA\,DOUNBY  48  £106.50 221.9 CHARVINKWIN\,EVIE 50  £110.50 221 TEXVINKWIN\,EVIE 44  £95.00 215.9 TEXROSEMOUNT\,SANDWICK 44  £97.00 220.5 TEXROSEMOUNT\,SANDWICK 54  £115.00 213 TEXWESTSHORE\,RENDALL 43  £92.50 215.1 TEXWESTSHORE\,RENDALL 44  £93.50 212.5 TEXWESTSHORE\,RENDALL 41  £87.00 212.2 TEXHOBBISTER\,ORPHIR 49  £104.00 212.2 SUFNEARHOUSE\,TANKERNESS 56  £117.50 209.8 TEX OTHER LAMBS PER HEAD LITTLE CROFTY\,TANKERNESS 48.5  £120.00 BELTEX NEARHOUSE\,TANKERNESS 56  £117.50 TEX COLLIGARTH\,SANDAY 60  £117.00 TEX QUEENAMUCKLE\,RENDALL 60  £116.50 SUF QUEENAMUCKLE\,RENDALL 52  £115.50 SUF ROSEMOUNT\,SANDWICK 54  £115.00 TEX COTLAND\,ST OLA 51  £115.00 TEX NORTHBIGGING\,DOUNBY 50.5  £113.50 TEX WITHAQUOY\,HOLM 51  £113.50 TEX UPPER SCAPA\,ST OLA 49  £112.00 TEX VINKWIN\,EVIE 50  £110.50 TEX ROWLAND\,HOLM 47.5  £109.00 TEX HEIMA\,DOUNBY  48  £106.50 CHAR HOBBISTER\,ORPHIR 49  £104.00 SUF HOWE\,HARRAY 47.5  £102.50 TEX HOWE\,HARRAY 45.5  £102.00 TEX WESTSHORE\,RENDALL 44  £93.50 TEX Cast Sheep sold to  £169 for a Texel Ewe from Colligarth Farms\, Sanday. OTHER CAST SHEEP LITTLE CROFTY\,TANKERNESS  £165.00 TEX LITTLE CROFTY\,TANKERNESS  £145.00 TEX LITTLE CROFTY\,TANKERNESS  £138.00 TEX EASTHOUSE\,TOAB  £145.00 SUF COLLIGARTH\,SANDAY  £138.00 TEX VETQUOY\,TWATT  £135.00 TEX VETQUOY\,TWATT  £127.00 TEX COTLAND\,ST OLA  £129.00 TEX COTLAND\,ST OLA  £117.00 TEX WITHAQUOY\,HOLM  £120.00 TEX OUTER URIGAIR\,EVIE  £115.00 TEX UPPER SCAPA\,ST OLA  £114.00 TEX NORTHBIGGING\,DOUNBY  £95.00 LLEYN QUANTERNESS\,ST OLA  £94.00 LLEYN ELSNESS\,SANDAY  £90.00 CHAR ELSNESS\,SANDAY  £89.00 CHAR BRAEHEAD\,STROMNESS  £80.00 CHEV ROSEMOUNT\,SANDWICK  £79.00 TEX
URL:https://orkneymart.com/event/cattle-sheep-sales-21/
CATEGORIES:Sales Report
END:VEVENT
END:VCALENDAR