BEGIN:VCALENDAR
VERSION:2.0
PRODID:-//Orkney Auction Mart - ECPv6.15.17.1//NONSGML v1.0//EN
CALSCALE:GREGORIAN
METHOD:PUBLISH
X-WR-CALNAME:Orkney Auction Mart
X-ORIGINAL-URL:https://orkneymart.com
X-WR-CALDESC:Events for Orkney Auction Mart
REFRESH-INTERVAL;VALUE=DURATION:PT1H
X-Robots-Tag:noindex
X-PUBLISHED-TTL:PT1H
BEGIN:VTIMEZONE
TZID:Europe/London
BEGIN:DAYLIGHT
TZOFFSETFROM:+0000
TZOFFSETTO:+0100
TZNAME:BST
DTSTART:20210328T010000
END:DAYLIGHT
BEGIN:STANDARD
TZOFFSETFROM:+0100
TZOFFSETTO:+0000
TZNAME:GMT
DTSTART:20211031T010000
END:STANDARD
BEGIN:DAYLIGHT
TZOFFSETFROM:+0000
TZOFFSETTO:+0100
TZNAME:BST
DTSTART:20220327T010000
END:DAYLIGHT
BEGIN:STANDARD
TZOFFSETFROM:+0100
TZOFFSETTO:+0000
TZNAME:GMT
DTSTART:20221030T010000
END:STANDARD
BEGIN:DAYLIGHT
TZOFFSETFROM:+0000
TZOFFSETTO:+0100
TZNAME:BST
DTSTART:20230326T010000
END:DAYLIGHT
BEGIN:STANDARD
TZOFFSETFROM:+0100
TZOFFSETTO:+0000
TZNAME:GMT
DTSTART:20231029T010000
END:STANDARD
END:VTIMEZONE
BEGIN:VEVENT
DTSTART;TZID=Europe/London:20220502T000000
DTEND;TZID=Europe/London:20220502T000000
DTSTAMP:20260423T152930
CREATED:20231020T092724Z
LAST-MODIFIED:20231027T105610Z
UID:10000718-1651449600-1651449600@orkneymart.com
SUMMARY:Cattle & Sheep Sales
DESCRIPTION:Forward for sale on Monday were 4 Prime Cattle\, 1 Breeding Bull & 4 OTM Cattle. Prime Cattle sold to 258 p/kg for a Limousin Heifer Scaling 635 kilos from G Swannie\, Ramsquoy\, Stenness realising  £1638 purchased by Williamsons. OTHER PRIME HEIFERS RAMSQUOY\,STENNESS 545  £1\,384.00 254 LIMRAMSQUOY\,STENNESS 635  £1\,600.00 252 LIMRAMSQUOY\,STENNESS 610  £1\,531.00 251 LIM OTM Cows averaged 194.85 p/kg and  £1386 per head. Cows topped at 208.9 p/kg for an Aberdeen Angus scaling 675 kilos from B Norquoy\, Holland\, South Ronaldsay realising  £1410. Top price per head was  £1550 for a Shorthorn Cow scaling 805 kilos from J M Lennie\, Nearhouse\, Tankerness. Cull Bulls topped at  £1860 for a 7 year old Aberdeen Angus scaling 1255 kilos from Halcro-Johnston\, Gyre\, Orphir (148.2p). Following the Cattle were 228 Prime\, 29 Store & 81 Cast Sheep. Prime Hoggs averaged 235.8 p/kg SQQ Hoggs averaged 248.7 p/kg Hoggs per head averaged  £117.61. Prime Hoggs topped at 274.1 p/kg for a pair of Beltex scaling 54 kilos from T & J Leslie\, Quoymorhouse\, Shapinsay realising the top price per head of  £148 purchased by E Flett. OTHER HOGGS PER KILO BRYAMEADOW\,TWATT 50  £135.00 270 BELTEXBRYAMEADOW\,TWATT 51.5  £132.00 256.3 BELTEXBRYAMEADOW\,TWATT 49.5  £125.50 253.5 BELTEXMIDLAND\,RENDALL 49  £128.00 261.2 TEXMIDLAND\,RENDALL 44  £112.00 254.5 TEXMIDLAND\,RENDALL 40  £100.00 250 SUFUPPER SCAPA\,ST OLA 47  £122.50 260.6 TEXUPPER SCAPA\,ST OLA 46  £117.00 254.3 TEXUPPER SCAPA\,ST OLA 49  £124.00 253.1 TEXCRISMO\,EVIE 43  £109.00 253.5 TEXCRISMO\,EVIE 45  £114.00 253.3 TEXSCARPIGAR\,TANKERNESS 40  £101.00 252.5 TEXSCARPIGAR\,TANKERNESS 45  £112.50 250 TEXDRYDALE\,STROMNESS 43  £108.50 252.3 TEXDRYDALE\,STROMNESS 43  £107.50 250 TEXBENLAW\,EVIE 45  £113.00 251.1 CHARBENLAW\,EVIE 43  £107.50 250 CHARCASTLE\,STROMNESS 50  £125.00 250 TEXCASTLE\,STROMNESS 51  £126.00 247.1 TEXGRIND\,STRONSAY 41.5  £103.50 249.4 SUFGRIND\,STRONSAY 40  £97.50 243.8 TEXANNSTER\,SOUTH RONALDSAY 50  £123.00 246 TEXNORTH FLAWS\,SOUTH RONALDSAY 47.5  £115.00 242.1 SUFNORTH FLAWS\,SOUTH RONALDSAY 44.5  £107.50 241.6 TEXEASTAQUOY\,HARRAY 51  £123.00 241.2 TEXEASTAQUOY\,HARRAY 53.5  £127.00 237.4 TEXGLEBE\,FIRTH 47  £112.00 238.3 BLACKGLEBE\,FIRTH 40  £95.00 237.5 SPEKSOUTH HOUSE\,TANKERNESS 53.5  £127.00 237.4 TEX OTHER HOGGS PER HEAD EASTAQUOY\,HARRAY 62  £139.00 TEX EASTAQUOY\,HARRAY 59  £129.00 TEX EASTAQUOY\,HARRAY 57.5  £128.50 TEX EASTAQUOY\,HARRAY 63  £128.00 TEX BRYAMEADOW\,TWATT 50  £135.00 BELTEX BRYAMEADOW\,TWATT 51.5  £132.00 BELTEX UPPER SCAPA\,ST OLA 54  £131.00 TEX GLEBE\,FIRTH 66.5  £129.00 CHEV GLEBE\,FIRTH 70  £128.50 SUF GLEBE\,FIRTH 67  £128.00 SUF MIDLAND\,RENDALL 49  £128.00 TEX SOUTH HOUSE\,TANKERNESS 53.5  £127.00 TEX SOUTH HOUSE\,TANKERNESS 58.5  £126.00 TEX CASTLE\,STROMNESS 51  £126.00 TEX CASTLE\,STROMNESS 50  £125.00 TEX NORTH FLAWS\,SOUTH RONALDSAY 52  £124.50 TEX ANNSTER\,SOUTH RONALDSAY 50  £123.00 TEX SCARPIGAR\,TANKERNESS 53  £123.00 BLACK DRYDALE\,STROMNESS 51  £122.50 TEX DRYDALE\,STROMNESS 50  £122.00 OTHER CRISMO\,EVIE 45  £114.00 TEX BENLAW\,EVIE 45  £113.00 CHAR GRIND\,STRONSAY 41.5  £103.50 SUF Store Hoggs averaged  £71.79 and topped at  £89 for 6 Texels from T Harvey\, Hillcrest\, Quoyloo. OTHER STORE HOGGS GRIND\,STRONSAY  £84.00 TEX GRIND\,STRONSAY  £80.00 TEX HILLCREST\,QUOYLOO  £81.00 SUF SCARPIGAR\,TANKERNESS  £78.00 TEX GREENQUOY\,SOUTH RONALDSAY  £46.00 TEX GREENQUOY\,SOUTH RONALDSAY  £41.00 TEX Cast Sheep averaged  £123.81 per head and topped at  £210 for a Texel from G Thomson\, Howe\, South Ronaldsay and for a Texel Ewe from T & J Leslie\, Quoymorhouse\, Shapinsay. OTHER CAST SHEEP THE HOWE\,SOUTH RONALDSAY  £208.00 TEX RENNIBISTER\,KIRKWALL  £192.00 TEX RENNIBISTER\,KIRKWALL  £149.00 TEX NEARHOUSE\,TANKERNESS  £180.00 TEX ROSEBANK\,DEERNESS  £180.00 TEX ROSEBANK\,DEERNESS  £170.00 SHET QUANTERNESS\,ST OLA  £180.00 TEX QUANTERNESS\,ST OLA  £153.00 TEX QUANTERNESS\,ST OLA  £150.00 TEX QUANTERNESS\,ST OLA  £142.00 TEX HOWEQUOY\,HOLM  £179.00 TEX CASTLE\,STROMNESS  £178.00 TEX CASTLE\,STROMNESS  £159.00 TEX GLEBE\,FIRTH  £170.00 SUF HEATHERCOW\,EDAY  £168.00 BLACK HEATHERCOW\,EDAY  £168.00 TEX HEATHERCOW\,EDAY  £140.00 TEX HEATHERCOW\,EDAY  £132.00 TEX EILDON\,TOAB  £150.00 SUF SWANNAY FARM\,BY EVIE  £121.00 TEX LOWER BU\,HOLM  £120.00 HALF B SMIDDY\,STRONSAY  £119.00 TEX SMIDDY\,STRONSAY  £110.00 WHITE SMIDDY\,STRONSAY  £105.00 BLACK SMERQUOY\,ST OLA  £110.00 TEX SOUTH HOUSE\,TANKERNESS  £84.00 TEX UPPER SCAPA\,ST OLA  £92.00 TEX GREENQUOY\,SOUTH RONALDSAY  £80.00 WHITE EASTAQUOY\,HARRAY  £80.00 WHITE
URL:https://orkneymart.com/event/cattle-sheep-sales-30/
CATEGORIES:Sales Report
END:VEVENT
BEGIN:VEVENT
DTSTART;TZID=Europe/London:20220516T000000
DTEND;TZID=Europe/London:20220516T000000
DTSTAMP:20260423T152930
CREATED:20231020T092709Z
LAST-MODIFIED:20231027T105610Z
UID:10000716-1652659200-1652659200@orkneymart.com
SUMMARY:Cattle & Sheep Sales
DESCRIPTION:Forward for sale on Monday were 8 Prime Cattle\, 5 Store Cattle & 4 OTM Cattle. Prime Heifers sold to 264 p/kg for a Limousin scaling 625 kilos from B & B Omand\, Stembister\, Toab realising  £1650 purchased by E Flett. OTHER PRIME HEIFERS SOUTH SEATTER\,SANDWICK 610  £1\,598.20 262 LIM STEMBISTER\,TOAB 670  £1\,708.50 255 LIM Prime Steers topped at 262 p/kg for a Limousin scaling 620 kilos from B & B Omand\, Stembister\, Toab realising  £1624 purchased by Donaldsons. Top price per head was  £1837 for a Limousin scaling 750 kilos from Stembister\, Toab. Store Cattle topped at  £880 for a 390 kilo Simmental Heifer from Johnston\, Caperhouse\, Harray. OTM Cows topped at 193.4 p/kg for an Aberdeen Angus scaling 605 kilos from A & L Whyte\, Honeysgeo\, South Ronaldsay realising  £1170. Following the Cattle were 117 Prime\, 23 Breeding/Store Sheep & 106 Cast Sheep. Prime New Season Lambs averaged 252.8 p/kg and  £134.71. Lambs topped at 294.1 p/kg for a Dutch Spotted Lamb scaling 51 kilos from I Scott\, Nordheim\, Kirkwall realising to price per head of  £150 purchased by E Flett. OTHER LAMBS PER KILO CLAYBRAES\,SOUTH RONALDSAY 52  £134.00 257.7 SUF CLAYBRAES\,SOUTH RONALDSAY 56  £140.00 250 SUF CLAYBRAES\,SOUTH RONALDSAY 49  £122.00 249 SUF Prime Hoggs averaged 233.5 p/kg SQQ Hoggs averaged 239.6 p/kg Hoggs per head averaged  £116.32 Prime Hoggs topped at 274.1 p/kg for 5 Texels scaling 45 kilos from G Swannie\, Ramsquoy\, Stenness realising  £123.50. OTHER HOGGS PER KILO BIGGINGS\,STENNESS 43  £113.00 262.8 BELTEX RAMSQUOY\,STENNESS 48  £126.00 262.5 TEX RAMSQUOY\,STENNESS 44  £115.00 261.4 TEX RAMSQUOY\,STENNESS 46  £119.00 258.7 TEX RAMSQUOY\,STENNESS 43  £110.50 257 TEX SEATTERSQUOY\,STENNESS 40  £104.00 260 TEX LENAHOWE\,SANDWICK 44  £114.00 259.1 TEX LENAHOWE\,SANDWICK 46  £116.00 252.2 TEX HOUSEGARTH\,QUOYLOO 46  £118.00 256.5 SUF WITHAQUOY\,HOLM 45  £115.00 255.6 TEX COLLIGARTH\,SANDAY 44  £112.00 254.5 WHITE COLLIGARTH\,SANDAY 50  £126.00 252 WHITE MOAN\,HARRAY 50  £126.00 252 TEX MOAN\,HARRAY 48  £117.00 243.8 TEX DIAMONDS\,DEERNESS 48  £118.50 246.9 CHEV BIGGINGS\,RENDALL 50  £122.00 244 TEX BENLAW\,EVIE 39  £94.00 241 TEX BENLAW\,EVIE 44  £105.50 239.8 CHAR STONELEA\,STENNESS 37  £88.00 237.8 BELTEX BRECK\,EDAY 46  £105.50 229.3 SUF UPPER SCAPA\,ST OLA 60  £130.00 216.7 TEX GLEBE\,FIRTH 62.5  £126.50 202.4 SUF Top price per head was  £130 for a 66 kilo Texel and a pair of 60 kilo Texels from Moar\, Upper Scapa\, St Ola all purchased by Williamsons. OTHER HOGGS PER HEAD BIGGINGS\,RENDALL 65  £129.50 TEX RAMSQUOY\,STENNESS 52  £129.50 TEX RAMSQUOY\,STENNESS 48  £126.00 TEX MOAN\,HARRAY 55  £128.00 TEX MOAN\,HARRAY 66  £126.00 TEX HOUSEGARTH\,QUOYLOO 67  £127.50 SUF HOUSEGARTH\,QUOYLOO 55  £125.50 SUF GLEBE\,FIRTH 62.5  £126.50 SUF GLEBE\,FIRTH 63  £126.00 SUF LENAHOWE\,SANDWICK 56  £126.00 TEX COLLIGARTH\,SANDAY 50  £126.00 WHITE SEATTERSQUOY\,STENNESS 54  £123.50 TEX DIAMONDS\,DEERNESS 48  £118.50 CHEV WITHAQUOY\,HOLM 45  £115.00 TEX BIGGINGS\,STENNESS 43  £113.00 BELTEX BRECK\,EDAY 46  £105.50 SUF BENLAW\,EVIE 44  £105.50 CHAR Store Hoggs averaged  £67.50 and topped at  £77 for a Cheviot from S Cox\, Breck\, Eday. Cast Ewes averaged  £119.92 and topped at  £188 for a Texel from S A Seator\, Seattersquoy\, Stenness. OTHER CAST SHEEP SEATTERSQUOY\,STENNESS  £188.00 TEX SEATTERSQUOY\,STENNESS  £160.00 TEX WITHAQUOY\,HOLM  £186.00 BLACK STONELEA\,STENNESS  £182.00 TEX STONELEA\,STENNESS  £158.00 SUF STONELEA\,STENNESS  £156.00 CHEV HAQUOY\,SHAPINSAY  £180.00 TEX HAQUOY\,SHAPINSAY  £152.00 LLEYN SUNNYBANK\,ST OLA  £153.00 TEX COLLIGARTH\,SANDAY  £145.00 WHITE NORTHBIGGING\,DOUNBY  £145.00 OTHER NORTHBIGGING\,DOUNBY  £140.00 BELTEX HERMISGARTH\,SANDAY  £143.00 OTHER HERMISGARTH\,SANDAY  £136.00 OTHER HERMISGARTH\,SANDAY  £135.00 OTHER DALE\,EDAY  £140.00 TEX VETQUOY\,TWATT  £132.00 CHEV VETQUOY\,TWATT  £128.00 CHEV UPPER SCAPA\,ST OLA  £130.00 TEX BIGGINGS\,RENDALL  £122.00 CHEV BIGGINGS\,STENNESS  £102.00 SUF LENAHOWE\,SANDWICK  £100.00 BELTEX PURTABRECK\,TOAB  £100.00 TEX HOBBISTER\,ORPHIR  £99.00 LLEYN HOBBISTER\,ORPHIR  £90.00 TEX DIAMONDS\,DEERNESS  £60.00 CHEV
URL:https://orkneymart.com/event/cattle-sheep-sales-29/
CATEGORIES:Sales Report
END:VEVENT
BEGIN:VEVENT
DTSTART;TZID=Europe/London:20220530T000000
DTEND;TZID=Europe/London:20220530T000000
DTSTAMP:20260423T152930
CREATED:20231020T092709Z
LAST-MODIFIED:20231027T105610Z
UID:10000714-1653868800-1653868800@orkneymart.com
SUMMARY:Cattle & Sheep Sales
DESCRIPTION:Forward for sale on Monday were 7 Prime Cattle & 2 OTM Cattle. Prime Heifers topped at 265 p/kg for a Limousin scaling 535 kilos from Glen Orkney Farms\, St Ola realising  £1417 purchased by Rendalls.OTHER HEIFERS PER KILO FEAVAL\,BIRSAY 625  £1\,643.75 263 CHARSTEMBISTER\,TOAB 475  £1\,216.00 256 LIMSTEMBISTER\,TOAB 655  £1\,670.25 255 LIMSTEMBISTER\,TOAB 675  £1\,701.00 252 LIMPrime Steers topped at 250 p/kg for a Limousin scaling 710 kilos from B & B Omand\, Stembister\, Toab realising  £1775 purchased by Williamsons.OTM Cows sold to 209.1 p/kg for a Limousin scaling 770 kilos from Ness Farm\, Shapinsay realising  £1610.Top price per head was  £1660 for an 815 kilo Limousin from Ness\, Shapinsay.Following the Cattle were 210 Prime\, Store & Cast Sheep.Prime Hoggs averaged 239.5 p/kgSQQ Hoggs averaged 233.8 p/kgHoggs per head averaged  £108.29Prime Hoggs topped at 282.7 p/kg for a pair of Texels scaling 52 kilos from B & E Sclater\, South Fea\, Orphir realising  £147 purchased by E Flett.OTHER HOGGS PER KILOSUNNYBANK\,ST MARGARET’S HOPE 53  £147.00 277.4 CHEVSUNNYBANK\,ST MARGARET’S HOPE 49  £131.50 268.4 CHEVBIGGINGS\,STENNESS 48  £129.00 268.8 TEXBIGGINGS\,STENNESS 44  £107.00 243.2 SUFHANOVER\,SANDAY 50  £131.00 262 TEXHANOVER\,SANDAY 49  £120.00 244.9 TEXWALKERHOUSE\,BIRSAY 43  £112.50 261.6 BLACKWALKERHOUSE\,BIRSAY 44  £112.50 256 CHEVWALKERHOUSE\,BIRSAY 45  £112.50 250 CHEVPURTABRECK\,TOAB 48  £125.00 260.4 BLACKPURTABRECK\,TOAB 47  £120.00 255.3 CHEVPURTABRECK\,TOAB 50  £125.00 250 TEXBU\,WESTRAY 50  £129.00 258 TEXBU\,WESTRAY 47  £120.00 255 TEXBU\,WESTRAY 44  £112.00 255 TEXVESTRAFIOLD\,SANDWICK 44  £113.00 256.8 TEXVESTRAFIOLD\,SANDWICK 41  £99.00 241.5 TEXFEA\,ORPHIR 55  £139.00 252.7 TEXFEA\,ORPHIR 53  £127.50 240.6 TEXSOUTH FEA\,ORPHIR 49  £123.00 251 TEXDRYDALE\,STROMNESS 45  £111.00 246.7 CHARDRYDALE\,STROMNESS 47  £115.50 246 TEXSOUTH SEATTER\,SANDWICK 46  £112.50 244.6 SUFSOUTH SEATTER\,SANDWICK 40  £94.50 236.3 LLEYNBENLAW\,EVIE 41  £99.50 242.7 CHARBENLAW\,EVIE 45  £109.00 242.2 CHARDENWICK\,DEERNESS 47  £112.50 239.4 CHEVBRIARLEA\,HARRAY 42  £96.00 228.6 WHITELOCHSIDE\,WESTRAY 46  £99.00 215.2 WHITEVIEWFIELD\,ORPHIR 45  £96.00 213.3 OTHERVIEWFIELD\,ORPHIR 47  £100.00 212.8 OTHER Top price per head was  £147 for a pair of Cheviots scaling 53 kilos from P B & S Wylie\, Sunnybank\, South Ronaldsay.OTHER HOGGS PER HEAD FEA\,ORPHIR 55  £139.00 252.7 TEXFEA\,ORPHIR 60  £135.00 225 TEXVESTRAFIOLD\,SANDWICK 57  £132.00 231.6 TEXVESTRAFIOLD\,SANDWICK 62  £125.50 202.4 CHEVSUNNYBANK\,ST MARGARET’S HOPE 49  £131.50 268.4 CHEVHANOVER\,SANDAY 50  £131.00 262 TEXDENWICK\,DEERNESS 74  £130.00 175.7 TEXBIGGINGS\,STENNESS 48  £129.00 268.8 TEXBU\,WESTRAY 50  £129.00 258 TEXBU\,WESTRAY 48  £121.00 252 TEXBU\,WESTRAY 47  £120.00 255 TEXPURTABRECK\,TOAB 48  £125.00 260.4 BLACKPURTABRECK\,TOAB 50  £125.00 250 TEXSOUTH FEA\,ORPHIR 49  £123.00 251 TEXDRYDALE\,STROMNESS 47  £115.50 246 TEXDRYDALE\,STROMNESS 45  £111.00 246.7 CHARSOUTH SEATTER\,SANDWICK 46  £112.50 244.6 SUFWALKERHOUSE\,BIRSAY 43  £112.50 261.6 BLACKWALKERHOUSE\,BIRSAY 44  £112.50 256 CHEVBENLAW\,EVIE 45  £109.00 242.2 CHARBRIARLEA\,HARRAY 50  £106.00 212 WHITELOCHSIDE\,WESTRAY 50  £104.00 208 WHITEVIEWFIELD\,ORPHIR 47  £100.00 212.8 OTHER Store Hoggs averaged  £77.06 and topped at  £82 for 5 Texels from Flaws\, Helziegatha\, Wyre.OTHER STORE HOGGSSUNNYBANK\,ST MARGARET’S HOPE  £80.00 TEX HELZIEGATHA\,WYRE  £80.00 TEX HELZIEGATHA\,WYRE  £76.00 OTHER PURTABRECK\,TOAB  £79.00 BLACK BU\,WESTRAY  £78.00 CHEV Cast Ewes averaged  £113.49.Cast Rams averaged  £128.38. Cast Sheep topped at  £164 for a Texel Ewe from N & B Isbister\, Feolquoy\, Stromness. OTHER CAST SHEEPFEOLQUOY\,STROMNESS  £163.00 TEXVESTRAFIOLD\,SANDWICK  £161.00 TEXVESTRAFIOLD\,SANDWICK  £160.00 BELTEX NESS\,SHAPINSAY  £160.00 TEX NESS\,SHAPINSAY  £152.00 TEX NESS\,SHAPINSAY  £151.00 TEX NESS\,SHAPINSAY  £150.00 BLACK OLD HALL\,STROMNESS  £153.00 CHAR OLD HALL\,STROMNESS  £149.00 WHITE HEATHERLEA\,TOAB  £152.00 TEX LOCHSIDE\,WESTRAY  £152.00 TEX LOCHSIDE\,WESTRAY  £142.00 TEX WARTHILL\,HOLM  £147.00 TEX WARTHILL\,HOLM  £140.00 TEX BU\,WESTRAY  £147.00 TEX BU\,WESTRAY  £138.00 SUF BU\,WESTRAY  £133.00 TEX FEA\,ORPHIR  £138.00 TEX DENWICK\,DEERNESS  £128.00 LLEYN DENWICK\,DEERNESS  £127.00 CHAR DENWICK\,DEERNESS  £122.00 OTHER WALKERHOUSE\,BIRSAY  £127.00 OTHER BEAQUOY\,DOUNBY  £127.00 WHITE BIGGINGS\,STENNESS  £126.00 SUF BIGGINGS\,STENNESS  £125.00 TEX HEATHFIELD\,ST OLA  £119.00 TEX HEATHFIELD\,ST OLA  £114.00 BLACK PURTABRECK\,TOAB  £112.00 TEX MIRY PARK\,SANDAY  £85.00 SUF BRIARLEA\,HARRAY  £75.00 BLACK
URL:https://orkneymart.com/event/cattle-sheep-sales-28/
CATEGORIES:Sales Report
END:VEVENT
END:VCALENDAR