BEGIN:VCALENDAR
VERSION:2.0
PRODID:-//Orkney Auction Mart - ECPv6.15.17.1//NONSGML v1.0//EN
CALSCALE:GREGORIAN
METHOD:PUBLISH
X-ORIGINAL-URL:https://orkneymart.com
X-WR-CALDESC:Events for Orkney Auction Mart
REFRESH-INTERVAL;VALUE=DURATION:PT1H
X-Robots-Tag:noindex
X-PUBLISHED-TTL:PT1H
BEGIN:VTIMEZONE
TZID:Europe/London
BEGIN:DAYLIGHT
TZOFFSETFROM:+0000
TZOFFSETTO:+0100
TZNAME:BST
DTSTART:20210328T010000
END:DAYLIGHT
BEGIN:STANDARD
TZOFFSETFROM:+0100
TZOFFSETTO:+0000
TZNAME:GMT
DTSTART:20211031T010000
END:STANDARD
BEGIN:DAYLIGHT
TZOFFSETFROM:+0000
TZOFFSETTO:+0100
TZNAME:BST
DTSTART:20220327T010000
END:DAYLIGHT
BEGIN:STANDARD
TZOFFSETFROM:+0100
TZOFFSETTO:+0000
TZNAME:GMT
DTSTART:20221030T010000
END:STANDARD
BEGIN:DAYLIGHT
TZOFFSETFROM:+0000
TZOFFSETTO:+0100
TZNAME:BST
DTSTART:20230326T010000
END:DAYLIGHT
BEGIN:STANDARD
TZOFFSETFROM:+0100
TZOFFSETTO:+0000
TZNAME:GMT
DTSTART:20231029T010000
END:STANDARD
END:VTIMEZONE
BEGIN:VEVENT
DTSTART;TZID=Europe/London:20220110T000000
DTEND;TZID=Europe/London:20220110T000000
DTSTAMP:20260423T203908
CREATED:20231020T092824Z
LAST-MODIFIED:20231027T105555Z
UID:10000739-1641772800-1641772800@orkneymart.com
SUMMARY:Cattle & Sheep Sales
DESCRIPTION:Forward for sale on Monday were 12 Prime\, 14 Breeding & 11 OTM Cattle. Prime Cattle topped at 244 p/kg for a Limousin scaling 650 kilos from W S Garson\, Huan\, Sandwick realising  £1586 purchased by Williamsons and also for a Limousin scaling 580 kilos from Huan\, Sandwick realising  £1415 purchased by E Flett. OTHER PRIME CATTLE HUAN\,SANDWICK 660  £1\,590.60 241 LIMSOUTH SEATTER\,SANDWICK 625  £1\,487.50 238 CHARSOUTH SEATTER\,SANDWICK 690  £1\,587.00 230 LIMNETHERSKAILL\,BIRSAY 565  £1\,288.20 228 SIMNETHERSKAILL\,BIRSAY 530  £1\,208.40 228 AAYARPHA\,ORPHIR 630  £1\,417.50 225 CHAR Breeding Cows sold to  £1220 for a 7 year old Luing x Cow scanned in calf to the Charolais bull from W Drever\, Newark\, Sanday. OTM Cows topped at 147.9 p/kg for a Shorthorn Cow scaling 730 kilos from H & M Thomson\, Heathercow\, Eday realising  £1080. OTHER OTM COWS PER KILO UPPER BRECKQUOY\,HOLM 765  £1\,070.00 139.9 AAHEATHERCOW\,EDAY 690  £950.00 137.7 OTHHEATHERCOW\,EDAY 740  £990.00 133.8 BBHEATHERCOW\,EDAY 775  £960.00 123.9 SIMWINDYWALLS\,WESTRAY 620  £800.00 129 SIMBERRYHILL\,BURRAY 605  £755.00 124.8 BB Following the Cattle were 378 Prime\, 196 Store & 63 Cast Sheep. Prime Hoggs averaged 245.8 p/kg (+23.6p on the year) SQQ Hoggs averaged 247 p/kg (+24.7p on the year) Hoggs per head averaged  £112.29 (+ £10.86 on the year) Prime Hoggs topped at 267.5 p/kg for a Texel scaling 40 kilos from JD Wilson\, Tofts\, St Ola realising  £107 and a pair of Texels scaling 40 kilos from J Harvey\, Quoyholmslie\, Stromness realising  £107. A special mention to THC Pottinger\, Tuquoy\, Westray who donated the proceeds from a lamb to the Xmas Tractor Run in support of the two charities they are fundraising towards. The Lamb donated made  £107.50.  Well done to the Pottinger Family. OTHER HOGGS PER KILO LENAHOWE\,SANDWICK 47.5  £126.50 266.3 BELTEXLENAHOWE\,SANDWICK 46  £122.50 266.3 BELTEXAPPIETEEN\,SANDWICK 44  £116.50 264.8 TEXAPPIETEEN\,SANDWICK 43  £111.00 258.1 TEXQUHOLMSLIE\,STROMNESS 47  £123.50 262.8 TEXQUHOLMSLIE\,STROMNESS 48  £124.50 259.4 TEXQUHOLMSLIE\,STROMNESS 49  £127.00 259.2 TEXSEBAY\,TANKERNESS 47.5  £123.50 260 TEXSEBAY\,TANKERNESS 50  £128.00 256 TEXSEBAY\,TANKERNESS 41  £104.50 254.9 TEXDRYDALE\,STROMNESS 40  £103.50 258.8 TEXDRYDALE\,STROMNESS 36  £92.50 256.9 TEXDRYDALE\,STROMNESS 41  £104.50 254.9 TEXNEWBIGGING\,WESTRAY 46  £118.50 257.6 TEXNEWBIGGING\,WESTRAY 49  £125.00 255.1 TEXNEWBIGGING\,WESTRAY 50  £127.00 254 TEXTUQUOY\,WESTRAY 45  £115.50 256.7 TEXTUQUOY\,WESTRAY 44  £110.50 251.1 TEXUPPER HEADS\,ST MARGARETS HOPE 41  £104.50 254.9 TEXUPPER HEADS\,ST MARGARETS HOPE 40.5  £100.00 246.9 TEXUPPER HEADS\,ST MARGARETS HOPE 45  £111.00 246.7 TEXUPPERFIELD\,ST OLA 44  £111.00 252.3 TEXTOFTS\,ST OLA 39  £98.00 251.3 TEXBURNS OF MYRE\,ORPHIR 40  £99.50 248.8 TEXVIRGINIA\,STENNESS 54  £134.00 248.1 TEXVIRGINIA\,STENNESS 52  £128.50 247.1 TEXROSEMOUNT\,SANDWICK 52  £127.00 244.2 TEXHOBBISTER\,ORPHIR 47  £113.50 241.5 LLEYNHOBBISTER\,ORPHIR 45  £108.50 241.1 LLEYNCLOKE\,DOUNBY 52  £124.50 239.4 TEX Top price per head was  £134 for 5 Texels scaling 54 kilos from J & C Scott\, Virginia\, Stenness. OTHER HOGGS PER HEAD NEWBIGGING\,WESTRAY 54  £131.00 TEX NEWBIGGING\,WESTRAY 58  £130.50 TEX QUHOLMSLIE\,STROMNESS 55  £130.00 TEX VIRGINIA\,STENNESS 52  £128.50 TEX VIRGINIA\,STENNESS 54  £126.50 TEX SEBAY\,TANKERNESS 50  £128.00 TEX ROSEMOUNT\,SANDWICK 52  £127.00 TEX LENAHOWE\,SANDWICK 47.5  £126.50 BELTEX LENAHOWE\,SANDWICK 51  £125.00 TEX CLOKE\,DOUNBY 52  £124.50 TEX TUQUOY\,WESTRAY 50  £117.00 CHEV TUQUOY\,WESTRAY 45  £115.50 TEX APPIETEEN\,SANDWICK 44  £116.50 TEX APPIETEEN\,SANDWICK 47  £115.50 KERRY HOBBISTER\,ORPHIR 48  £115.00 SUF UPPER HEADS\,ST MARGARETS HOPE 45  £111.00 TEX UPPERFIELD\,ST OLA 44  £111.00 TEX TOFTS\,ST OLA 40  £107.00 TEX DRYDALE\,STROMNESS 41  £104.50 TEX BURNS OF MYRE\,ORPHIR 40  £99.50 TEX Store Hoggs topped at  £93 for 3 Texels from J L Brodie\, Sunnybank\, St Ola. OTHER STORE HOGGS SUNNYBANK\,ST OLA  £92.50 TEX SUNNYBANK\,ST OLA  £90.00 TEX SUNNYBANK\,ST OLA  £87.50 TEX SUNNYBANK\,ST OLA  £87.00 TEX UPPERFIELD\,ST OLA  £90.00 TEX SMIDDY\,STRONSAY  £89.00 BELTEX SMOOGARTH\,FIRTH  £87.00 TEX LOWER GRITLEY\,DEERNESS  £86.50 ZWAR LOWER GRITLEY\,DEERNESS  £84.00 ZWAR LOWER GRITLEY\,DEERNESS  £83.50 ZWAR TOFTS\,ST OLA  £80.00 CHEV HAMARFIOLD\,ROUSAY  £59.00 WHITE SALWICK\,LONGHOPE  £58.00 LLEYN CLAYPITS\,ORPHIR  £54.00 CHEV Cast Sheep topped at  £173 for a Texel Ewe from S Bain\, Newbigging\, Westray. OTHER CAST SHEEP NEWBIGGING\,WESTRAY  £168.00 TEX NEWBIGGING\,WESTRAY  £154.00 TEX TUQUOY\,WESTRAY  £149.00 TEX APPIETOWN\,RENDALL  £130.00 TEX CLOKE\,DOUNBY  £128.00 TEX STRATHEAST\,HOLM  £127.00 BLUE LENAHOWE\,SANDWICK  £126.00 BELTEX CLOKE\,DOUNBY  £117.00 CHEV SMOOGARTH\,FIRTH  £92.00 SUF SMOOGARTH\,FIRTH  £86.00 TEX BIGGINGS\,STENNESS  £90.00 SUF BIGGINGS\,STENNESS  £88.00 TEX SWANNAY FARM\,BY EVIE  £84.00 CHEV SWANNAY FARM\,BY EVIE  £79.00 CHEV UPPERFIELD\,ST OLA  £66.00 CHEV
URL:https://orkneymart.com/event/cattle-sheep-sales-38/
CATEGORIES:Sales Report
END:VEVENT
BEGIN:VEVENT
DTSTART;TZID=Europe/London:20220119T000000
DTEND;TZID=Europe/London:20220119T000000
DTSTAMP:20260423T203908
CREATED:20231020T092809Z
LAST-MODIFIED:20231027T105502Z
UID:10000737-1642550400-1642550400@orkneymart.com
SUMMARY:Sheep Sale
DESCRIPTION:Forward for sale on Wednesday were 384 Prime\, 125 Store & 49 Cast Sheep. Prime Hoggs averaged 228 p/kg (-17p) SQQ Hoggs averaged 231 p/kg (-16p) Hoggs per head averaged  £105.28 (- £7) Prime Hoggs topped at 245 p/kg for 4 Texels scaling 50 kilos from J M Lennie\, Nearhouse\, Tankerness realising top price per head of  £122.50. These Hoggs were purchased by E Flett\, Stromness. OTHER HOGGS PER KILO SOUTH BRECK\,FIRTH 45  £109.00 242.2 CHARSOUTH BRECK\,FIRTH 47  £112.50 239.4 TEXRENNIBISTER\,KIRKWALL 42  £101.00 240.5 TEXRENNIBISTER\,KIRKWALL 44.5  £104.50 234.8 TEXRENNIBISTER\,KIRKWALL 44  £103.00 234.1 TEXNORTH HORRALDSAY\,FINSTOWN 40  £96.00 240 TEXNEARHOUSE\,TANKERNESS 50  £120.00 240 TEXNEARHOUSE\,TANKERNESS 49  £117.00 238.8 TEXMOAN\,HARRAY 43  £103.00 239.5 TEXMOAN\,HARRAY 50  £118.00 236 TEXHUAN\,SANDWICK 50  £119.00 238 TEXHUAN\,SANDWICK 48  £114.00 237.5 TEXHUAN\,SANDWICK 45  £106.00 235.6 TEXWEST BURNSIDE\,TANKERNESS 44  £103.00 234.1 TEXWEST BURNSIDE\,TANKERNESS 45  £105.00 233.3 TEXWEST BURNSIDE\,TANKERNESS 44  £102.00 231.8 TEXNESS\,SHAPINSAY 47  £110.00 234 BLACKSKAILL\,ORPHIR 48  £112.00 233.3 CHEVBENLAW\,EVIE 48  £112.00 233.3 CHARBENLAW\,EVIE 47  £107.00 227.7 CHAROAKLEA\,ST OLA 43  £100.00 232.6 TEXCOTT\,RENDALL 46.5  £108.00 232.3 CHARCOTT\,RENDALL 48  £111.00 231.3 CHEVAVELSHAY\,ROUSAY 44  £102.00 231.8 TEXAVELSHAY\,ROUSAY 50  £115.00 230 TEXAVELSHAY\,ROUSAY 50  £113.00 226 TEXHEWING\,FIRTH 45.5  £105.00 230.8 TEXHEWING\,FIRTH 46  £106.00 230.4 CHARHEATHERCOW\,EDAY 45  £102.50 227.8 ABERFRUSTIGARTH\,SHAPINSAY 46  £104.00 226.1 SUFCLAIRNESS\,SANDWICK 41  £92.00 224.4 TEXVETQUOY\,TWATT 54  £116.50 215.7 TEX OTHER HOGGS PER HEAD NEARHOUSE\,TANKERNESS 50  £120.00 TEX NEARHOUSE\,TANKERNESS 49  £117.00 TEX HUAN\,SANDWICK 50  £119.00 TEX HUAN\,SANDWICK 51  £115.50 TEX HUAN\,SANDWICK 48  £114.00 TEX MOAN\,HARRAY 50  £118.00 TEX VETQUOY\,TWATT 60  £118.00 CHEV VETQUOY\,TWATT 54  £116.50 TEX HEWING\,FIRTH 55  £116.00 CHAR SOUTH BRECK\,FIRTH 53  £116.00 SUF SOUTH BRECK\,FIRTH 54  £115.00 CHAR COTT\,RENDALL 54  £115.00 CHAR COTT\,RENDALL 52  £114.00 CHAR COTT\,RENDALL 53  £113.00 CHEV AVELSHAY\,ROUSAY 50  £115.00 TEX AVELSHAY\,ROUSAY 50  £113.00 TEX NESS\,SHAPINSAY 53  £114.50 TEX SKAILL\,ORPHIR 48  £112.00 CHEV BENLAW\,EVIE 48  £112.00 CHAR RENNIBISTER\,KIRKWALL 47  £109.00 TEX WEST BURNSIDE\,TANKERNESS 45  £105.00 TEX FRUSTIGARTH\,SHAPINSAY 46  £104.00 SUF HEATHERCOW\,EDAY 45  £102.50 ABER OAKLEA\,ST OLA 43  £100.00 TEX NORTH HORRALDSAY\,FINSTOWN 40  £96.00 TEX CLAIRNESS\,SANDWICK 41  £92.00 TEX Store Hoggs topped at  £94.50 for 6 Aberfield Hoggs from H & M Thomson\, Heathercow\, Eday. OTHER STORE HOGGS HEATHERCOW\,EDAY  £92.50 TEX HEATHERCOW\,EDAY  £89.00 TEX CLAIRNESS\,SANDWICK  £90.00 BLACK GREENTOFT\,EDAY  £90.00 TEX FRUSTIGARTH\,SHAPINSAY  £90.00 SUF DALE\,EDAY  £87.50 TEX DALE\,EDAY  £85.50 TEX DALE\,EDAY  £84.50 TEX HONEYSGOE\,SOUTH RONALDSAY  £85.00 CHEV HONEYSGOE\,SOUTH RONALDSAY  £81.50 SUF 8 WHITEHALL\,STRONSAY  £83.00 TEX 8 WHITEHALL\,STRONSAY  £79.50 TEX OAKLEA\,ST OLA  £79.50 TEX OAKLEA\,ST OLA  £78.50 TEX SOUTH WINDWICK\,ST MARGARETS HOPE  £73.00 WHITE Cast Sheep topped at  £162 for a Texel Ewe from J M Lennie\, Nearhouse\, Tankerness. OTHER CAST SHEEP NEARHOUSE\,TANKERNESS  £145.00 TEX OLD VOY\,TOAB  £130.00 SUF OLD VOY\,TOAB  £122.00 SUF OLD VOY\,TOAB  £119.00 SUF APPIETEEN\,SANDWICK  £130.00 CHAR APPIETEEN\,SANDWICK  £110.00 OTHER HUAN\,SANDWICK  £121.00 TEX HUAN\,SANDWICK  £111.00 SUF HUAN\,SANDWICK  £101.00 TEX RENNIBISTER\,KIRKWALL  £120.00 TEX RENNIBISTER\,KIRKWALL  £114.00 TEX RENNIBISTER\,KIRKWALL  £111.00 TEX RENNIBISTER\,KIRKWALL  £110.00 TEX LITTLE CROFTY\,TANKERNESS  £101.00 TEX SKAILL\,ORPHIR  £96.00 CHEV MOAN\,HARRAY  £87.00 TEX DALE\,EDAY  £79.00 CHEV HEATHERCOW\,EDAY  £75.00 OTHER HONEYSGOE\,SOUTH RONALDSAY  £59.00 CHEV NESS\,SHAPINSAY  £50.00 WHITE CLAIRNESS\,SANDWICK  £48.00 WHITE
URL:https://orkneymart.com/event/sheep-sale-33/
CATEGORIES:Sales Report
END:VEVENT
BEGIN:VEVENT
DTSTART;TZID=Europe/London:20220124T000000
DTEND;TZID=Europe/London:20220124T000000
DTSTAMP:20260423T203908
CREATED:20231020T092809Z
LAST-MODIFIED:20231027T105556Z
UID:10000736-1642982400-1642982400@orkneymart.com
SUMMARY:Cattle & Sheep Sales
DESCRIPTION:Forward for sale on Monday were 8 Prime & 3 OTM Cattle followed by 423 Sheep of all classes. Prime Steers topped at 247 p/kg for a Limousin scaling 635 kilos from B & B Omand\, Stembister\, Toab realising  £1568 purchased by Rendalls. Top price per head was  £1700 for an Angus scaling 780 kilos from B & B Omand\, Stembister\, Toab purchased by Williamsons. Prime Heifers topped at 240 p/kg for a Charolais scaling 615 kilos from J & R Stanger\, South Seatter\, Sandwick realising  £1476 purchased by Williamsons. OTM Cattle topped at 117.9 p/kg for an Angus Cow scaling 560 kilos from Hobbister Farms\, Orphir realising  £660. Prime Hoggs averaged 236.7 p/kg (+8.7p) SQQ Hoggs averaged 237 p/kg (+6p) Hoggs per head averaged  £104.74 (- £0.54) Prime Hoggs topped at 267.1 p/kg for 4 Texels scaling 38 kilos from G & S Stevenson\, Biggings\, Rendall realising  £101.50. OTHER HOGGS PER KILO MESSIGATE\,TANKERNESS 47  £125.00 266 TEXMESSIGATE\,TANKERNESS 49  £130.00 265.3 TEXMESSIGATE\,TANKERNESS 45  £119.00 264.4 TEXMESSIGATE\,TANKERNESS 40  £105.00 262.5 TEXODINESS\,STRONSAY 41  £108.50 264.6 TEXODINESS\,STRONSAY 50  £129.00 258 TEXODINESS\,STRONSAY 40  £99.50 249 TEXODINESS\,STRONSAY 40  £99.50 248.8 TEXBIGGINGS\,RENDALL 41  £107.50 262.2 TEXTUQUOY\,WESTRAY 39  £100.00 256.4 TEXTUQUOY\,WESTRAY 40  £96.00 240 SUFTUQUOY\,WESTRAY 40  £95.50 238.8 CHEVST CLAIR\,HOLM 49  £124.50 254.1 TEXST CLAIR\,HOLM 45  £111.00 247 TEXST CLAIR\,HOLM 45  £111.00 246.7 TEXSTONELEA\,STENNESS 43  £109.00 253.5 TEXSTONELEA\,STENNESS 40  £100.00 250 TEXNETHERHILL\,TANKERNESS 42  £104.00 247.6 TEXBRUNTHOUSE\,FLOTTA 43  £104.50 243 TEXBRUNTHOUSE\,FLOTTA 39  £94.50 242.3 TEXCAULDHAME\,STROMNESS 38  £92.00 242.1 SUFCAULDHAME\,STROMNESS 39  £93.50 239.7 TEXLOPNESS\,SANDAY 48  £116.00 241.7 TEXLOPNESS\,SANDAY 52  £125.00 240.4 TEXLOPNESS\,SANDAY 54  £129.50 239.8 TEXDRYDALE\,STROMNESS 43  £103.50 240.7 TEXDRYDALE\,STROMNESS 48  £115.50 240.6 CHEVDRYDALE\,STROMNESS 44  £104.50 237.5 TEXMYERS\,SOUTH RONALDSAY 39  £92.50 237.2 TEXHOBBISTER\,ORPHIR 45  £103.00 228.9 LLEYNHOBBISTER\,ORPHIR 49  £112.00 228.6 SUFHOBBISTER\,ORPHIR 46  £104.00 226.1 LLEYNFOINHAVEN\,ORPHIR 50  £107.00 214 VALAIS Hoggs topped at  £135.50 for a Texel scaling 60 kilos from P & E M Dennison\, Odiness\, Stronsay. OTHER HOGGS PER HEAD LOPNESS\,SANDAY 55  £130.00 TEX LOPNESS\,SANDAY 54  £129.50 TEX LOPNESS\,SANDAY 53  £126.50 TEX MESSIGATE\,TANKERNESS 49  £130.00 TEX MESSIGATE\,TANKERNESS 47  £125.00 TEX ODINESS\,STRONSAY 50  £129.00 TEX STONELEA\,STENNESS 52  £125.50 TEX ST CLAIR\,HOLM 49  £124.50 TEX DRYDALE\,STROMNESS 48  £115.50 CHEV FOINHAVEN\,ORPHIR 60  £114.00 VALAIS HOBBISTER\,ORPHIR 49  £112.00 SUF BIGGINGS\,RENDALL 46  £110.50 TEX BRUNTHOUSE\,FLOTTA 43  £104.50 TEX NETHERHILL\,TANKERNESS 42  £104.00 TEX TUQUOY\,WESTRAY 39  £100.00 TEX CAULDHAME\,STROMNESS 39  £93.50 TEX MYERS\,SOUTH RONALDSAY 39  £92.50 TEX Store Hoggs averaged  £73.38 and topped at  £115.50 for 3 Texels from C & C E B Leslie\, Lopness\, Sanday. OTHER STORE HOGGS BRUNTHOUSE\,FLOTTA  £90.50 TEX BRUNTHOUSE\,FLOTTA  £84.50 TEX MYERS\,SOUTH RONALDSAY  £75.00 TEX STRATHEAST\,HOLM  £75.00 BLACKIE ST CLAIR\,HOLM  £69.00 SHET CAULDHAME\,STROMNESS  £62.00 SUF STONELEA\,STENNESS  £54.00 TEX Cast Sheep topped at  £186 for a Texel Ewe from P & E M Dennison\, Odiness\, Stronsay. OTHER CAST SHEEP LOPNESS\,SANDAY  £170.00 TEX LOPNESS\,SANDAY  £149.00 TEX LOPNESS\,SANDAY  £135.00 TEX MESSIGATE\,TANKERNESS  £138.00 TEX MESSIGATE\,TANKERNESS  £126.00 TEX ODINESS\,STRONSAY  £134.00 TEX ODINESS\,STRONSAY  £129.00 TEX ODINESS\,STRONSAY  £125.00 TEX NORTHBIGGING\,DOUNBY  £127.00 LLEYN ST CLAIR\,HOLM  £125.00 TEX NETHERHILL\,TANKERNESS  £125.00 TEX NETHERHILL\,TANKERNESS  £110.00 TEX TUQUOY\,WESTRAY  £117.00 TEX QUANTERNESS\,ST OLA  £113.00 TEX QUANTERNESS\,ST OLA  £109.00 TEX QUANTERNESS\,ST OLA  £106.00 TEX STONELEA\,STENNESS  £82.00 SUF CAULDHAME\,STROMNESS  £70.00 TEX
URL:https://orkneymart.com/event/cattle-sheep-sales-37/
CATEGORIES:Sales Report
END:VEVENT
BEGIN:VEVENT
DTSTART;TZID=Europe/London:20220131T000000
DTEND;TZID=Europe/London:20220131T000000
DTSTAMP:20260423T203908
CREATED:20231020T092809Z
LAST-MODIFIED:20231027T105556Z
UID:10000734-1643587200-1643587200@orkneymart.com
SUMMARY:Cattle & Sheep Sales
DESCRIPTION:Forward for sale on Monday were 13 Prime & 3 OTM Cattle. Prime Steers topped at 235 p/kg for a Limousin scaling 680 kilos from J & R Stanger\, South Seatter\, Sandwick realising  £1598 purchased by Williamsons. OTHER PRIME STEERS SOUTH SEATTER\,SANDWICK 650  £1\,521.00 234 CHARHUAN\,SANDWICK 630  £1\,461.60 232 LIMSTEMBISTER\,TOAB 640  £1\,459.20 228 SIMSTEMBISTER\,TOAB 690  £1\,552.50 225 AA Prime Heifers topped at 231 p/kg for a Simmental scaling 580 kilos from W S Garson\, Huan\, Sandwick realising  £1339 purchased by Donaldsons. OTHER PRIME HEIFERS HUAN\,SANDWICK 600  £1\,368.00 228 CHARYARPHA\,ORPHIR 620  £1\,419.80 229 CHARYARPHA\,ORPHIR 615  £1\,402.20 228 CHAR OTM Cows topped at 137.5 p/kg for a Shorthorn scaling 680 kilos from J Sinclair\, Midhouse\, Harray realising  £935. Following the Cattle were 4 Breeding\, 147 Prime\, 134 Store & 79 Cast Sheep. 4 In Lamb Suffolk Ewes from T Delday\, Old Voy\, Toab averaged  £217 and topped at  £270. Prime Hoggs averaged 255 p/kg (+18.3p) SQQ Hoggs averaged 256.5 p/kg (+19.5p) Hoggs per head averaged  £113 (+ £8.26) Prime Hoggs topped at 272.5 p/kg for 13 Texels scaling 40 kilos from W & M Robertson\, Brunthouse\, Flotta realising  £109. OTHER HOGGS PER KILO INKERMAN\,SANDAY 40  £108.00 270 TEXINKERMAN\,SANDAY 43  £113.00 262.8 TEXEILDON\,TOAB 42  £112.00 266.7 TEXNORDHEIM\,KIRKWALL 52  £137.00 263.5 DUTCHTWATT\,BIRSAY 43  £112.50 261.6 LLEYNEAST HOWE\,BIRSAY 40  £104.50 261.3 TEXEAST HOWE\,BIRSAY 45  £114.00 253.3 TEXHOLLAND\,FIRTH 46  £120.00 260.9 TEXHOLLAND\,FIRTH 52  £135.00 260 TEXMILLHOUSE\,DEERNESS 45  £115.00 255.6 TEXMILLHOUSE\,DEERNESS 46  £114.50 248.9 TEXHOBBISTER\,ORPHIR 42.5  £108.50 255.3 LLEYNHOBBISTER\,ORPHIR 43  £109.00 253.5 LLEYNHOWE\,HARRAY 44  £111.50 253.4 WHITENORTH SERRIGAR\,SOUTH RONALDSAY 51  £128.50 252 TEXNORTH SERRIGAR\,SOUTH RONALDSAY 46  £115.50 251.1 SUF Hoggs topped at  £137 for a pair of Dutch Spotted Hoggs scaling 52 kilos from I Scott\, Nordheim\, Kirkwall. OTHER HOGGS PER HEAD HOLLAND\,FIRTH 52  £135.00 TEX NORTH SERRIGAR\,SOUTH RONALDSAY 51  £128.50 TEX MILLHOUSE\,DEERNESS 47  £116.00 TEX MILLHOUSE\,DEERNESS 45  £115.00 TEX EAST HOWE\,BIRSAY 45  £114.00 TEX INKERMAN\,SANDAY 43  £113.00 TEX TWATT\,BIRSAY 43  £112.50 LLEYN EILDON\,TOAB 42  £112.00 TEX HOWE\,HARRAY 44  £111.50 WHITE HOBBISTER\,ORPHIR 43  £109.00 LLEYN BRUNTHOUSE\,FLOTTA 40  £109.00 TEX Store Hoggs averaged  £92.15 (+ £18.77) and topped at  £113.50 for 8 Texels from G R T Scarth\, Twatt\, Birsay. OTHER STORE HOGGS SUNNYBANK\,ST OLA  £110.50 TEX SUNNYBANK\,ST OLA  £107.00 TEX SUNNYBANK\,ST OLA  £100.50 TEX TWATT\,BIRSAY  £104.50 TEX INKERMAN\,SANDAY  £105.00 TEX INKERMAN\,SANDAY  £97.50 TEX BRUNTHOUSE\,FLOTTA  £100.50 TEX BRUNTHOUSE\,FLOTTA  £90.00 TEX WESTSHORE\,RENDALL  £93.00 TEX EILDON\,TOAB  £92.00 CHEV EAST HOWE\,BIRSAY  £75.00 KERRY Cast Ewes topped at  £178 for a pair of Texels from G & S Stevenson\, Biggings\, Rendall and also for a Texel from E J Sinclair\, Holland\, Firth. OTHER CAST SHEEP EASTAQUOY\,HARRAY  £167.00 TEX HOLLAND\,FIRTH  £149.00 TEX UPPER HEADS\,ST MARGARETS HOPE  £140.00 TEX UPPER HEADS\,ST MARGARETS HOPE  £120.00 TEX UPPER SCAPA\,ST OLA  £139.00 TEX RENNIBISTER\,KIRKWALL  £139.00 TEX RENNIBISTER\,KIRKWALL  £138.00 TEX RENNIBISTER\,KIRKWALL  £128.00 TEX RENNIBISTER\,KIRKWALL  £121.00 TEX BIGGINGS\,STENNESS  £135.00 TEX BIGGINGS\,STENNESS  £129.00 TEX BIGGINGS\,STENNESS  £116.00 SUF BIGGINGS\,STENNESS  £110.00 CHEV INGSAY\,SWANNAY  £129.00 TEX STONELEA\,STENNESS  £118.00 TEX STONELEA\,STENNESS  £110.00 TEX HOWE\,HARRAY  £110.00 TEX EASTAQUOY\,HARRAY  £109.00 TEX TWATT FARM\,BIRSAY  £109.00 LLEYN SPRINGFIELD\,HOLM  £101.00 TEX BIGGINGS\,RENDALL  £101.00 CHEV NORTH SERRIGAR\,SOUTH RONALDSAY  £90.00 TEX SUNNYBANK\,ST OLA  £90.00 WHITE SUNNYBANK\,ST OLA  £89.00 CHEV WESTSHORE\,RENDALL  £75.00 TEX
URL:https://orkneymart.com/event/cattle-sheep-sales-36/
CATEGORIES:Sales Report
END:VEVENT
END:VCALENDAR