BEGIN:VCALENDAR
VERSION:2.0
PRODID:-//Orkney Auction Mart - ECPv6.15.17.1//NONSGML v1.0//EN
CALSCALE:GREGORIAN
METHOD:PUBLISH
X-ORIGINAL-URL:https://orkneymart.com
X-WR-CALDESC:Events for Orkney Auction Mart
REFRESH-INTERVAL;VALUE=DURATION:PT1H
X-Robots-Tag:noindex
X-PUBLISHED-TTL:PT1H
BEGIN:VTIMEZONE
TZID:Europe/London
BEGIN:DAYLIGHT
TZOFFSETFROM:+0000
TZOFFSETTO:+0100
TZNAME:BST
DTSTART:20200329T010000
END:DAYLIGHT
BEGIN:STANDARD
TZOFFSETFROM:+0100
TZOFFSETTO:+0000
TZNAME:GMT
DTSTART:20201025T010000
END:STANDARD
BEGIN:DAYLIGHT
TZOFFSETFROM:+0000
TZOFFSETTO:+0100
TZNAME:BST
DTSTART:20210328T010000
END:DAYLIGHT
BEGIN:STANDARD
TZOFFSETFROM:+0100
TZOFFSETTO:+0000
TZNAME:GMT
DTSTART:20211031T010000
END:STANDARD
BEGIN:DAYLIGHT
TZOFFSETFROM:+0000
TZOFFSETTO:+0100
TZNAME:BST
DTSTART:20220327T010000
END:DAYLIGHT
BEGIN:STANDARD
TZOFFSETFROM:+0100
TZOFFSETTO:+0000
TZNAME:GMT
DTSTART:20221030T010000
END:STANDARD
END:VTIMEZONE
BEGIN:VEVENT
DTSTART;TZID=Europe/London:20210802T000000
DTEND;TZID=Europe/London:20210802T000000
DTSTAMP:20260424T020419
CREATED:20231020T093122Z
LAST-MODIFIED:20231027T105555Z
UID:10000780-1627862400-1627862400@orkneymart.com
SUMMARY:Cattle & Sheep Sales
DESCRIPTION:Forward for sale on Monday were 12 Prime Cattle\, 17 Store Cattle & 13 OTM Cattle. Prime Steers sold to 250 p/kg for a Charolais scaling 650 kilos from J & R Stanger\, South Seatter\, Sandwick realising  £1625 purchased by Williamsons. OTHER PRIME STEERS GRANDON\,FINSTOWN 590  £1\,433.70 243 LIMGRANDON\,FINSTOWN 535  £1\,278.65 239 LIMGRANDON\,FINSTOWN 590  £1\,357.00 230 AAHOWE\,HARRAY 575  £1\,253.50 218 CONT Prime Heifers sold to 249 p/kg for a Charolais scaling 610 kilos from J & R Stanger\, South Seatter\, Sandwick realising  £1518 purchased by Donaldsons. OTHER PRIME HEIFERS SOUTH SEATTER\,SANDWICK 665  £1\,622.60 244 CHARGRANDON\,FINSTOWN 520  £1\,196.00 230 LIMVETQUOY\,TWATT 645  £1\,444.80 224 AAHOWE\,HARRAY 645  £1\,406.10 218 CONT Store Steers averaged 237.4 p/kg and topped at 248 p/kg for a Limousin scaling 510 kilos from B J Thomson\, Cockmurra\, Holm realising  £1265. OTHER STEERS PER KILO COCKMURRA\,HOLM 510  £1\,245.00 244.1 LIMCOCKMURRA\,HOLM 550  £1\,340.00 243.6 LIMMIDHOUSE\,HARRAY 500  £1\,225.00 245 LIMMIDHOUSE\,HARRAY 465  £1\,135.00 244.1 SIMMIDHOUSE\,HARRAY 463  £1\,130.00 244.1 SIMMIDHOUSE\,HARRAY 520  £1\,220.00 234.6 AAMIDHOUSE\,HARRAY 490  £1\,145.00 233.7 SIM Steers averaged  £1150 per head and topped at  £1340 for a Limousin scaling 550 kilos from B J Thomson\, Cockmurra\, Holm. Store Heifers averaged  £1140 per head and topped at  £1180 for a Charolais from Vestrafiold Farms\, Sandwick. OTHER STORE HEIFERS HUIP\,STRONSAY 530  £1\,100.00 207.5 CHAR OTM Cattle averaged 149.1 p/kg and topped at 169 p/kg for a Saler cow scaling 710 kilos from Vestrafiold Farms\, Sandwick realising  £1200. OTHER OTM PER KILO HUIP\,STRONSAY 545  £910.00 167 CHARHUIP\,STRONSAY 535  £880.00 164.5 CHARHUIP\,STRONSAY 725  £1\,170.00 161.4 AAHUIP\,STRONSAY 750  £1\,210.00 161.3 CHARHACKLAND\,DOUNBY 705  £1\,095.00 155.3 AAWHITEHALL\,STRONSAY 790  £1\,180.00 149.4 SIMBACKALAND\,EDAY 705  £1\,010.00 143.3 AA Top price per head was  £1210 for a Charolais cow scaling 750 kilos from R B S Heard\, Huip\, Stronsay. A 10 year old Breeding Angus Bull scaling 1100 kilos sold to 128.2 p/kg and  £1410 from J Brown\, Hackland\, Dounby. Following the Cattle were 50 Prime Lambs & 111 Cast Sheep. Prime Lambs averaged 209.7 p/kg (-21.7p) SQQ Lambs averaged 211.6 p/kg (-33.1p) Lambs per head averaged  £95.20 (- £19.04) Prime Lambs topped at 215.9 p/kg for 3 Texels scaling 41 kilos from B S Scott\, Netherhill\, Tankerness realising  £88.50 and also for 4 Texels scaling 44 kilos from GW & ET Wilson\, Howequoy\, Holm realising  £95. OTHER LAMBS PER KILO HOWEQUOY\,HOLM 44.5  £96.00 215.7 TEXKIERFIOLD\,SANDWICK 46  £99.00 215.2 TEXKIERFIOLD\,SANDWICK 48  £100.00 208.3 CHARNETHERHILL\,TANKERNESS 43  £92.50 215.1 TEXUPPER SCAPA\,ST OLA 46  £97.50 212 CHARUPPER SCAPA\,ST OLA 46.5  £98.50 211.8 TEXUPPER SCAPA\,ST OLA 49  £102.00 208.2 SUFFERSNESS\,EDAY 42  £88.00 209.5 CHEVFERSNESS\,EDAY 43.5  £90.00 206.9 CHEVFERSNESS\,EDAY 45  £93.00 206.7 CHEV Top price per head was  £102 for a Suffolk scaling 49 kilos from A Moar\, Upper Scapa\, St Ola. OTHER LAMBS PER HEAD FERSNESS\,EDAY 50  £100.50 CHEV KIERFIOLD\,SANDWICK 51  £100.00 TEX KIERFIOLD\,SANDWICK 48  £100.00 CHAR KIERFIOLD\,SANDWICK 46  £99.00 TEX HOWEQUOY\,HOLM 44.5  £96.00 TEX Cast Sheep averaged  £87.54 for ewes and  £120 for Rams. Cast Sheep topped at  £150 for a Texel Ewe from GW & ET Wilson\, Howequoy\, Holm. OTHER CAST SHEEP LAGA\,EVIE  £140.00 ROMN HILLCREST\,QUOYLOO  £140.00 TEX HILLCREST\,QUOYLOO  £118.00 TEX HILLCREST\,QUOYLOO  £115.00 TEX HILLCREST\,QUOYLOO  £111.00 TEX LITTLE CROFTY\,TANKERNESS  £129.00 TEX NETHERHILL\,TANKERNESS  £128.00 TEX HOWEQUOY\,HOLM  £126.00 TEX KIERFIOLD\,SANDWICK  £125.00 TEX KIERFIOLD\,SANDWICK  £113.00 TEX CLOKE\,DOUNBY  £121.00 LLEYN SOUTH HOUSE\,TANKERNESS  £120.00 TEX UPPER SCAPA\,ST OLA  £120.00 TEX UPPER SCAPA\,ST OLA  £119.00 TEX UPPER SCAPA\,ST OLA  £116.00 TEX NEARHOUSE\,TANKERNESS  £120.00 TEX NEARHOUSE\,TANKERNESS  £111.00 TEX CAULDHAME\,STROMNESS  £119.00 SUF CAULDHAME\,STROMNESS  £115.00 CHEV CAULDHAME\,STROMNESS  £115.00 CHAR HUIP\,STRONSAY  £106.00 SUF HUIP\,STRONSAY  £100.00 LLEYN HUIP\,STRONSAY  £100.00 CHAR MOAN\,HARRAY  £105.00 BLACK THE GLEBE\,FIRTH  £102.00 BLACK THE GLEBE\,FIRTH  £95.00 CHEV THE GLEBE\,FIRTH  £91.00 SUF 1 BOGIE HOUSES\,EVIE  £87.00 CHEV HEATHERLEA\,TOAB  £82.00 CHEV NAVERSDALE\,ORPHIR  £81.00 CHAR
URL:https://orkneymart.com/event/cattle-sheep-sales-47/
CATEGORIES:Sales Report
END:VEVENT
BEGIN:VEVENT
DTSTART;TZID=Europe/London:20210809T000000
DTEND;TZID=Europe/London:20210809T000000
DTSTAMP:20260424T020419
CREATED:20231020T093122Z
LAST-MODIFIED:20231027T105555Z
UID:10000778-1628467200-1628467200@orkneymart.com
SUMMARY:Cattle & Sheep Sales
DESCRIPTION:Forward for sale on Monday were 13 Prime\, 19 Store & 17 OTM Cattle. Prime Heifers topped at 255 p/kg for a Charolais scaling 590 kilos from J & R Stanger\, South Seatter\, Sandwick realising  £1504 purchased by Craigies. OTHER PRIME HEIFERS CAMPSTON\,TOAB 575  £1\,426.00 248 LIMCAMPSTON\,TOAB 560  £1\,388.80 248 LIMNORTHBIGGING\,DOUNBY 595  £1\,469.65 247 CHARNETHERHILL\,TANKERNESS 605  £1\,488.30 246 AAKIRKHOUSE\,SOUTH RONALDSAY 545  £1\,242.60 228 CHAR Prime Steers topped at 244 p/kg for a Charolais scaling 685 kilos from J & R Stanger\, South Seatter\, Sandwick realising  £1671 purchased by Williamsons. OTHER PRIME STEERS HILLQUOY\,BIRSAY 660  £1\,584.00 240 LIMKIRKHOUSE\,SOUTH RONALDSAY 620  £1\,475.60 238 CHAR Store Steers averaged 234.5 p/kg and topped at 245.1 p/kg for a pen of 4 Simmentals scaling 406 kilos from J Sinclair\, Midhouse\, Harray realising  £995. OTHER STEERS PER KILO MIDHOUSE\,HARRAY 467  £1\,105.00 236.6 AAMIDHOUSE\,HARRAY 465  £1\,100.00 236.6 LIMMIDHOUSE\,HARRAY 457  £1\,080.00 236.3 AAMIDHOUSE\,HARRAY 455  £1\,070.00 235.2 AAMIDHOUSE\,HARRAY 465  £1\,080.00 232.3 SIM Store Heifers topped at  £1420 for a Simmental scaling 695 kilos from Rendall\, Whitehow\, Papay. OTM Cows sold to the dearest rates so far this year averaging an impressive 161.8 p/kg and  £1076 per head. Cows topped at 186 p/kg for a Stabaliser Cow scaling 570 kilos from J Corrigall\, Northbigging\, Dounby realising  £1060. OTHER COWS PER KILO TRUMLAND\,ROUSAY 555  £1\,000.00 180.2 SALWHITEHOW\,PAPA WESTRAY 690  £1\,200.00 173.9 LIMNORTHBIGGING\,DOUNBY 760  £1\,340.00 176.3 STABNORTHBIGGING\,DOUNBY 660  £1\,140.00 172.7 STABNORTHBIGGING\,DOUNBY 700  £1\,160.00 165.7 STABNORTHBIGGING\,DOUNBY 860  £1\,355.00 157.6 AABRANSTANE\,WESTRAY 725  £1\,190.00 164.1 AARAMRAY\,GRAEMSAY 810  £1\,300.00 160.5 AANETHERHILL\,TANKERNESS 640  £990.00 154.7 LIMHOBBISTER\,ORPHIR 540  £740.00 137 AA OTM Bulls averaged 113.2 p/kg and  £1365. OTM BULLS NORTHBIGGING\,DOUNBY 1235  £1\,430.00 115.8 CHARLYKING\,SANDWICK 1175  £1\,300.00 110.6 SIM Following the Cattle were 204 Prime\, 5 Store & 53 Cast Sheep. Prime Lambs averaged 215.6 p/kg (+5.9p) SQQ Lambs averaged 214.6 p/kg (+3p) Lambs per head averaged  £98.71 (+ £3.51) Lambs topped at 244.4 p/kg for 6 Beltex scaling 45 kilos from J & E Linklater\, Little Crofty\, Tankerness realising  £110. OTHER LAMBS PER KILO LITTLE CROFTY\,TANKERNESS 47  £112.00 238.3 BELTEXLITTLE CROFTY\,TANKERNESS 47  £110.00 234 BELTEXLITTLE CROFTY\,TANKERNESS 52  £120.00 230.8 BELTEXPOLE\,BURRAY 48  £112.00 233.3 CHARLOWER CORNQUOY\,HOLM 50  £116.00 232 TEXVESTRAFIOLD\,SANDWICK 46  £105.00 228.3 TEXVESTRAFIOLD\,SANDWICK 50  £111.50 223 TEXVESTRAFIOLD\,SANDWICK 41.5  £91.50 220.5 TEXCOTLAND\,ST OLA 50  £114.00 228 TEXCOTLAND\,ST OLA 48  £107.00 222.9 TEXEASTSIDE\,TWATT 49  £109.00 222.4 TEXEASTSIDE\,TWATT 50.5  £109.50 216.8 TEXWEST BURNSIDE\,TANKERNESS 46  £101.50 220.7 TEXWEST BURNSIDE\,TANKERNESS 48  £104.00 216.7 TEXSTONELEA\,STENNESS 39  £86.00 220.5 BELTEXSTONELEA\,STENNESS 49  £107.00 218.4 TEXSTONELEA\,STENNESS 47  £102.50 218.1 BELTEXWITHAQUOY\,HOLM 47  £102.50 218.1 TEXWITHAQUOY\,HOLM 49  £106.00 216.3 TEXUPPERFIELD\,ST OLA 45  £98.00 217.8 TEXUPPERFIELD\,ST OLA 45  £97.50 216.7 TEXPURTABRECK\,TOAB 48  £103.50 215.6 TEXHOWAN\,DOUNBY 45  £96.50 214.4 SUFHOWAN\,DOUNBY 40  £85.50 213.8 TEXUPPER SCAPA\,ST OLA 46  £98.00 213 SUFFERSNESS\,EDAY 41.5  £88.00 212 CHEVBIGGINGS\,STENNESS 45  £94.50 210 TEXNETHER OUSENESS\,WESTRAY 46  £96.50 209.8 TEXROADSIDE\,ST OLA 45  £93.50 207.8 TEX Top price per head was  £120 for a Beltex scaling 52 kilos from J & E Linklater\, Little Crofty\, Tankerness. OTHER LAMBS PER HEAD LOWER CORNQUOY\,HOLM 50  £116.00 TEX COTLAND\,ST OLA 50  £114.00 TEX WITHAQUOY\,HOLM 55  £114.00 TEX WITHAQUOY\,HOLM 55  £110.00 TEX POLE\,BURRAY 48  £112.00 CHAR LITTLE CROFTY\,TANKERNESS 47  £112.00 BELTEX VESTRAFIOLD\,SANDWICK 50  £111.50 TEX VESTRAFIOLD\,SANDWICK 51  £109.00 SUF EASTSIDE\,TWATT 50.5  £109.50 TEX EASTSIDE\,TWATT 49  £109.00 TEX STONELEA\,STENNESS 49  £107.00 TEX WEST BURNSIDE\,TANKERNESS 48  £104.00 TEX UPPERFIELD\,ST OLA 50  £104.00 TEX PURTABRECK\,TOAB 48  £103.50 TEX BIGGINGS\,STENNESS 52  £102.00 SUF UPPER SCAPA\,ST OLA 46  £98.00 SUF NETHER OUSENESS\,WESTRAY 46  £96.50 TEX HOWAN\,DOUNBY 45  £96.50 SUF ROADSIDE\,ST OLA 45  £93.50 TEX Store Lambs averaged  £85.10 and topped at  £88.50 for 3 Texels from T & G Thomson\, Nether Ouseness\, Westray. OTHER STORE LAMBS POLE\,BURRAY  £80.00 BLACK Cast Sheep averaged  £90.33 for Ewes and  £122 for Rams.Cast Sheep topped at  £168 for a Texel Ewe from J & E Linklater\, Little Crofty\, Tankerness. OTHER CAST SHEEP LOWER CORNQUOY\,HOLM  £137.00 TEX LOWER CORNQUOY\,HOLM  £108.00 TEX QUANTERNESS\,ST OLA  £129.00 TEX QUANTERNESS\,ST OLA  £127.00 TEX QUANTERNESS\,ST OLA  £110.00 TEX BRAEHEAD\,STROMNESS  £126.00 TEX NISTIGAR\,WESTRAY  £122.00 TEX UPPER SCAPA\,ST OLA  £121.00 TEX UPPER SCAPA\,ST OLA  £111.00 TEX HOWAN\,DOUNBY  £116.00 TEX STONELEA\,STENNESS  £107.00 BELTEX VESTRAFIOLD\,SANDWICK  £105.00 CHEV ROADSIDE\,ST OLA  £100.00 TEX PURTABRECK\,TOAB  £96.00 TEX UPPERFIELD\,ST OLA  £90.00 TEX HOBBISTER\,ORPHIR  £80.00 LLEYN
URL:https://orkneymart.com/event/cattle-sheep-sales-46/
CATEGORIES:Sales Report
END:VEVENT
BEGIN:VEVENT
DTSTART;TZID=Europe/London:20210823T000000
DTEND;TZID=Europe/London:20210823T000000
DTSTAMP:20260424T020419
CREATED:20231020T093108Z
LAST-MODIFIED:20231027T105555Z
UID:10000776-1629676800-1629676800@orkneymart.com
SUMMARY:Cattle & Sheep Sales
DESCRIPTION:Forward for sale on Monday were 7 Prime Cattle\, 293 Prime Lambs\, 337 Store Lambs & 159 Cast Sheep. Prime Steers topped at 251 p/kg for a Charolais scaling 670 kilos from J & R Stanger\, South Seatter\, Sandwick realising  £1681 purchased by Williamsons. Prime Heifers topped at 256 p/kg for a Charolais scaling 620 kilos from J & R Stanger\, South Seatter\, Sandwick realising  £1587 purchased by Rendalls. OTHER PRIME HEIFERS HYVAL\,SANDWICK 540  £1\,328.40 246 CHARSKELDAY\,DOUNBY 545  £1\,248.05 229 SAL Prime Lambs averaged 219.1 p/kg (+3.5p) SQQ Lambs averaged 218.4 p/kg (+3.8p) Lambs per head averaged  £100.56 (+ £1.85) Prime Lambs topped at 233 p/kg for 5 Texels scaling 51 kilos from Watson\, Rennibister\, Kirkwall realising  £119 which was the top price per head. These were purchased by Craigies Butchers. OTHER LAMBS PER KILO COTLAND\,ST OLA 48  £111.50 232.3 TEXLITTLE CROFTY\,TANKERNESS 47  £109.00 231.9 BLEULITTLE CROFTY\,TANKERNESS 45  £103.50 230 BELTEXLITTLE CROFTY\,TANKERNESS 44  £100.50 228.4 BELTEXODINESS\,STRONSAY 46  £106.00 230.4 TEXODINESS\,STRONSAY 47  £108.00 229.8 TEXODINESS\,STRONSAY 44  £99.00 225 TEXBRANSTANE\,WESTRAY 47  £108.00 229.8 TEXBRANSTANE\,WESTRAY 47.5  £105.00 221.1 SUFBACKAKELDAY\,HOLM 46  £105.00 228.3 BELTEXBACKAKELDAY\,HOLM 45  £101.50 225.6 TEXMIDHOUSE\,HARRAY 48  £108.50 226 TEXRENNIBISTER\,KIRKWALL 49  £110.50 225.5 TEXRENNIBISTER\,KIRKWALL 46  £103.50 225 TEXBRETTOVALE\,DOUNBY 47  £105.50 224.5 TEXLOWER CORNQUOY\,HOLM 45  £101.00 224.4 TEXLOWER CORNQUOY\,HOLM 44  £98.50 223.9 TEXSMOOGARTH\,FIRTH 42  £93.50 222.6 TEXUPPER SCAPA\,ST OLA 47  £104.50 222.3 TEXFERSNESS\,EDAY 40  £88.50 221.3 CHEVHILLCREST\,QUOYLOO 48  £106.00 220.8 TEXKNOCKHALL\,SOUTH RONALDSAY 49.5  £109.00 220.2 SUFGRETNA GREEN\,WESTRAY 47  £103.50 220.2 SUFGRETNA GREEN\,WESTRAY 48  £105.00 218.8 TEXHOWE\,STROMNESS 50  £110.00 220 TEXHOWE\,STROMNESS 43  £94.50 219.8 TEXWESTFIELD\,STROMNESS 49  £107.50 219.4 SUFWESTFIELD\,STROMNESS 49  £105.50 215.3 SUFNEWHALL\,STROMNESS 44  £96.50 219.3 TEXLOCHSIDE\,WESTRAY 43  £93.50 217.4 HALF BBIGGINGS\,STENNESS 49  £106.50 217.3 TEXBIGGINGS\,STENNESS 48  £102.50 213.5 SUFMAESQUOY\,HARRAY 50  £106.50 213 TEXNETHERHILL\,TANKERNESS 41  £87.00 212.2 TEXNETHERHILL\,TANKERNESS 42  £89.00 211.9 TEXHEIMA\,DOUNBY ORKNEY 41  £86.50 211 TEXUPPER WORK\,ST OLA 46  £95.50 207.6 LLEYNLITTLEQUOY\,BURRAY 44  £89.00 202.3 TEXGRINDIGAR\,DEERNESS 50  £96.00 192 DUTCH OTHER LAMBS PER HEAD ODINESS\,STRONSAY 52  £116.00 TEX ODINESS\,STRONSAY 52  £112.00 TEX RENNIBISTER\,KIRKWALL 52  £113.50 TEX RENNIBISTER\,KIRKWALL 49  £110.50 TEX RENNIBISTER\,KIRKWALL 54  £110.00 TEX COTLAND\,ST OLA 48  £111.50 TEX HOWE\,STROMNESS 50  £110.00 TEX BRETTOVALE\,DOUNBY 52  £110.00 BLACK LITTLE CROFTY\,TANKERNESS 47  £109.00 BLEU KNOCKHALL\,SOUTH RONALDSAY 49.5  £109.00 SUF KNOCKHALL\,SOUTH RONALDSAY 53  £108.50 SUF MIDHOUSE\,HARRAY 48  £108.50 TEX BRANSTANE\,WESTRAY 47  £108.00 TEX HILLCREST\,QUOYLOO 52  £108.00 TEX HILLCREST\,QUOYLOO 48  £106.00 TEX WESTFIELD\,STROMNESS 49  £107.50 SUF MAESQUOY\,HARRAY 50  £106.50 TEX BIGGINGS\,STENNESS 49  £106.50 TEX UPPER WORK\,ST OLA 58  £105.50 LLEYN BACKAKELDAY\,HOLM 46  £105.00 BELTEX GRETNA GREEN\,WESTRAY 48  £105.00 TEX GRETNA GREEN\,WESTRAY 48  £104.50 SUF UPPER SCAPA\,ST OLA 47  £104.50 TEX LOWER CORNQUOY\,HOLM 45  £101.00 TEX NEWHALL\,STROMNESS 44  £96.50 TEX GRINDIGAR\,DEERNESS 50  £96.00 DUTCH SMOOGARTH\,FIRTH 42  £93.50 TEX LOCHSIDE\,WESTRAY 43  £93.50 HALF B NETHERHILL\,TANKERNESS 42  £89.00 TEX LITTLEQUOY\,BURRAY 44  £89.00 TEX FERSNESS\,EDAY 40  £88.50 CHEV HEIMA\,DOUNBY 41  £86.50 TEX Store Lambs averaged  £71.06 and topped at  £80 for 34 Texels from Littlequoy Farm\, Burray. OTHER STORE LAMBS FERSNESS\,EDAY  £79.50 CHEV LOWER CORNQUOY\,HOLM  £78.50 CHAR LOCHSIDE\,WESTRAY  £76.00 CHEV LOCHSIDE\,WESTRAY  £76.00 BLACK LOCHSIDE\,WESTRAY  £74.00 SUF GRINDIGAR\,DEERNESS  £74.00 DUTCH LITTLEQUOY\,BURRAY  £72.50 TEX LITTLEQUOY\,BURRAY  £72.00 TEX Cast Sheep averaged  £80.10 for Ewes and  £117.40 for Rams. Cast Sheep topped at  £154 for a Suffolk Ewe from G & S Heddle\, Westfield\, Stromness. OTHER CAST SHEEP ROSSMYRE\,FIRTH  £149.00 SUF ODINESS\,STRONSAY  £148.00 TEX BRAEHEAD\,ST MARGARET’S HOPE  £140.00 TEX BRAEHEAD\,ST MARGARET’S HOPE  £122.00 TEX BRAEHEAD\,ST MARGARET’S HOPE  £110.00 TEX BIGGINGS\,STENNESS  £139.00 TEX BIGGINGS\,STENNESS  £122.00 TEX TWATT FARM\,BIRSAY  £123.00 CHAR BRANSTANE\,WESTRAY  £121.00 TEX BRANSTANE\,WESTRAY  £112.00 SUF SMOOGARTH\,FIRTH  £120.00 TEX SMOOGARTH\,FIRTH  £115.00 TEX BANKS\,STRONSAY  £116.00 WHITE NETHERHILL\,TANKERNESS  £115.00 TEX RENNIBISTER\,KIRKWALL  £113.00 TEX RENNIBISTER\,KIRKWALL  £110.00 TEX MIDHOUSE\,HARRAY  £105.00 TEX HILLCREST\,QUOYLOO  £105.00 TEX BINSCARTH\,FINSTOWN  £99.00 SPEK BRETTOVALE\,DOUNBY  £99.00 TEX BRETTOVALE\,DOUNBY  £98.00 TEX LAGA\,EVIE  £98.00 ROMN BACKAKELDAY\,HOLM  £96.00 CHEV NISTHOUSE\,EVIE  £96.00 BELTEX GOREHOUSE\,ROUSAY  £94.00 TEX PURTABRECK\,TOAB  £92.00 TEX PURTABRECK\,TOAB  £90.00 TEX UPPER SCAPA\,ST OLA  £91.00 TEX NISTIGAR\,WESTRAY  £83.00 TEX NISTIGAR\,WESTRAY  £81.00 TEX LOCHSIDE\,WESTRAY  £80.00 CHEV STRATHEAST\,HOLM  £77.00 BLACKIE
URL:https://orkneymart.com/event/cattle-sheep-sales-45/
CATEGORIES:Sales Report
END:VEVENT
BEGIN:VEVENT
DTSTART;TZID=Europe/London:20210830T000000
DTEND;TZID=Europe/London:20210830T000000
DTSTAMP:20260424T020419
CREATED:20231020T093108Z
LAST-MODIFIED:20231027T105555Z
UID:10000775-1630281600-1630281600@orkneymart.com
SUMMARY:Cattle & Sheep Sales
DESCRIPTION:Forward for sale on Monday 30 August 2021 were 12 Prime Cattle\, 2 OTM Cattle\, 547 Prime Lambs\, 7 Store Lambs and 219 Cast Sheep. \nPrime Cattle sold to 254p/kg or a Charolais Heifer scaling 570 kilos from J & R Stanger\, South Seatter\, Sandwick\, realising  £1447.80 purchased by Donaldsons Butchers. \nOTHER PRIME STEERS \nSouth Seatter\, Sandwick 650 kilos  £1586 244p/kg \nOTHER PRIME HEIFERS \nWarthill\, Holm 705 kilos  £1635.60 232p/kg \nCampston\, Toab 570 kilos  £1339.50 235p/kg \nOTM Cattle sold to 163.2p/kg for a Shorthorn cow scaling 815 kilos from T & ES Gullion\, Warthill\, Holm realising  £1330. \nA Shorthorn Bull scaling 1135kg from Stevenson\, Bridgend\, Orphir sold at  £1260. \n  \nFollowing the cattle were 547 Prime Lambs\, 7 Store Lambs and 219 Cast Sheep. \nPrime Lambs averaged 223.9p/kg (+4.8p) \nSQQ Lambs averaged 225.5 p/kg (+7.1p) \nLambs per head averaged  £106.48 (+ £5.92) \nPrime lambs sold to 238.6p/kg for a pen of 4 Charolias X from Sinclair\, Appieteen\, Sandwick realising  £120.50 per head. \nOTHER LAMB PRICES \nBiggings\, Rendall 43.4kg  £103.50 238.5p/kg Tex \nNistigar\, Westray 44.1kg  £104.00 235.8p/kg Tex \nWithaquoy\, Holm 50kg  £117.50 235p/kg Tex \nBogie House\, Evie 38kg  £89.00  £234.2p/kg Blue Tex \nNearhouse\, Tankerness 44kg  £103.00 234.1 Char \nThe Smiddy\, Stronsay 44kg  £102.00 231.1p/kg Chev \nHeavier lambs sold to  £127 for a 60kg Texel from Norquay\, Braehead\, South Ronaldsay. \nOTHER PRICES PER HEAD \nTuquoy\, Westray 55kg  £120 Tex \nWithaquoy\, Holm 55kg  £119 Tex \nKnockhall\, South Ronaldsay 64kg  £119 Chev \nBiggings\, Rendall 51kg  £118 Tex \nNearhouse\, Tankerness 51.5kg  £118 Tex \n  \nCast Sheep averaged  £82.80 and sold to  £180 for a Texel Ewe from Feolquoy\, Evie. \nOTHER CAST SHEEP \nCharleston\, Papay Westray  £148 Tex \nClairness\, Sandwick  £149 Tex \nFeolquoy\, Evie  £144 Tex \nKnowe\, Sanday  £134 Tex \nVetquoy Farms\, Sandwick  £135  Suf
URL:https://orkneymart.com/event/cattle-sheep-sales-44/
CATEGORIES:Sales Report
END:VEVENT
END:VCALENDAR