BEGIN:VCALENDAR
VERSION:2.0
PRODID:-//Orkney Auction Mart - ECPv6.15.17.1//NONSGML v1.0//EN
CALSCALE:GREGORIAN
METHOD:PUBLISH
X-WR-CALNAME:Orkney Auction Mart
X-ORIGINAL-URL:https://orkneymart.com
X-WR-CALDESC:Events for Orkney Auction Mart
REFRESH-INTERVAL;VALUE=DURATION:PT1H
X-Robots-Tag:noindex
X-PUBLISHED-TTL:PT1H
BEGIN:VTIMEZONE
TZID:Europe/London
BEGIN:DAYLIGHT
TZOFFSETFROM:+0000
TZOFFSETTO:+0100
TZNAME:BST
DTSTART:20190331T010000
END:DAYLIGHT
BEGIN:STANDARD
TZOFFSETFROM:+0100
TZOFFSETTO:+0000
TZNAME:GMT
DTSTART:20191027T010000
END:STANDARD
BEGIN:DAYLIGHT
TZOFFSETFROM:+0000
TZOFFSETTO:+0100
TZNAME:BST
DTSTART:20200329T010000
END:DAYLIGHT
BEGIN:STANDARD
TZOFFSETFROM:+0100
TZOFFSETTO:+0000
TZNAME:GMT
DTSTART:20201025T010000
END:STANDARD
BEGIN:DAYLIGHT
TZOFFSETFROM:+0000
TZOFFSETTO:+0100
TZNAME:BST
DTSTART:20210328T010000
END:DAYLIGHT
BEGIN:STANDARD
TZOFFSETFROM:+0100
TZOFFSETTO:+0000
TZNAME:GMT
DTSTART:20211031T010000
END:STANDARD
END:VTIMEZONE
BEGIN:VEVENT
DTSTART;TZID=Europe/London:20201202T000000
DTEND;TZID=Europe/London:20201202T000000
DTSTAMP:20260424T110536
CREATED:20231020T093952Z
LAST-MODIFIED:20231027T105500Z
UID:10000820-1606867200-1606867200@orkneymart.com
SUMMARY:Sheep Sale
DESCRIPTION:Forward for sale on Wednesday were 944 Prime\, Store & Cast Sheep. A mixed show of Prime Lambs sold to the dearest rates so far this Autumn. Lighter\, well presented lambs worth a serious premium. Heavy Lambs harder to Cash but butcher lambs well bid for with the Butchers. Prime Lambs averaged 200.3 p/kg (+9.6p) SQQ Lambs averaged 206.6 p/kg (+10.5p) Per head Averaged  £91 (+ £2.92) 500 Prime Lambs topped at 222.2 p/kg for a Texel scaling 36 kilos from A Garriock\, Clairness\, Sandwick realising  £80. OTHER LAMBS PER KILO WITHAQUOY\,HOLM 42.5  £92.00 216.5 BELTEXWITHAQUOY\,HOLM 40  £85.50 213.8 TEXWITHAQUOY\,HOLM 45  £95.00 211.1 TEXCOPENAGEO\,TANKERNESS 44.5  £95.00 213.5 TEXCLAIRNESS\,SANDWICK 44.5  £95.00 213.5 TEXCLAIRNESS\,SANDWICK 45  £96.00 213.3 TEXHALL OF GORN\,HOLM 39  £83.00 212.8 TEXSOUTH HOUSE\,TANKERNESS 40  £84.50 211.3 TEXSOUTH HOUSE\,TANKERNESS 41  £82.00 200 CHEVVINKWIN\,EVIE 45  £95.00 211.1 TEXVINKWIN\,EVIE 40  £82.50 206.3 TEXSOUTH FEA\,ORPHIR 44  £92.50 210.2 TEXSOUTH FEA\,ORPHIR 49  £101.00 206.1 TEXBRETTOBRECK\,STROMNESS 42.5  £89.00 209.4 TEXBRETTOBRECK\,STROMNESS 41  £85.00 207.3 CHEVBRETTOBRECK\,STROMNESS 46  £95.00 206.5 TEXHOBBISTER\,ORPHIR 45  £94.00 208.9 LLEYNHOBBISTER\,ORPHIR 44  £91.00 206.8 LLEYNCOWESHOUSE\,STRONSAY 43.5  £90.50 208 TEXHEADS\,SOUTH RONALDSAY 44.5  £92.50 207.9 CHEVROADSIDE\,ST OLA 38  £79.00 207.9 TEXKIERFIOLD\,SANDWICK 38  £79.00 207.9 CHARKIERFIOLD\,SANDWICK 40.5  £84.00 207.4 CHARNORTHBIGGING\,DOUNBY 44.5  £92.00 206.7 SPEKWEST BURNSIDE\,TANKERNESS 40  £82.50 206.3 CHARWEST BURNSIDE\,TANKERNESS 41  £83.00 202.4 SUFMILLBRAE\,SANDAY 42  £86.50 206 TEXTUQUOY\,WESTRAY 42  £86.50 206 TEXBENLAW\,EVIE 45.5  £93.00 204.4 CHARSEBAY\,TANKERNESS 46  £93.50 203.3 TEXAPPIEHOUSE\,STENNESS 47  £95.50 203.2 CHARAPPIEHOUSE\,STENNESS 45  £91.00 202.2 CHARWESTFIELD\,STROMNESS 47  £94.50 201.1 SUFUPPER WORK\,ST OLA 40  £80.50 201.3 LLEYNUPPER WORK\,ST OLA 45.5  £90.00 197.8 LLEYNHUAN\,SANDWICK 50  £98.50 197 TEXHUAN\,SANDWICK 49  £96.50 196.9 TEXSOUTH SEATTER\,SANDWICK 48  £94.50 196.9 SUFVETQUOY\,TWATT 50  £97.00 194 CHEVBRIARLEA\,STRONSAY 47  £90.50 192.6 ZWARMILLHOUSE\,DEERNESS 47  £90.00 191.5 TEX Top price per head was  £105 for a pen of 4 Texels scaling 54 kilos from W S Garson\, Huan\, Sandwick purchased by E Flett Butchers. OTHER LAMBS PER HEAD SOUTH FEA\,ORPHIR 49  £101.00 TEX HUAN\,SANDWICK 53  £101.00 TEX HUAN\,SANDWICK 52  £100.50 TEX HUAN\,SANDWICK 50  £98.50 TEX APPIEHOUSE\,STENNESS 51  £100.00 CHAR APPIEHOUSE\,STENNESS 52  £99.00 CHAR APPIEHOUSE\,STENNESS 49  £97.50 CHAR VETQUOY\,TWATT 50  £97.00 CHEV WESTFIELD\,STROMNESS 51  £96.00 SUF CLAIRNESS\,SANDWICK 45  £96.00 TEX CLAIRNESS\,SANDWICK 44.5  £95.00 TEX WITHAQUOY\,HOLM 46  £95.50 TEX WITHAQUOY\,HOLM 45  £95.00 TEX SOUTH SEATTER\,SANDWICK 50  £95.50 TEX SOUTH SEATTER\,SANDWICK 48  £94.50 SUF COPENAGEO\,TANKERNESS 44.5  £95.00 TEX VINKWIN\,EVIE 45  £95.00 TEX BRETTOBRECK\,STROMNESS 46  £95.00 TEX BRETTOBRECK\,STROMNESS 46  £94.00 TEX SEBAY\,TANKERNESS 50  £94.50 CHEV SEBAY\,TANKERNESS 46  £93.50 TEX HOBBISTER\,ORPHIR 49.5  £94.00 LLEYN BENLAW\,EVIE 45.5  £93.00 CHAR HEADS\,SOTH RONALDSAY 44.5  £92.50 CHEV NORTHBIGGING\,DOUNBY 44.5  £92.00 SPEK COWESHOUSE\,STRONSAY 43.5  £90.50 TEX BRIARLEA\,STRONSAY 47  £90.50 ZWAR MILLHOUSE\,DEERNESS 47  £90.00 TEX MILLHOUSE\,DEERNESS 47.5  £90.00 TEX UPPER WORK\,ST OLA 45.5  £90.00 LLEYN Store Lambs were also the dearest we’ve seen all season averaging an impressive  £70.08 with plenty demand from all buyers. 399 Stores topped at  £86.50 for a pen of 8 Texels from M Scholes\, Hall of Gorn\, Holm. OTHER STORES VINKWIN\,EVIE  £83.00 TEX LINKSNESS\,STRONSAY  £82.00 TEX LINKSNESS\,STRONSAY  £79.00 TEX SWANNAY FARM\,BY EVIE  £80.50 CHEV SWANNAY FARM\,BY EVIE  £80.00 SUF COWESHOUSE\,STRONSAY  £80.50 TEX COWESHOUSE\,STRONSAY  £78.50 SUF LOWER BU\,HOLM  £80.00 TEX WEST BURNSIDE\,TANKERNESS  £80.00 CHAR WEST BURNSIDE\,TANKERNESS  £78.00 CHAR GRIND\,STRONSAY  £79.50 SUF VETQUOY\,TWATT  £79.00 SPEK MILLHOUSE\,DEERNESS  £79.00 MULE HALL OF GORN\,HOLM  £79.00 TEX HALL OF GORN\,HOLM  £77.00 TEX BRIARLEA\,STRONSAY  £76.00 ZWAR ROADSIDE\,ST OLA  £74.00 TEX MILLBRAE\,SANDAY  £73.50 CHEV ONZIEBUST\,EGILSAY  £72.50 SUF BLACKHALL\,ST OLA  £70.50 SPEK UPPER WORK\,ST OLA  £70.00 LLEYN LITTLE WARDS\,LONGHOPE  £60.00 ABER A small show of Cast Sheep sold well accordingly with mostly thinner\, feeding ewes forward. 45 Ewes topped at  £118 for a Texel Ewe from W S Garson\, Huan\, Sandwick. OTHER CAST SHEEP HUAN\,SANDWICK  £110.00 SUF HUAN\,SANDWICK  £98.00 CHAR HUAN\,SANDWICK  £95.00 TEX VETQUOY\,TWATT  £106.00 TEX DAWN COTTAGE\,HOLM  £105.00 TEX SOUTH HOUSE\,TANKERNESS  £90.00 TEX SOUTH HOUSE\,TANKERNESS  £86.00 TEX SALWICK\,LONGHOPE  £80.00 LLEYN MOAN\,HARRAY  £79.00 TEX TUQUOY\,WESTRAY  £60.00 SUF
URL:https://orkneymart.com/event/sheep-sale-56/
CATEGORIES:Sales Report
END:VEVENT
BEGIN:VEVENT
DTSTART;TZID=Europe/London:20201208T000000
DTEND;TZID=Europe/London:20201208T000000
DTSTAMP:20260424T110536
CREATED:20231020T093951Z
LAST-MODIFIED:20231027T105500Z
UID:10000818-1607385600-1607385600@orkneymart.com
SUMMARY:Sheep Sale
DESCRIPTION:Forward for sale on Tuesday were 1082 Prime\, Store & Cast Sheep. Prime Lambs were slightly easier this week as a mixture of wet lambs didn”t look their best. Light well presented lambs selling to a premium price but heavy Lambs hardest to cash. Prime Lambs averaged 193.3 p/kg (-7p) SQQ Lambs averaged 198.8 p/kg (-7.8p) Prime per head averaged  £86.40 (- £4.60) 730 Lambs topped at an impressive 221.3 p/kg for a pen of 4 Texels scaling 37.5 kilos from G Tait\, Quoykea\, Toab realising  £83. OTHER LAMBS PER KILO BRYAMEADOW\,TWATT 46  £97.00 210.9 BELTEXBRYAMEADOW\,TWATT 47.5  £96.50 203.2 BELTEXQUOYMORHOUSE\,SHAPINSAY 42  £88.50 210.7 TEXQUOYMORHOUSE\,SHAPINSAY 43  £90.00 209.3 TEXQUOYKEA\,TOAB 39  £82.00 210.3 TEXHEWAN\,SHAPINSAY 45  £94.00 208.9 TEXCOTT FARM\,RENDALL 40  £83.50 208.8 CHARRENNIBISTER\,KIRKWALL 40  £83.00 207.5 TEXRENNIBISTER\,KIRKWALL 39  £80.50 206.4 TEXQUHOLMSLIE\,STROMNESS 45  £93.00 206.7 TEXQUHOLMSLIE\,STROMNESS 45  £92.00 204.4 TEXBRETTOBRECK\,STROMNESS 40  £82.00 205 TEXBRETTOBRECK\,STROMNESS 39  £78.50 201.3 TEXMILLHOUSE\,DEERNESS 47  £95.50 203.2 TEXMILLHOUSE\,DEERNESS 46  £91.50 198.9 TEXWESTSHORE\,RENDALL 40.5  £82.00 202.5 TEXSTEMBISTER\,TOAB 42  £85.00 202.4 TEXSTEMBISTER\,TOAB 45.5  £91.00 200 TEXPURTABRECK\,TOAB 42  £85.00 202.4 TEXPURTABRECK\,TOAB 41  £82.00 200 TEXST CLAIR\,HOLM 44  £89.00 202.3 CHEVROSEBANK\,DEERNESS 43  £87.00 202.3 TEXCLAIRNESS\,SANDWICK 45.5  £92.00 202.2 TEXBRECK-MYRES\,SHAPINSAY 42  £84.00 200 SUFFEA\,ORPHIR 42  £84.00 200 TEXCOTLAND\,ST OLA 45  £89.50 198.9 TEXNEARHOUSE\,TANKERNESS 48  £95.00 197.9 TEXWARTHILL\,HOLM 44.5  £88.00 197.8 TEXBRIARLEA\,HARRAY 45  £88.50 196.7 WHITEBRIARLEA\,HARRAY 45  £86.50 192.2 WHITESWANNAY FARM\,BY EVIE 43  £84.50 196.5 CHEVSWANNAY FARM\,BY EVIE 42  £82.50 196.4 SUFROADSIDE\,ST OLA 40  £78.00 195 TEXYARPHA\,ORPHIR 43.5  £84.50 194.3 CHEVYARPHA\,ORPHIR 46.5  £89.50 192.5 CHEVNESS\,SHAPINSAY 40.5  £78.50 193.8 TEXBEAFIELD\,SANDAY 44  £84.50 192 WHITEBEAFIELD\,SANDAY 46  £87.50 190.2 SUFHUAN\,SANDWICK 48  £92.00 191.7 TEXFEOLQUOY\,STROMNESS 44  £83.50 189.8 CHEVFEOLQUOY\,STROMNESS 47  £89.00 189.4 CHEVKNOCKHALL\,SOUTH RONALDSAY 50  £91.00 182 SUFREDLAND\,STROMNESS 52  £91.50 176 TEXBRIARLEA\,STRONSAY 50  £84.00 168 ZWAR Top price per head was  £99 for a pair of Texels scaling 51 kilos from J M Lennie\, Nearhouse\, Tankerness. OTHER LAMBS PER HEAD HEWAN\,SHAPINSAY 49.5  £97.00 TEX HEWAN\,SHAPINSAY 53  £97.00 TEX BRYAMEADOW\,TWATT 46  £97.00 BELTEX BRYAMEADOW\,TWATT 47.5  £96.50 BELTEX NEARHOUSE\,TANKERNESS 50  £95.50 TEX NEARHOUSE\,TANKERNESS 48  £95.00 TEX MILLHOUSE\,DEERNESS 47  £95.50 TEX MILLHOUSE\,DEERNESS 46  £91.50 TEX REDLAND\,STROMNESS 55  £95.00 TEX QUHOLMSLIE\,STROMNESS 49  £93.00 TEX QUHOLMSLIE\,STROMNESS 45  £92.00 TEX COTT\,RENDALL 50  £93.00 CHAR COTT\,RENDALL 53  £90.50 CHAR BRIARLEA\,HARRAY 51  £92.00 TEX CLAIRNESS\,SANDWICK 45.5  £92.00 TEX HUAN\,SANDWICK 48  £92.00 TEX HUAN\,SANDWICK 48  £91.00 SPEK KNOCKHALL\,SOUTH RONALDSAY 50  £91.00 SUF YARPHA\,ORPHIR 50.5  £91.00 CHEV STEMBISTER\,TOAB 45.5  £91.00 TEX NESS\,SHAPINSAY 50  £90.00 BLACK QUOYMORHOUSE\,SHAPINSAY 43  £90.00 TEX WARTHILL\,HOLM 50  £89.50 BLACK COTLAND\,ST OLA 45  £89.50 TEX FEOLQUOY\,STROMNESS 47  £89.00 CHEV ST CLAIR\,HOLM 46  £89.00 CHEV BEAFIELD\,SANDAY 46  £87.50 SUF BRETTOBRECK\,STROMNESS 45  £87.00 BLACK ROSEBANK\,DEERNESS 43  £87.00 TEX Store Lambs were dearer overall this week averaging  £71.55 (+ £1.47). 257 Lambs topped at an impressive  £84.50 for a pair of Texels from J & E Foulis\, Upperfield\, St Ola. OTHER STORE LAMBS UPPERFIELD\,ST OLA  £82.00 TEX WARTHILL\,HOLM  £79.50 TEX COTLAND\,ST OLA  £79.00 TEX HOUSEGARTH\,QUOYLOO  £79.00 SUF SUNNYBANK\,ST OLA  £79.00 SUF SUNNYBANK\,ST OLA  £75.00 TEX INKERMAN\,SANDAY  £76.50 TEX KNOCKHALL\,SOUTH RONALDSAY  £76.50 SUF OAKLEA\,ST OLA  £75.00 TEX WESTSHORE\,RENDALL  £74.50 TEX WESTSHORE\,RENDALL  £74.50 CHEV HUIP\,STRONSAY  £74.50 TEX SWANNAY FARM\,BY EVIE  £74.50 CHEV SWANNAY FARM\,BY EVIE  £74.00 CHEV BRETTOBRECK\,STROMNESS  £74.00 TEX ROADSIDE\,ST OLA  £74.00 TEX BRECK-MYRES\,SHAPINSAY  £73.50 SUF QUOYKEA\,TOAB  £73.50 TEX COTT FARM\,RENDALL  £70.00 CHAR BRECK COTTAGE\,BIRSAY  £69.00 TEX BRIARLEA\,STRONSAY  £61.00 ZWAR A great quality of Cast Sheep were forward and in high demand\, leaving averages we’ve rarely seen. Ewes averaged  £81.02. Rams averaged  £83.50. 95 Cast Sheep topped at  £140 for a Texel Ewe from T & J Leslie\, Quoymorhouse\, Shapinsay. OTHER CAST SHEEP NEARHOUSE\,TANKERNESS  £128.00 TEX NEARHOUSE\,TANKERNESS  £122.00 TEX NEARHOUSE\,TANKERNESS  £118.00 TEX OLD HALL\,STROMNESS  £110.00 TEX QUOYDANDY\,ST OLA  £103.00 TEX QUOYMORHOUSE\,SHAPINSAY  £101.00 TEX REDLAND\,STROMNESS  £100.00 TEX FEOLQUOY\,STROMNESS  £100.00 TEX FEOLQUOY\,STROMNESS  £96.00 TEX COTLAND\,ST OLA  £91.00 TEX HEWAN\,SHAPINSAY  £88.00 TEX RENNIBISTER\,KIRKWALL  £88.00 TEX NESS\,SHAPINSAY  £83.00 BLACK COTT FARM\,RENDALL  £76.00 CHEV BRECK COTTAGE\,BIRSAY  £75.00 SUF HAQUOY\,SHAPINSAY  £72.00 TEX ROSEBANK\,DEERNESS  £72.00 TEX BRIARLEA\,STRONSAY  £65.00 ZWAR WARTHILL\,HOLM  £58.00 TEX OAKLEA\,ST OLA  £55.00 TEX
URL:https://orkneymart.com/event/sheep-sale-55/
CATEGORIES:Sales Report
END:VEVENT
BEGIN:VEVENT
DTSTART;TZID=Europe/London:20201216T000000
DTEND;TZID=Europe/London:20201216T000000
DTSTAMP:20260424T110536
CREATED:20231020T093751Z
LAST-MODIFIED:20231027T105500Z
UID:10000816-1608076800-1608076800@orkneymart.com
SUMMARY:Sheep Sale
DESCRIPTION:Forward for sale on Wednesday were 1030 Prime\, Store & Cast Sheep. Prime Lambs were a more mixed show this week with leaner lambs starting to slip through. Light quality lambs still a great trade but heavier lambs hard to cash. Prime Lambs Averaged 186.3 p/kg (-7p) SQQ Lambs Averaged 190.5 p/kg (-8.3p) Lambs per head Averaged  £83.62 (- £2.78) 564 Prime Lambs topped at 209.1 p/kg for a pen of 5 Beltex scaling 44 kilos from Garson Farms\, Sandwick realising  £92. OTHER LAMBS PER KILO WITHAQUOY\,HOLM 41  £83.00 202.4 TEXTWATT FARM\,BIRSAY 37  £73.50 198.6 LLEYNTWATT FARM\,BIRSAY 40  £77.50 193.8 LLEYNSKAILL\,ORPHIR 40.5  £80.00 198 TEXMOAN\,HARRAY 41  £81.00 197.6 TEXEASTSIDE\,TWATT 38  £75.00 197.4 TEXEASTSIDE\,TWATT 48  £93.00 193.8 TEXROSEBANK\,TWATT 44  £86.50 196.6 CHARCASTLE\,STROMNESS 41.5  £81.50 196.4 TEXCASTLE\,STROMNESS 47  £89.50 190.4 TEXROSEMOUNT\,SANDWICK 40  £78.50 196.3 TEXROSEMOUNT\,SANDWICK 42  £81.50 194 TEXGARSON\,SANDWICK 48  £94.00 195.8 TEXLOWER CORNQUOY\,HOLM 36  £70.50 195.8 TEXLOWER CORNQUOY\,HOLM 42  £81.00 192.9 TEXNORTON\,DOUNBY 45  £88.00 195.6 TEXNORTON\,DOUNBY 41  £79.00 192.7 TEXSANDSIDE\,GRAEMSAY 45  £88.00 195.6 TEXUPPER SCAPA\,ST OLA 44  £86.00 195.5 CHARUPPER SCAPA\,ST OLA 38  £73.50 193.4 BELTEXVIRGINIA\,STENNESS 48  £93.50 194.8 TEXHOBBISTER\,ORPHIR 43  £83.50 194.2 LLEYNHOBBISTER\,ORPHIR 41  £78.50 191.5 LLEYN1 BOGIE HOUSES\,EVIE 39  £75.00 192.3 CHEVNORTHBIGGING\,DOUNBY 40  £76.50 191.3 CHARMIRKADY\,DEERNESS 48  £92.00 191.7 TEXMIRKADY\,DEERNESS 50  £94.00 188 SUFSOUTH SEATTER\,SANDWICK 49  £92.50 188.8 TEXYARPHA\,ORPHIR 40  £75.50 188.8 CHEVSUNNYBANK\,ST OLA 42  £78.00 185.7 TEXNETHERHILL\,TANKERNESS 38.5  £71.50 185.7 TEXNETHERHILL\,TANKERNESS 50  £92.00 184 TEXDRYDALE\,STROMNESS 50  £92.50 185 TEXDRYDALE\,STROMNESS 49  £89.50 182.7 TEXFILLETS\,GRAEMSAY 48  £88.50 184.4 TEXAPPIEHOUSE\,STENNESS 49  £89.50 182.7 CHARCOTTISCARTH\,RENDALL 46  £84.00 182.6 SUFVELTIGAR\,TANKERNESS 45  £82.00 182.2 BLACKIEVELTIGAR\,TANKERNESS 46.5  £84.00 180.6 TEX Top price per head was  £98 for a Texel scaling 54 kilos from F & T Moar\, Withaquoy\, Holm. OTHER LAMBS PER HEAD VIRGINIA\,STENNESS 51  £95.50 TEX VIRGINIA\,STENNESS 48  £93.50 TEX MIRKADY\,DEERNESS 50  £94.00 SUF MIRKADY\,DEERNESS 51  £94.00 TEX GARSON\,SANDWICK 48  £94.00 TEX GARSON\,SANDWICK 44  £92.00 BELTEX EASTSIDE\,TWATT 48  £93.00 TEX LOWER CORNQUOY\,HOLM 49  £93.00 TEX SOUTH SEATTER\,SANDWICK 49  £92.50 TEX DRYDALE\,STROMNESS 50  £92.50 TEX DRYDALE\,STROMNESS 51  £90.00 TEX NETHERHILL\,TANKERNESS 50  £92.00 TEX HOBBISTER\,ORPHIR 54  £91.00 LLEYN APPIEHOUSE\,STENNESS 52  £90.50 CHAR APPIEHOUSE\,STENNESS 49  £89.50 CHAR CASTLE\,STROMNESS 47  £89.50 TEX HYVAL COTTAGE\,DOUNBY 50  £89.00 TEX FILLETS\,GRAEMSAY 48  £88.50 TEX SANDSIDE\,GRAEMSAY 45  £88.00 TEX NORTON\,DOUNBY 48  £88.00 SUF NORTON\,DOUNBY 45  £88.00 TEX YARPHA\,ORPHIR 48.5  £88.00 TEX UPPER SCAPA\,ST OLA 46  £87.00 TEX ROSEBANK\,TWATT 44  £86.50 CHAR VELTIGAR\,TANKERNESS 49  £86.50 BLACKIE VELTIGAR\,TANKERNESS 48  £86.00 TEX COTTISCARTH\,RENDALL 46  £84.00 SUF ROSEMOUNT\,SANDWICK 42  £81.50 TEX MOAN\,HARRAY 41  £81.00 TEX SKAILL\,ORPHIR 40.5  £80.00 TEX NORTHBANK\,ST OLA 52  £80.00 ZWAR Store Lambs were a great trade despite the more mixed show forward. Short keep lambs still a phenomenal price 368 Store Lambs topped at  £85 for a pair of Texels from G & M Sinclair\, Moan\, Harray. OTHER STORE LAMBS GARSON\,SANDWICK  £80.00 TEX MOAN\,HARRAY  £79.50 TEX MOAN\,HARRAY  £78.00 TEX HAQUOY\,SHAPINSAY  £79.50 TEX HAQUOY\,SHAPINSAY  £78.00 TEX FILLETS\,GRAEMSAY  £78.50 TEX FILLETS\,GRAEMSAY  £68.50 ZWAR FILLETS\,GRAEMSAY  £68.00 TEX WINDYWALLS\,GRAEMSAY  £70.00 TEX NEWHALL\,STROMNESS  £68.50 TEX NEWHALL\,STROMNESS  £65.00 TEX ROSEMOUNT\,SANDWICK  £67.00 TEX SUNNYBANK\,ST OLA  £67.00 SUF SUNNYBANK\,ST OLA  £66.50 TEX COTTISCARTH\,RENDALL  £65.00 SUF BRETTOBRECK\,STROMNESS  £65.00 SUF COTTISCARTH\,RENDALL  £63.50 TEX OAKLEA\,ST OLA  £63.50 TEX QUOYKEA\,TOAB  £61.50 TEX UPPER HEADS\,SOUTH RONALDSAY  £60.50 CHEV Cast Sheep were not the same show nor price as last week but sold well. 99 Cast Sheep topped at  £110 for a Charollais Ewe from H & M Thomson\, Heathercow\, Eday. OTHER CAST SHEEP NORTON\,DOUNBY  £108.00 TEX NORTON\,DOUNBY  £104.00 TEX MIRKADY\,DEERNESS  £108.00 TEX MIRKADY\,DEERNESS  £93.00 TEX COTTISCARTH\,RENDALL  £103.00 TEX COTTISCARTH\,RENDALL  £96.00 TEX COTTISCARTH\,RENDALL  £90.00 TEX NETHERHILL\,TANKERNESS  £100.00 TEX HEATHERCOW\,EDAY  £92.00 SUF HEATHERCOW\,EDAY  £88.00 CHAR UPPER SCAPA\,ST OLA  £90.00 TEX HEWING\,FIRTH  £90.00 TEX HEWING\,FIRTH  £82.00 TEX APPIEHOUSE\,STENNESS  £89.00 CHEV NEWHALL\,STROMNESS  £85.00 MULE LOWER CORNQUOY\,HOLM  £84.00 TEX GARSON\,SANDWICK  £80.00 CHEV WITHAQUOY\,HOLM  £74.00 ZWAR SULTIGEO\,STENNESS  £73.00 CHEV BAYVIEW FARM\,SANDAY  £73.00 SUF LOOKOUT\,BURRAY  £70.00 SUF BEAQUOY\,DOUNBY  £65.00 CHEV UPPER HEADS\,SOUTH RONALDSAY  £55.00 EASY
URL:https://orkneymart.com/event/sheep-sale-54/
CATEGORIES:Sales Report
END:VEVENT
BEGIN:VEVENT
DTSTART;TZID=Europe/London:20201221T000000
DTEND;TZID=Europe/London:20201221T000000
DTSTAMP:20260424T110536
CREATED:20231020T093751Z
LAST-MODIFIED:20231027T105554Z
UID:10000815-1608508800-1608508800@orkneymart.com
SUMMARY:Cattle & Sheep Sales
DESCRIPTION:Forward for sale on Monday were 9 Prime Cattle\, 9 Store Cattle & 5 OTM Cattle. Prime Cattle sold to 235 p/kg for a Limousin Heifer scaling 570 kilos from J & R Stanger\, South Seatter\, Sandwick realising  £1339.50 purchased by E Flett. OTHER PRIME CATTLE SOUTH SEATTER\,SANDWCIK 545  £1\,242.00 228 CHHALL OF HERSTON\,SOUTH RONALDSAY 555  £1\,198.00 216 CHWHITEHALL\, STRONSAY 525  £1\,123.00 214 LIMMIDBIGGING\,TOAB 675  £1\,417.00 210 SAL A small consignment of Non-Assured Store cattle was forward from  A Ritch\, Fillets\, Graemsay averaging 209.6p/kg. Topping the Steers was a Charolais scaling 355 kilos at 223.9 p/kg realising  £795. Heifers topped at 204.5 p/kg for 3 Angus scaling 396 kilos realising  £810. 5 thinner\, feeding OTM Cattle topped at 163.6 p/kg for an Aberdeen Angus scaling 550 kilos from A Ritch\, Fillets\, Graemsay realising  £900. Following the Cattle were 296 Prime\, Store & Cast Sheep. Prime Lambs were scares due to the current uncertainty with our UK borders to Europe. However\, the small number of sellers benefited with trade being dearer on the week. Small export types a great trade. Heavy lambs slightly dearer this week but still hard to cash. Prime Lambs averaged 189.6 p/kg (+ 3.3p) SQQ Lambs averaged 192 p/kg (+1.5p) Lambs per head averaged  £80.04 (-  £3.58) 229 Prime Lambs topped at 204.2 p/kg for a pair of Texels scaling 47 kilos from Tommy Linklater\, Stonelea\, Stenness realising  £96\, also Top price per head. OTHER LAMBS PER KILO HALL OF GORN\,HOLM 39  £78.00 200 TEXHALL OF GORN\,HOLM 37  £73.00 197.3 TEXHALL OF GORN\,HOLM 38  £74.50 196.1 TEXCHARLESTON\,PAPA WESTRAY 41.5  £82.00 198 TEXCHARLESTON\,PAPA WESTRAY 43  £85.00 197.7 TEXSERRIGAR\,SOUTH RONALDSAY 41  £81.00 198 TEXSERRIGAR\,SOUTH RONALDSAY 39  £76.00 194.9 TEXSEBAY\,TANKERNESS 42  £83.00 197.6 TEXSEBAY\,TANKERNESS 43.5  £84.50 194.3 TEXSEBAY\,TANKERNESS 43  £83.50 194.2 TEXHOLLAND\,PAPA WESTRAY 40  £79.00 197.5 TEXHOLLAND\,PAPA WESTRAY 40  £76.00 190 TEXDALE\,STRONSAY 42  £82.00 195.2 TEXDALE\,STRONSAY 44  £85.50 194.3 TEXMOA\,STENNESS 45.5  £88.50 194.5 TEXSWANNAY FARM\,BY EVIE 40.5  £76.50 188.9 SUFSWANNAY FARM\,BY EVIE 40  £75.50 188.8 CHEV OTHER LAMBS PER HEAD MOA\,STENNESS 54  £95.00 TEX MOA\,STENNESS 51  £95.00 TEX HOLLAND\,SOUTH RONALDSAY 65  £95.00 SUF HOLLAND\,SOUTH RONALDSAY 74  £94.00 SUF SEBAY\,TANKERNESS 47.5  £90.50 CHEV SEBAY\,TANKERNESS 48  £90.00 SUF DALE\,STRONSAY 44  £85.50 TEX CHARLESTON\,PAPA WESTRAY 43  £85.00 TEX SERRIGAR\,SOUTH RONALDSAY 43  £83.00 CHEV A very small selection of 49 thinner\, longer keep store lambs were forward topping at  £70 for a pair of Suffolks from K & K Morgan\, Swannay Farm\, Birsay. OTHER STORE LAMBS SWANNAY FARM\,BIRSAY  £66.00 CHEV SWANNAY FARM\,BIRSAY  £62.00 CHEV DALE\,STRONSAY  £65.00 TEX NIGLEY\,TOAB  £60.00 TEX NETHERSTOVE\,SANDWICK  £48.00 CHEV A small show of 18 Cast Sheep were forward and in demand averaging an impressive  £81.33 topping at  £130 for a Texel from McGill\, Moa\, Stenness. OTHER CAST SHEEP HALL OF GORN\,HOLM  £112.00 TEX HALL OF GORN\,HOLM  £88.00 TEX HOLLAND\,PAPAY  £111.00 TEX APPIEHOUSE\,STENNESS  £91.00 CH APPIEHOUSE\,STENNESS  £85.00 CH APPIEHOUSE\,STENNESS  £82.00 SUFF We would like to thank all our customers both near and far for their continued support and loyalty throughout the year. Our next sale is All classes of Cattle and Sheep on Monday 4th January. Until then\, we wish you a Merry Christmas and a happy\, healthy\, prosperous new year.
URL:https://orkneymart.com/event/cattle-sheep-sales-64/
CATEGORIES:Sales Report
END:VEVENT
END:VCALENDAR