BEGIN:VCALENDAR
VERSION:2.0
PRODID:-//Orkney Auction Mart - ECPv6.15.17.1//NONSGML v1.0//EN
CALSCALE:GREGORIAN
METHOD:PUBLISH
X-ORIGINAL-URL:https://orkneymart.com
X-WR-CALDESC:Events for Orkney Auction Mart
REFRESH-INTERVAL;VALUE=DURATION:PT1H
X-Robots-Tag:noindex
X-PUBLISHED-TTL:PT1H
BEGIN:VTIMEZONE
TZID:Europe/London
BEGIN:DAYLIGHT
TZOFFSETFROM:+0000
TZOFFSETTO:+0100
TZNAME:BST
DTSTART:20180325T010000
END:DAYLIGHT
BEGIN:STANDARD
TZOFFSETFROM:+0100
TZOFFSETTO:+0000
TZNAME:GMT
DTSTART:20181028T010000
END:STANDARD
BEGIN:DAYLIGHT
TZOFFSETFROM:+0000
TZOFFSETTO:+0100
TZNAME:BST
DTSTART:20190331T010000
END:DAYLIGHT
BEGIN:STANDARD
TZOFFSETFROM:+0100
TZOFFSETTO:+0000
TZNAME:GMT
DTSTART:20191027T010000
END:STANDARD
BEGIN:DAYLIGHT
TZOFFSETFROM:+0000
TZOFFSETTO:+0100
TZNAME:BST
DTSTART:20200329T010000
END:DAYLIGHT
BEGIN:STANDARD
TZOFFSETFROM:+0100
TZOFFSETTO:+0000
TZNAME:GMT
DTSTART:20201025T010000
END:STANDARD
END:VTIMEZONE
BEGIN:VEVENT
DTSTART;TZID=Europe/London:20190904T000000
DTEND;TZID=Europe/London:20190904T000000
DTSTAMP:20260425T041551
CREATED:20231020T100456Z
LAST-MODIFIED:20231027T105435Z
UID:10000933-1567555200-1567555200@orkneymart.com
SUMMARY:Sheep Sale
DESCRIPTION:FORWARD FOR SALE ON WEDNESDAY WERE 506 PRIME LAMBS 22 STORE LAMBS AND 135 CAST SHEEP PRIME LAMBS SOLD TO 180 P/KG FOR 2 TEXELS SCALING 50 KILOS FROM FIRM OF J LESLIE ODINSTONE SHAPINSAY REALISING  £90 THIS WAS ALSO THE TOP PRICE PER HEAD OTHER PRIME LAMB PRICES BIGGINGS\,STENNESS 50  £74.80 149.6 TEXBIGGINGS\,STENNESS 54.5  £73.20 134.3 CHEVBINSCARTH\,FINSTOWN 44.5  £69.00 155.1 SUFBINSCARTH \,FINSTOWN 42  £64.50 153.6 LLEYNSUNNYBANK\,ST OLA 56  £77.00 137.5 TEXSUNNYBANK\,ST OLA 55  £76.80 139.6 TEXSTONEHALL\,FIRTH 58  £75.00 129.3 SUFSTONEHALL\,FIRTH 48.5  £73.00 150.5 SUFSTONEHALL\,FIRTH 48.5  £72.20 149 SUFCOLLIGARTH\,SANDAY 58  £80.00 137.9 TEXCOLLIGARTH\,SANDAY 52  £74.20 142.7 CHEVCOLLIGARTH\,SANDAY 52  £70.80 136.2 CHEVLAGA\,EVIE 47  £73.50 156.4 SUFLAGA\,EVIE 45  £72.50 161.1 TEXUPPER BERRYHILL\,ST OLA 43.5  £72.00 165.5 TEXTHE KNOWE\,SANDAY 52  £75.50 145.2 TEXTHE KNOWE\,SANDAY 48  £74.00 154.2 TEXTHE KNOWE\,SANDAY 50  £73.80 147.6 SUFTHE KNOWE\,SANDAY 48  £72.80 151.7 SUFODINESS\,STRONSAY 49.5  £77.00 155.6 TEXODINESS\,STRONSAY 49  £74.80 152.7 TEX3 GILL PIER\,WESTRAY 52  £74.80 143.8 SUF3 GILL PIER\,WESTRAY 46  £73.50 159.8 TEX3 GILL PIER\,WESTRAY 41  £65.50 159.8 TEXNEWARK\,SANDAY 54.5  £75.80 139.1 TEXBRANSTANE\,WESTRAY 47.5  £76.20 160.4 TEXBRANSTANE\,WESTRAY 47  £74.00 157.4 SUFBRANSTANE\,WESTRAY 45.5  £71.80 157.8 SUFHOWE FARM\,HARRAY 46  £78.00 169.6 BELTEXHOWE FARM\,HARRAY 47  £77.50 164.9 TEXHOWE FARM\,HARRAY 49  £74.20 151.4 TEXHOBBISTER\,ORPHIR 45.5  £73.50 161.5 TEXHOBBISTER\,ORPHIR 42  £67.00 159.5 TEXLENAHOWE\,SANDWICK 46.5  £77.00 165.6 TEXLENAHOWE\,SANDWICK 51.5  £74.50 144.7 SUFGAIRBOLLS\,PAPA WESTRAY 54  £74.50 138 SUFGAIRBOLLS\,PAPA WESTRAY 51  £74.00 145.1 SUFGAIRBOLLS\,PAPA WESTRAY 46.5  £72.50 155.9 SUFGAIRBOLLS\,PAPA WESTRAY 51  £72.50 142.2 SUFODINSTONE\,SHAPINSAY 49  £86.00 175.5 TEXODINSTONE\,SHAPINSAY 47.5  £78.20 164.6 TEXODINSTONE\,SHAPINSAY 47  £78.00 166 TEXUPPER SCAPA\,ST OLA 49.5  £74.80 151.1 CHARUPPER SCAPA\,ST OLA 53  £74.20 140 CHARUPPER SCAPA\,ST OLA 51  £73.50 144.1 CHARHEATHERUM\,SOUTH RONALDSAY 45.5  £73.20 160.9 TEXTUQUOY\,WESTRAY 46  £76.20 165.7 TEXTUQUOY\,WESTRAY 46  £74.20 161.3 SUFTUQUOY\,WESTRAY 44.5  £70.20 157.8 SUFCRUDY\,SANDAY 50.5  £74.80 148.1 TEXCRUDY\,SANDAY 49.5  £74.50 150.5 TEXAIKERNESS\,EVIE 47.5  £73.20 154.1 SUFAIKERNESS\,EVIE 48  £72.80 151.7 SUFLOWER CORNQUOY\,HOLM 44.5  £73.80 165.8 TEXLOWER CORNQUOY\,HOLM 43  £69.00 160.5 SUFKIRKBRAE\,WESTRAY 46  £76.80 167 TEXLINKSNESS\,STRONSAY 58  £76.00 131 TEXKIRKBRAE\,WESTRAY 55  £75.20 136.7 TEXKIRKBRAE\,WESTRAY 45.5  £71.20 156.5 SUFKIRKBRAE\,WESTRAY 44.5  £70.20 157.8 SUFVETQUOY\,TWATT 49.5  £73.20 147.9 SUFVETQUOY\,TWATT 46.5  £68.50 147.3 SUFVETQUOY\,TWATT 43  £66.00 153.5 SUFTELEGRAPH COTTAGE\,SANDAY 51.5  £75.20 146 TEXHOWEQUOY\,HOLM 49  £75.20 153.5 TEXHOWEQUOY\,HOLM 46.5  £75.00 161.3 TEX STORE LAMBS SOLD TO  £69 FOR 7 TEXELS FROM FIRM OF POTTINGER TUQUOY WESTRAY CAST EWSWS SOLD TO  £97 FOR TEXELS FROM T HARCUS & CO BRANSTANE WESTRAY AND FROM J L & E J PIRIE COMELY TOAB OTHER CAST PRICES SUNNYBANK\,ST OLA  £70.00 WHITE BRECK\,EDAY  £75.00 BLACK BRECK\,EDAY  £70.00 SUF NISTHOUSE\,EVIE  £90.00 BELTEX BRANSTANE\,WESTRAY  £89.00 SUF GAIRBOLLS\,PAPA WESTRAY  £74.00 SUF LAGA\,EVIE  £69.00 TEX ODINSTONE\,SHAPINSAY  £90.00 TEX ODINSTONE\,SHAPINSAY  £83.00 TEX STONELEA\,STENNESS  £77.00 BELTEX COMELY\,TOAB  £78.00 TEX LOWER CORNQUOY\,HOLM  £80.00 TEX LOWER CORNQUOY\,HOLM  £72.00 TEX KIRKBRAE\,WESTRAY  £69.00 TEX GARTH\,SOUTH RONALDSAY  £75.00 CHEV VETQUOY\,TWATT  £96.00 TEX TELEGRAPH COTTAGE\,SANDAY  £90.00 WHITE
URL:https://orkneymart.com/event/sheep-sale-105/
CATEGORIES:Sales Report
END:VEVENT
BEGIN:VEVENT
DTSTART;TZID=Europe/London:20190910T000000
DTEND;TZID=Europe/London:20190910T000000
DTSTAMP:20260425T041551
CREATED:20231020T100400Z
LAST-MODIFIED:20231027T105435Z
UID:10000931-1568073600-1568073600@orkneymart.com
SUMMARY:Sheep Sale
DESCRIPTION:Forward for sale on Tuesday were 403 Prime Lambs\, 60 Store Lambs & 96 Cast Sheep. A mixed show of Prime Lambs were slighter cheaper in the week. Strong\, well presented lambs with plenty of cover still a sound trade and in high demand. Prime lambs sold to a top of 160.9 p/kg for a pen of three Texels scaling 46 kilos from Strathore Farm\, Shapinsay realising  £74. Top price per head was  £84 for a pen of four Texels from D & K Morgan\, Bryameadow Twatt purchased by Williamsons Butcher. OTHER PRIME LAMBS GARSON\,SANDWICK 47.5  £72.00 152 TEXGARSON\,SANDWICK 49.5  £73.00 147.5 TEXGARSON\,SANDWICK 47.5  £75.50 158.9 CHARTUQUOY\,WESTRAY 44.5  £66.80 150.1 TEXTUQUOY\,WESTRAY 44  £66.50 151.1 TEXRAMRAY\,GRAEMSAY 49  £73.50 150 TEXRAMRAY\,GRAEMSAY 44  £67.80 154.1 TEXTASMAINE\,HOLM 55  £76.00 138.2 SUFTASMAINE\,HOLM 56  £75.00 133.9 SUFROADSIDE\,ST OLA 47  £72.00 153.2 TEXNIGLEY\,TOAB 46.5  £70.50 151.6 TEXNEARHOUSE\,TANKERNESS 51  £80.00 156.9 TEXNEARHOUSE\,TANKERNESS 52  £82.00 157.7 TEXTHE HOWE\,SOUTH RONALDSAY 53  £75.00 141.5 TEXNETHERHILL\,TANKERNESS 45  £68.50 152.2 TEXTOFTS\,ST OLA 50  £72.20 144.4 TEXUPPER SCAPA\,ST OLA 48  £73.20 152.5 CHARUPPER SCAPA\,ST OLA 47  £70.50 150 TEXKNOCKHALL\,SOUTH RONALDSAY 48.5  £71.50 147.4 SUFSOUTH BRECK\,FIRTH 50  £74.80 149.6 TEXAIKERNESS\,EVIE 45  £67.50 150 SUFCLOKE\,DOUNBY 49  £73.20 149.4 TEXCLOKE\,DOUNBY 47.5  £69.80 146.9 SUFLENAHOWE\,SANDWICK 46.5  £67.50 145.2 TEXSTONELEA\,STENNESS 50  £71.00 142 SUFSTONELEA\,STENNESS 44  £66.50 151.1 BELTEXSTRATHORE\,SHAPINSAY 46  £74.00 160.9 TEXSTRATHORE\,SHAPINSAY 47.5  £72.50 152.6 TEXREDLAND\,STROMNESS 50.5  £73.00 144.6 TEXREDLAND\,STROMNESS 54  £75.00 138.9 SUFBRYAMEADOW\,TWATT 50.5  £76.00 150.5 TEXBRYAMEADOW\,TWATT 50  £74.00 148 TEXBRYAMEADOW\,TWATT 47  £72.80 154.9 TEXHAQUOY\,SHAPINSAY 60  £76.00 126.7 TEXHAQUOY\,SHAPINSAY 48  £75.50 157.3 TEXBRAEFOOT\,SHAPINSAY 48.5  £77.00 158.8 TEXBRAEFOOT\,SHAPINSAY 57.5  £78.00 135.7 TEXHALLEY\,DEERNESS 49  £70.00 142.9 SUFHALLEY\,DEERNESS 50  £73.00 146 CHARSTOREHOUSE\,STRONSAY 49  £71.80 146.5 TEXGRIND\,STRONSAY 44.5  £69.80 156.9 TEXREDLAND\,FIRTH 54  £71.50 132.4 TEX Store Lambs were in high demand with plenty of buyers looking for lambs. Store lambs sold to  £61 for a pen of five Texels from N S Mowat\, Ramray\, Graemsay and also for a pen of three Texels from S W Sinclair\, South Breck\, Firth. OTHER STORE LAMBS LITTLEWARDS\,LONGHOPE  £60.00 SUFF TUQUOY\,WESTRAY  £59.00 SUFF Cast Sheep sold to  £110 for a Texel Ewe from G Thomson\, The Howe\, South Ronaldsay. OTHER CAST SHEEP NEARHOUSE\,TANKERNESS  £102.00 TEX THE HOWE\,SOUTH RONALDSAY  £98.00 TEX BENLAW\,EVIE  £95.00 CHAR ROADSIDE\,ST OLA  £84.00 TEX HAQUOY\,SHAPINSAY  £88.00 TEX HEATHFIELD\,ST OLA  £79.00 CHAR QUEENAMUCKLE\,RENDALL  £71.00 TEX RAMRAY\,GRAEMSAY  £69.00 WHITE QUOYS\,GRAEMSAY  £69.00 WHITE HALLEY\,DEERNESS  £69.00 TEX BACHYLIS\,ORPHIR  £66.00 WHITE CLOKE\,DOUNBY  £59.00 TEX BRAEFOOT\,SHAPINSAY  £59.00 WHITE STONELEA\,STENNESS  £57.00 TEX SOUTH BRECK\,FIRTH  £55.00 TEX
URL:https://orkneymart.com/event/sheep-sale-104/
CATEGORIES:Sales Report
END:VEVENT
BEGIN:VEVENT
DTSTART;TZID=Europe/London:20190917T000000
DTEND;TZID=Europe/London:20190917T000000
DTSTAMP:20260425T041551
CREATED:20231020T100400Z
LAST-MODIFIED:20231027T105435Z
UID:10000929-1568678400-1568678400@orkneymart.com
SUMMARY:Sheep Sale
DESCRIPTION:Forward for sale on Tuesday were 722 Prime Lambs\, 564 Store Lambs & 262 Cast Sheep A good show of Prime Lambs sold to a similar trade as last week with heavy lambs slightly cheaper. Prime lambs sold to 160.4 p/kg for a pen of three Texels scaling 45.5 kilos from P & E M Dennison\, Odiness\, Stronsay realising  £73. Top price per head was  £80 for a pen of three Texels from F & T Moar\, Withaquoy\, Holm. Other Leading Prime Lambs SOUTH SEATTER\,SANDWICK 52  £74.50 143.3 TEXSOUTH SEATTER\,SANDWICK 50.5  £74.00 146.5 TEXSOUTH SEATTER\,SANDWICK 49  £73.00 149 TEXHOWE\,HARRAY 50  £73.20 146.4 TEXHOWE\,HARRAY 45.5  £72.00 158.2 BELTEXLOWER CORNQUOY\,HOLM 47  £72.00 153.2 TEXLOWER CORNQUOY\,HOLM 49  £72.80 148.6 TEXWITHAQUOY\,HOLM 50  £73.80 147.6 TEXWITHAQUOY\,HOLM 51  £73.20 143.5 TEXSTANDPRETTY\,EVIE 49.5  £71.00 143.4 CHEVQUANTERNESS\,ST OLA 49  £71.80 146.5 SUFQUANTERNESS\,ST OLA 49  £73.20 149.4 CHARUPPER SCAPA\,ST OLA 48  £72.20 150.4 TEXUPPER SCAPA\,ST OLA 48.5  £72.00 148.5 TEXUPPERFIELD\,ST OLA 50.5  £73.80 146.1 TEXCOTLAND\,ST OLA 50  £76.50 153 TEXCOTLAND\,ST OLA 51.5  £73.50 142.7 TEXCOLLIGARTH\,SANDAY 43  £65.00 151.2 TEXCOLLIGARTH\,SANDAY 42.5  £64.50 151.8 CHARBRECK\,EDAY 53  £73.50 138.7 SUFBRECK\,EDAY 50  £74.00 148 OTHERTUQUOY\,WESTRAY 42.5  £64.20 151.1 TEXTUQUOY\,WESTRAY 45  £67.20 149.3 SUFUPPER BERRYHILL\,ST OLA 44  £66.50 151.1 TEXLAITHE\,SANDWICK 54  £73.50 136.1 SUFLAITHE\,SANDWICK 49  £72.50 148 CHEVLOWER BU\,HOLM 49  £75.00 153.1 TEXLOWER BU\,HOLM 49  £72.80 148.6 OTHERBINSCARTH\,FINSTOWN 45  £67.50 150 LLEYNBINSCARTH\,FINSTOWN 46  £69.50 151.1 SUFQUOYKAY\,TOAB 50  £72.80 145.6 WHITEQUOYKAY\,TOAB 55  £73.00 132.7 WHITELOWER BIGSWELL\,STENNESS 48.5  £72.80 150.1 TEXLOWER BIGSWELL\,STENNESS 49  £72.80 148.6 TEXBACKAKELDAY\,HOLM 48.5  £72.20 148.9 CHEVBACKAKELDAY\,HOLM 50  £71.80 143.6 TEXGORN\,WESTRAY 47  £70.80 150.6 OTHERGORN\,WESTRAY 52  £72.50 139.4 OTHERGORN\,WESTRAY 50  £73.00 146 SUFHOWEQUOY\,HOLM 45  £68.80 152.9 TEXHALL OF GORN\, HOLM 48  £71.80 149.6 TEXCRUMBRECKS\,ORPHIR 56  £73.00 130.4 TEXMILLBRAE\,SANDAY 59  £74.00 125.4 SUFMILLBRAE\,SANDAY 50.5  £73.00 144.6 SUFMILLBRAE\,SANDAY 49  £73.20 149.4 TEXVESTRAFIOLD\,SANDWICK 45.5  £67.80 149 SUFVESTRAFIOLD\,SANDWICK 45.5  £66.00 145.1 SUFODINESS\,STRONSAY 45.5  £72.00 158.2 TEXODINESS\,STRONSAY 47  £71.20 151.5 TEXODINESS\,STRONSAY 48.5  £72.80 150.1 TEXREDLAND\,FIRTH 47  £70.00 148.9 TEXREDLAND\,FIRTH 47  £71.80 152.8 TEXBIGGINGS\,STENNESS 52  £74.00 142.3 TEXBIGGINGS\,STENNESS 56.5  £73.50 130.1 TEX Store Lambs were dearer on the week selling to  £64.50 for a pair of Texels from S Linklater\, Summerfield\, St Ola. Other Store Lambs SUMMERFIELD\, ST OLA  £63.20 TEX GARTH\,STROMNESS  £62.00 CHEV BRECK\,EDAY  £61.50 OTHER TUQUOY\,WESTRAY  £61.50 TEX TUQUOY\,WESTRAY  £60.50 TEX YELDABREK\,BURRAY  £60.00 SUF MELSETTER\,LONGHOPE  £62.20 SUF MELSETTER\,LONGHOPE  £56.00 SUF GORN\,WESTRAY  £61.50 SUF GORN\,WESTRAY  £60.00 TEX LOWER BIGSWELL\,STENNESS  £59.50 SUF LOWER BIGSWELL\,STENNESS  £59.80 TEX LOWER BIGSWELL\,STENNESS  £60.80 TEX MOUSELAND\,STROMNESS  £53.00 SUF NAVERSDALE\,ORPHIR  £54.00 LLEYN NAVERSDALE\,ORPHIR  £54.50 LLEYN LOWER BU\,HOLM  £64.00 TEX APPIETOWN\,RENDALL  £59.00 TEX MILLBURN\,HARRAY  £55.20 ZWAR LITTLE WARDS\,LONGHOPE  £50.00 SUF Cast Sheep sold to  £114 for a Texel Ewe from Ivan Scott\, 16 Buttquoy Park\, Kirkwall. Other Cast Ewes ROADSIDE COTTAGE\,ORPHIR  £106.00 TEX ROADSIDE COTTAGE\,ORPHIR  £93.00 TEX ROADSIDE COTTAGE\,ORPHIR  £91.00 TEX TWATT FARM\,BIRSAY  £82.00 TEX APPIETOWN\,RENDALL  £76.00 TEX QUOYKAY\,TOAB  £90.00 WHITE ODINESS\,STRONSAY  £91.00 TEX MILLBRAE\,SANDAY  £88.00 TEX REDLAND\,FIRTH  £67.00 OTHER LAITHE\,SANDWICK  £70.00 TEX SUMMERFIELD\, ST OLA  £72.00 WHITE BACKAKELDAY\,HOLM  £68.00 CHEV NORTH FLAWS\,SOUTH RONALDSAY  £62.00 TEX NOUP\,WESTRAY  £70.00 TEX GORN\,WESTRAY  £67.00 BLACK FURROWEND\,STRONSAY  £69.00 CHEV HOWEQUOY\,HOLM  £75.00 OTHER LYDE ROAD\,HARRAY  £48.00 OTHER
URL:https://orkneymart.com/event/sheep-sale-103/
CATEGORIES:Sales Report
END:VEVENT
BEGIN:VEVENT
DTSTART;TZID=Europe/London:20190924T000000
DTEND;TZID=Europe/London:20190924T000000
DTSTAMP:20260425T041551
CREATED:20231020T100200Z
LAST-MODIFIED:20231027T105435Z
UID:10000927-1569283200-1569283200@orkneymart.com
SUMMARY:Sheep Sale
DESCRIPTION:FORWARD FOR SALE ON TUESDAY WERE 479 PRIME LAMBS 670 STORE LAMBS AND 291 CAST SHEEP PRIME LAMBS SOLD TO 174 P/KG FOR A TEXEL SCALING 50 KILOS FROM J M LENNIE & CO NEARHOUSE TANKERNESS REALISING  £87 PURCHASED BY WILLIAMSONS EAST ROAD KIRKWALL OTHER PRICES BACKAKELDAY\,HOLM 45.5  £65.80 144.6 TEXBACKAKELDAY\,HOLM 47.5  £67.20 141.5 TEXSMIDDY\,STRONSAY 44.5  £62.80 141.1 TEXBIGGINGS\,STENNESS 51.5  £71.80 139.4 TEXBIGGINGS\,STENNESS 54  £70.80 131.1 TEXQUEENAMUCKLE\,RENDALL 50  £70.20 140.4 TEXQUEENAMUCKLE\,RENDALL 49.5  £68.80 139 TEXQUEENAMUCKLE\,RENDALL 52  £70.50 135.6 SUF1 BOGIE HOUSES\,EVIE 46  £66.20 143.9 CHAR1 BOGIE HOUSES\,EVIE 45.5  £65.00 142.9 CHARBRECK\,EDAY 43  £61.80 143.7 SUFCHARLESTON\,PAPA WESTRAY 45.5  £66.20 145.5 TEXCHARLESTON\,PAPA WESTRAY 45  £65.00 144.4 TEXCHARLESTON\,PAPA WESTRAY 47.5  £68.20 143.6 CHARUPPER BERRYHILL\,ST OLA 40.5  £59.80 147.7 TEXTHE KNOWE\,SANDAY 48  £68.20 142.1 SUFTHE KNOWE\,SANDAY 47.5  £67.00 141.1 TEXWEST NEARHOUSE\,BIRSAY 42  £61.50 146.4 TEXWEST NEARHOUSE\,BIRSAY 38  £52.50 138.2 TEXUPPERFIELD\,ST OLA 46  £67.50 146.7 TEXCLAIRNESS\,SANDWICK 44  £63.20 143.6 SUFCLAIRNESS\,SANDWICK 44  £61.00 138.6 SUFCLOKE\,DOUNBY 50  £72.00 144 CHEVCLOKE\,DOUNBY 47.5  £68.00 143.2 TEXCLOKE\,DOUNBY 46.5  £66.20 142.4 SUFWESTFIELD\,STROMNESS\, 57  £70.80 124.2 SUFHOBBISTER\,ORPHIR 43  £62.50 145.3 TEXHOLLAND\,PAPA WESTRAY 47  £67.20 143 SUFHOLLAND\,PAPA WESTRAY 50  £71.00 142 SUFLENAHOWE\,SANDWICK 45  £64.80 144 TEXLENAHOWE\,SANDWICK 47.5  £65.80 138.5 SUFCLOKE\,DOUNBY 48.5  £69.80 143.9 CHARCLOKE\,DOUNBY 47.5  £65.80 138.5 SUFNEARHOUSE\,TANKERNESS 50  £87.00 174 TEXNEARHOUSE\,TANKERNESS 48  £70.50 146.9 TEXLOPNESS\,SANDAY 48.5  £71.00 146.4 TEXLOPNESS\,SANDAY 46.5  £66.20 142.4 TEXSITTADALE PARK\,KIRKWALL\, 43.5  £67.20 154.5 BELTEXSITTADALE PARK\,KIRKWALL\, 47  £70.00 148.9 OTHERSTONELEA\,STENNESS 41  £61.20 149.3 TEXSTONELEA\,STENNESS 43  £61.80 143.7 SUFROADSIDE\,ST OLA 42  £62.50 148.8 TEXROADSIDE\,ST OLA 43  £62.00 144.2 TEXUPPER SCAPA\,ST OLA 48.5  £71.20 146.8 TEXUPPER SCAPA\,ST OLA 48.5  £70.80 146 TEXUPPER SCAPA\,ST OLA 47  £68.50 145.7 TEXUPPER SCAPA\,ST OLA 43.5  £62.80 144.4 TEXSELWICK\,HOY 46.5  £64.50 138.7 CHEVSELWICK\,HOY 48  £65.00 135.4 SUFUPPER SCAPA\,ST OLA 60  £69.50 115.8 TEXHEATHERUM\,SOUTH RONALDSAY 45.5  £65.50 144 TEXHEATHERUM\,SOUTH RONALDSAY 44  £63.00 143.2 TEXHEATHERUM\,SOUTH RONALDSAY 44.5  £63.00 141.6 TEXCRUDY\,SANDAY 47  £68.80 146.4 TEXEASTSIDE\,TWATT 51  £73.00 143.1 TEXAPPIETEEN\,SANDWICK 55  £72.20 131.3 TEXAPPIETEEN\,SANDWICK 59  £77.00 130.5 TEXYARPHA\,ORPHIR 48.5  £69.50 143.3 TEXYARPHA\,ORPHIR 45.5  £65.00 142.9 CHEVSMOOGARTH\,FIRTH 48  £70.80 147.5 TEXSMOOGARTH\,FIRTH 45.5  £66.50 146.2 TEXQUOYBURRAY COTTAGE\,TOAB 42  £59.20 141 TEXQUOYBURRAY COTTAGE\,TOAB 40.5  £57.00 140.7 TEXLOWER BIGSWELL FARM\, 47  £68.50 145.7 SUFLOWER BIGSWELL FARM\, 47.5  £67.20 141.5 TEXLOWER BIGSWELL FARM\, 46  £63.50 138 TEXRENNIBISTER FARM\,KIRKWALL 48.5  £67.50 139.2 TEXKNOCKHALL\,SOUTH RONALDSAY 46  £66.00 143.5 SUFKNOCKHALL\,SOUTH RONALDSAY 48.5  £69.20 142.7 SUF STORE LAMBS SOLD TO  £61 FOR A SUFFOLK FROM WS & AM JOHNSTON CLOKE DOUNBY OTHER PRICES LOOKOUT\,BURRAY  £58.00 BLACK MID STOVE\,QUOYLOO  £55.00 BLACK UPPER BERRYHILL\,ST OLA  £60.00 TEX HEATHERLEA COTTAGE\,TOAB  £56.50 CHEV THE KNOWE\,SANDAY  £59.50 SUF WESTSHORE\,RENDALL  £56.00 TEX CLOKE\,DOUNBY  £61.00 SUF YELDABREK\,BURRAY  £50.50 TEX LOPNESS\,SANDAY  £60.50 TEX LOPNESS\,SANDAY  £60.00 TEX NO 4 CLEAT\,SOUTH RONALDSAY  £50.00 SUF LOWER BIGSWELL FARM\,  £60.00 TEX LOWER BIGSWELL FARM\,  £57.50 OTHER CAST EWES SOLD TO  £119 FOR 4 TEXELS FROM J M LENNIE & CO NEARHOUSE TANKERNESS OTHER PRICES BACKAKELDAY\,HOLM  £75.00 TEX BIGGINGS\,TOAB  £69.00 TEX QUEENAMUCKLE\,RENDALL  £55.00 TEX QUEENAMUCKLE\,RENDALL  £54.00 TEX CLAYPITS\,ORPHIR  £60.00 CHEV CHARLESTON\,PAPA WESTRAY  £95.00 TEX CHARLESTON\,PAPA WESTRAY  £73.00 TEX CHARLESTON\,PAPA WESTRAY  £69.00 TEX HALLEY FARM\,DEERNESS  £90.00 TEX HALLEY FARM\,DEERNESS  £82.00 TEX WESTSHORE\,RENDALL  £92.00 TEX WESTSHORE\,RENDALL  £59.00 CHAR VINKWIN\,EVIE  £60.00 OTHER NEARHOUSE\,TANKERNESS  £117.00 TEX NEARHOUSE\,TANKERNESS  £105.00 TEX NEARHOUSE\,TANKERNESS  £97.00 TEX LOPNESS\,SANDAY  £86.00 TEX SITTADALE PARK\,KIRKWALL\,  £109.00 TEX NO 4 CLEAT\,SOUTH RONALDSAY  £63.00 SUF UPPER SCAPA\,ST OLA  £87.00 WHITE UPPER SCAPA\,ST OLA  £48.00 TEX DAWN COTTAGE\,HOLM  £106.00 TEX DAWN COTTAGE\,HOLM  £94.00 TEX APPIETEEN\,SANDWICK  £106.00 WHITE APPIETEEN\,SANDWICK  £96.00 BLACK APPIETEEN\,SANDWICK  £88.00 BLACK EASTSIDE\,TWATT  £86.00 TEX APPIETEEN\,SANDWICK  £70.00 BLACK YARPHA\,ORPHIR  £71.00 CHEV YARPHA\,ORPHIR  £67.00 TEX YARPHA\,ORPHIR  £66.00 TEX RENNIBISTER FARM\,KIRKWALL  £88.00 TEX RENNIBISTER FARM\,KIRKWALL  £86.00 TEX RENNIBISTER FARM\,KIRKWALL  £76.00 TEX KNOCKHALL\,SOUTH RONALDSAY  £53.00 CHEV
URL:https://orkneymart.com/event/sheep-sale-102/
CATEGORIES:Sales Report
END:VEVENT
END:VCALENDAR