BEGIN:VCALENDAR
VERSION:2.0
PRODID:-//Orkney Auction Mart - ECPv6.15.17.1//NONSGML v1.0//EN
CALSCALE:GREGORIAN
METHOD:PUBLISH
X-WR-CALNAME:Orkney Auction Mart
X-ORIGINAL-URL:https://orkneymart.com
X-WR-CALDESC:Events for Orkney Auction Mart
REFRESH-INTERVAL;VALUE=DURATION:PT1H
X-Robots-Tag:noindex
X-PUBLISHED-TTL:PT1H
BEGIN:VTIMEZONE
TZID:Europe/London
BEGIN:DAYLIGHT
TZOFFSETFROM:+0000
TZOFFSETTO:+0100
TZNAME:BST
DTSTART:20170326T010000
END:DAYLIGHT
BEGIN:STANDARD
TZOFFSETFROM:+0100
TZOFFSETTO:+0000
TZNAME:GMT
DTSTART:20171029T010000
END:STANDARD
BEGIN:DAYLIGHT
TZOFFSETFROM:+0000
TZOFFSETTO:+0100
TZNAME:BST
DTSTART:20180325T010000
END:DAYLIGHT
BEGIN:STANDARD
TZOFFSETFROM:+0100
TZOFFSETTO:+0000
TZNAME:GMT
DTSTART:20181028T010000
END:STANDARD
BEGIN:DAYLIGHT
TZOFFSETFROM:+0000
TZOFFSETTO:+0100
TZNAME:BST
DTSTART:20190331T010000
END:DAYLIGHT
BEGIN:STANDARD
TZOFFSETFROM:+0100
TZOFFSETTO:+0000
TZNAME:GMT
DTSTART:20191027T010000
END:STANDARD
END:VTIMEZONE
BEGIN:VEVENT
DTSTART;TZID=Europe/London:20181002T000000
DTEND;TZID=Europe/London:20181002T000000
DTSTAMP:20260425T184514
CREATED:20231020T100956Z
LAST-MODIFIED:20231027T105434Z
UID:10001002-1538438400-1538438400@orkneymart.com
SUMMARY:Sheep Sale
DESCRIPTION:FORWARD FOR SALE ON TUESDAY WERE 493 PRIME LAMBS AND 250 CAST SHEEP \nPRIME LAMBS SOLD TO 170.7 P/KG FOR 5 BELTEX SCALING 46 KILOS FROM G HENRY HOWE HARRAY \nREALISING  £78.50 PURCHASED BY E FLETT BUTCHERS STROMNESS \nTOP PRICE WAS  £85 FOR A TEXEL FROM N & B ISBISTER FEOLQUOY STROMNESS \nOTHER PRIME LAMB PRICES \nBIGGINGS\,STENNESS 49  £74.00 151 TEX \nBIGGINGS\,STENNESS 51  £72.80 142.7 TEX \nQUEENAMUCKLE\,RENDALL 53  £77.00 145.3 SUF \nBINSCARTH \,FINSTOWN 46  £69.00 150 SUF \nBINSCARTH \,FINSTOWN 49.5  £73.00 147.5 SUF \nBINSCARTH \,FINSTOWN 45  £65.50 145.6 WHITE \nBRECK\,EDAY 44  £62.50 142 TEX \nVIEWFIELD\,ORPHIR 44.5  £63.00 141.6 OTHER \nODINESS\,STRONSAY 46  £73.80 160.4 TEX \nODINESS\,STRONSAY 46.5  £74.20 159.6 BELTEX \nODINESS\,STRONSAY 46  £69.00 150 TEX \nOLD HALL\,STROMNESS 53  £75.80 143 TEX \nOLD HALL\,STROMNESS 52.5  £74.00 141 SUF \nHOWAN\,DOUNBY\, 43  £65.50 152.3 TEX \nHOWAN\,DOUNBY\, 49  £74.50 152 SUF \nHOWAN\,DOUNBY\, 45.5  £68.20 149.9 SUF \nSOUTH TOFTS\,EGILSAY 45  £63.20 140.4 TEX \nCLAIRNESS\,SANDWICK 51  £74.00 145.1 TEX \nCLAIRNESS\,SANDWICK 51  £73.50 144.1 SUF \nGARSON\,SANDWICK 48  £75.20 156.7 TEX \nWARTHILL\,HOLM 48.5  £74.00 152.6 TEX \nWARTHILL\,HOLM 48  £73.00 152.1 TEX \nHOWE FARM\,HARRAY 46  £78.50 170.7 BELTEX \nHOWE FARM\,HARRAY 48  £72.80 151.7 TEX \nHOBBISTER\,ORPHIR 47  £71.80 152.8 TEX \nHOBBISTER\,ORPHIR 44  £65.00 147.7 TEX \nFEOLQUOY\,STROMNESS 52.5  £76.50 145.7 TEX \nFEOLQUOY\,STROMNESS 59  £85.00 144.1 TEX \nLAGA\,EVIE 47  £76.00 161.7 TEX \nNEARHOUSE\,TANKERNESS 49  £83.00 169.4 TEX \nNEARHOUSE\,TANKERNESS 48  £74.80 155.8 CHAR \nNEARHOUSE\,TANKERNESS 49  £74.00 151 TEX \nHOTTIT\,SOUTH RONALDSAY 42  £63.50 151.2 TEX \nHOTTIT\,SOUTH RONALDSAY 45  £67.20 149.3 TEX \nBRYAMEADOW FARM\,TWATT 48.5  £78.50 161.9 BELTEX \nBRYAMEADOW FARM\,TWATT 45.2  £71.20 157.5 TEX \nBRYAMEADOW FARM\,TWATT 49.5  £74.00 149.5 TEX \nNORTHBANK\,ST OLA 50  £72.00 144 BLACK \nBRAEFOOT\,SHAPINSAY 49  £77.50 158.2 TEX \nBRAEFOOT\,SHAPINSAY 51  £80.50 157.8 TEX \nBRAEFOOT\,SHAPINSAY 40  £58.20 145.5 TEX \nEASTSIDE\,TWATT 50  £77.00 154 TEX \nYARPHA\,ORPHIR 45  £69.00 153.3 TEX \nYARPHA\,ORPHIR 43  £63.80 148.4 TEX \nYARPHA\,ORPHIR 43.5  £63.00 144.8 TEX \nCRISMO FARM\,COSTA\,EVIE\, 48  £70.00 145.8 TEX \nLOWER BU\,HOLM 49  £73.20 149.4 TEX \nLOWER BU\,HOLM 48  £71.50 149 TEX \nRENNIBISTER FARM\,KIRKWALL 48  £74.80 155.8 TEX \nRENNIBISTER FARM\,KIRKWALL 45.5  £68.00 149.5 TEX \nRENNIBISTER FARM\,KIRKWALL 46  £68.50 148.9 TEX \nHONEYSGOE\,SOUTH RONALDSAY 43  £62.50 145.3 SUF \nHOWEQUOY\,HOLM 46  £71.00 154.3 TEX \nHOWEQUOY\,HOLM 46  £70.50 153.3 TEX \nKNOCKHALL\,SOUTH RONALDSAY 48  £73.00 152.1 SUF \nKNOCKHALL\,SOUTH RONALDSAY 48  £70.00 145.8 SUF \nCAST SHEEP SOLD TO  £125 FOR 3 TEXEL EWES FROM RENDALL BROS BRAEFOOT SHAPINSAY \nOTHER CAST SHEEP \nHESTWALL HOUSE\,HOLM  £65.00 TEX \nODINESS\,STRONSAY  £58.00 WHITE \nHOWAN\,DOUNBY\,  £96.00 TEX \nHOWAN\,DOUNBY\,  £78.00 TEX \nCLAIRNESS\,SANDWICK  £106.00 TEX \nWARTHILL\,HOLM  £60.00 WHITE \nLAGA\,EVIE  £95.00 TEX \nNEARHOUSE\,TANKERNESS  £99.00 TEX \nNEARHOUSE\,TANKERNESS  £78.00 TEX \n3 HILL OF HEDDLE\,FINSTOWN  £124.00 TEX \nRENNIBISTER FARM\,KIRKWALL  £80.00 TEX \nHONEYSGOE\,SOUTH RONALDSAY  £93.00 TEX
URL:https://orkneymart.com/event/sheep-sale-129/
CATEGORIES:Sales Report
END:VEVENT
BEGIN:VEVENT
DTSTART;TZID=Europe/London:20181005T000000
DTEND;TZID=Europe/London:20181005T000000
DTSTAMP:20260425T184514
CREATED:20231020T100956Z
LAST-MODIFIED:20231027T105433Z
UID:10001001-1538697600-1538697600@orkneymart.com
SUMMARY:Sheep Sale
DESCRIPTION:582 STORE LAMBS SOLD ON FRIDAY MADE A SOUND TRADE SELLING TO  £65 FOR 16 TEXELS FROM \nJ & M SMITH LOWER CORNQUOY HOLM \nOTHER PRICES \nSWEENALAY\,RENDALL  £37.50 WHITE \nBRECK\,EDAY  £64.50 WHITE \nBRECK\,EDAY  £62.00 BLACK \nSOUTH TOFTS\,EGILSAY  £57.00 CHEV \nSOUTH TOFTS\,EGILSAY  £50.00 CHEV \nSOUTH TOFTS\,EGILSAY  £42.00 CHEV \nCLAIRNESS\,SANDWICK  £60.50 TEX \nLAITHE\,SANDWICK  £60.20 SUF \nLAITHE\,SANDWICK  £59.00 CHEV \nLAITHE\,SANDWICK  £56.20 CHEV \nLAITHE\,SANDWICK  £54.00 SUF \nSALWICK\,LONGHOPE  £64.00 TEX \nBURRAVIEW\,SOUTH RONALDSAY  £54.00 TEX \nGREENQUOY\,SOUTH RONALDSAY  £50.50 WHITE \nPURTABRECK\,TOAB  £63.80 TEX \nNETHERSTOVE\,QUOYLOO  £62.00 TEX \nNETHERSTOVE\,QUOYLOO  £50.00 SUF \nBRAEFOOT\,SHAPINSAY  £64.50 TEX \nHOWDIS MEADOW\,ROUSAY  £62.50 TEX \nHOWDIS MEADOW\,ROUSAY  £57.00 SUF \nHOWDIS MEADOW\,ROUSAY  £54.50 TEX \nHOWDIS MEADOW\,ROUSAY  £50.00 SUF \nHONEYSGOE\,SOUTH RONALDSAY  £56.00 SUF \nGOREHOUSE\,ROUSAY  £59.00 OTHER
URL:https://orkneymart.com/event/sheep-sale-128/
CATEGORIES:Sales Report
END:VEVENT
BEGIN:VEVENT
DTSTART;TZID=Europe/London:20181006T000000
DTEND;TZID=Europe/London:20181006T000000
DTSTAMP:20260425T184514
CREATED:20231020T100955Z
LAST-MODIFIED:20231027T105434Z
UID:10001000-1538784000-1538784000@orkneymart.com
SUMMARY:Sheep Sale
DESCRIPTION:AT THIS YEARS HISHA SALE\, 1208 GIMMERS AND EWE LAMBS WERE SOLD \nTEXEL GIMMERS TOPPED AT  £151 FOR A PEN OF 10 FROM J & C SCOTT VIRGINIA STENNESS \nOTHER TEXEL GIMMERS \nVIRGINIA\,STENNESS GIMMER  £151.00 TEX x \nNISTHOUSE\,EVIE GIMMER  £137.00 TEX x \nNISTHOUSE\,EVIE GIMMER  £131.00 TEX X \nSKELBISTER\,ORPHIR GIMMER  £130.00 TEX x \nMUCE\,BIRSAY GIMMER  £121.00 TEX x \nNEWBIGGING\,BIRSAY GIMMER  £120.00 TEX x \nHOUSEBAY\,STRONSAY GIMMER  £115.00 TEX x \nBRECHINS\,SOUTH RONALDSAY GIMMER  £112.00 TEX x ZWARTBLES \nSKELBISTER\,ORPHIR GIMMER  £110.00 TEX x \nBRECHINS\,SOUTH RONALDSAY GIMMER  £105.00 TEX x MULE \nHOUSEBAY\,STRONSAY GIMMER  £104.00 TEX x \nBRECHINS\,SOUTH RONALDSAY GIMMER  £102.00 TEX x MULE \nGREENWALL\,SHAPINSAY GIMMER  £100.00 TEX x \nBRECHINS\,SOUTH RONALDSAY GIMMER  £93.00 TEX x MULE \nMAESQUOY\,HARRAY GIMMER  £74.00 TEX x \nHINDATOON\,HARRAY GIMMER  £78.00 SHET SHET x CHEV \nERVADALE\,ROUSAY GIMMER  £70.00 SHET SHET x CHEV \nVIRGINIA\,STENNESS GIMMER  £121.00 LLEYN x TEXEL \nERVADALE\,ROUSAY GIMMER  £113.00 LLEYN x TEXEL \nLAGA\,EVIE GIMMER  £107.00 LLEYN \nERVADALE\,ROUSAY GIMMER  £102.00 LLEYN x TEXEL \nERVADALE\,ROUSAY GIMMER  £96.00 LLEYN x TEXEL \nERVADALE\,ROUSAY GIMMER  £84.00 LLEYN x TEXEL \nEWE LAMBS SOLD TO  £88 FOR 45 TEXELS FROM K WATSON & SON RENNIBISTER KIRKWALL \nOTHER PRICES \nBIGGINGS\,TOAB EWE LAMB/S  £86.00 TEX x \nBIGGINGS\,TOAB EWE LAMB/S  £78.00 TEX x \nBIGGINGS\,TOAB EWE LAMB/S  £70.00 TEX x \nMIDSKAILL\,EGILSAY EWE LAMB/S  £46.00 TEX x \nLOCHVIEW\,DOUNBY EWE LAMB/S  £92.00 OTHER MULE \nERVADALE\,ROUSAY EWE LAMB/S  £59.00 LLEYN x TEXEL \nERVADALE\,ROUSAY EWE LAMB/S  £54.00 LLEYN x TEXEL \nBIGGINGS\,TOAB EWE LAMB/S  £65.00 CHEV x
URL:https://orkneymart.com/event/sheep-sale-127/
CATEGORIES:Sales Report
END:VEVENT
BEGIN:VEVENT
DTSTART;TZID=Europe/London:20181009T000000
DTEND;TZID=Europe/London:20181009T000000
DTSTAMP:20260425T184514
CREATED:20231020T100955Z
LAST-MODIFIED:20231027T105434Z
UID:10000998-1539043200-1539043200@orkneymart.com
SUMMARY:Sheep Sale
DESCRIPTION:FORWARD FOR SALE ON TUESDAY WERE 648 PRIME LAMBS AND 246 CAST SHEEP \nLAMBS SOLD TO 167.5 P/KG FOR 3 BELTEX SCALING 40 KILOS FROM I CUTT GERBO NORTH RONALDSAY \nREALISING  £67 \nTOP PRICE WAS  £78 FOR 4 TEXELS SCALING 55 KILOS FROM J & M CURSITER CHARLESTON PAPA WESTRAY \nOTHER PRICES \nAPPIETOWN\,RENDALL 42  £63.00 150 TEX \nMILLBRAE\,SANDAY 50  £73.50 147 TEX \nMILLBRAE\,SANDAY 50  £73.20 146 SUF \nSTOREHOUSE\,STRONSAY 44  £66.40 150.9 BLACK \nSTOREHOUSE\,STRONSAY 41  £61.20 149 TEX \nCOLLIGARTH\,SANDAY 58  £74.00 127.6 SUF \nCOLLIGARTH\,SANDAY 46.5  £71.20 153.1 TEX \nCOLLIGARTH\,SANDAY 47.5  £70.40 148.2 CHEV \nCOLLIGARTH\,SANDAY 45.5  £68.20 149.9 SUF \nCOLLIGARTH\,SANDAY 44  £66.60 151.4 CHEV \nHALL OF CLESTRAIN\,ORPHIR 46  £69.00 150 SUF \nHALL OF CLESTRAIN\,ORPHIR 45  £66.50 147.8 TEX \nHALL OF CLESTRAIN\,ORPHIR 44.5  £64.00 143.8 SUF \nHALL OF CLESTRAIN\,ORPHIR 43  £62.00 144.2 TEX \nCHARLESTON\,PAPA WESTRAY 55  £78.00 141.8 TEX \nCHARLESTON\,PAPA WESTRAY 49  £73.00 149 CHAR \nCHARLESTON\,PAPA WESTRAY 46  £70.40 153 TEX \nCHARLESTON\,PAPA WESTRAY 46.5  £69.50 149.5 TEX \nGERBO\,NORTH RONALDSAY 60  £75.00 125 TEX \nGERBO\,NORTH RONALDSAY 41  £68.50 167.1 BELTEX \nGERBO\,NORTH RONALDSAY 40  £67.00 167.5 BELTEX \nHAZEDALE\,PAPA WESTRAY 42  £60.80 144.8 SUF \nUPPER BERRYHILL\,ST OLA 47  £71.80 152.8 TEX \nUPPER BERRYHILL\,ST OLA 46  £67.50 146.7 SUF \nUPPER BERRYHILL\,ST OLA 44.5  £67.00 150.6 TEX \nUPPER BERRYHILL\,ST OLA 41  £61.80 150.7 TEX \nTHE KNOWE\,SANDAY 45.5  £67.80 149 SUF \nTHE KNOWE\,SANDAY 45  £66.80 148.4 TEX \nUPPERFIELD\,ST OLA 49  £73.80 150.6 TEX \nUPPERFIELD\,ST OLA 48  £70.20 146.3 TEX \nGARSON\,SANDWICK 47  £71.40 151.9 TEX \nGARSON\,SANDWICK 47.58  £70.60 148.4 OTHER \nGARSON\,SANDWICK 45.5  £69.20 152.1 TEX \nLAITHE\,SANDWICK 50  £73.60 147.2 SUF \nLAITHE\,SANDWICK 52  £72.60 139.6 CHEV \nLAITHE\,SANDWICK 48  £69.20 144.2 SUF \nORPHIR HOUSE\,ORPHIR 46  £66.60 144.8 CHEV \nORPHIR HOUSE\,ORPHIR 43  £65.40 152.1 CHEV \nLENAHOWE\,SANDWICK 46.5  £69.00 148.4 SUF \nLENAHOWE\,SANDWICK 45  £66.50 147.8 SUF \nBRETTOVALE\,DOUNBY 56  £75.00 133.9 OTHER \nUPPER HOBBISTER\,STENNESS 48.5  £73.50 151.5 TEX \nUPPER HOBBISTER\,STENNESS 48  £70.80 147.5 OTHER \nUPPER HOBBISTER\,STENNESS 44.5  £65.20 146.5 TEX \nUPPER HOBBISTER\,STENNESS 43.5  £64.00 147.1 OTHER \nSOUTH GREENIGOE\,ORPHIR 47.5  £68.50 144.2 WHITE \nHAQUOY\,SHAPINSAY 55  £77.00 140 TEX \nHAQUOY\,SHAPINSAY 50  £75.50 151 TEX \nHAQUOY\,SHAPINSAY 49  £74.50 152 TEX \nWITHAQUOY\,HOLM 47.5  £73.80 155.4 TEX \nWITHAQUOY\,HOLM 49  £73.60 150.2 TEX \nWITHAQUOY\,HOLM 46.5  £72.60 156 TEX \nWITHAQUOY\,HOLM 44  £71.20 161.8 BELTEX \nSELWICK\,HOY 47.5  £70.00 147.4 TEX \nWALKERHOUSE\,BIRSAY 46  £69.80 151.7 LLEYN \nWALKERHOUSE\,BIRSAY 45.5  £68.00 149.5 LLEYN \nSELWICK\,HOY 43.5  £62.50 143.7 SUF \nBRAEHEAD\,ST MARGARETS HOPE 47  £69.20 147.2 TEX \nNETHERHILL\,TANKERNESS 44  £66.80 151.8 TEX \nHEWING\,FIRTH 50  £74.20 148.4 CHAR \nHEWING\,FIRTH 47  £70.00 148.9 TEX \nLOWER CORNQUOY\,HOLM 47.5  £70.20 147.8 SUF \nLOWER CORNQUOY\,HOLM 45  £69.00 153.3 TEX \nGRIND\,STRONSAY 45  £67.80 150.7 TEX \nKIRKBRAE\,WESTRAY 52  £73.00 140.4 SUF \nLINKSNESS\,STRONSAY 47  £71.00 151.1 TEX \nLINKSNESS\,STRONSAY 46  £69.00 150 TEX \nKIRKBRAE\,WESTRAY 43.5  £64.80 149 TEX \nSWANBISTER\,ORPHIR 43.5  £63.80 146.7 TEX \nSWANBISTER\,ORPHIR 42  £62.60 149 TEX \nSWANBISTER\,ORPHIR 43.5  £62.60 143.9 TEX \nVETQUOY\,TWATT 53  £71.20 134.3 SUF \nCAST EWES SOLD TO  £110 FOR 2 TEXELS FROM VETQUOY FARMS TWATT \nOTHER LEADING PRICES \nAPPIETOWN\,RENDALL  £87.00 OTHER \nMID STOVE\,QUOYLOO  £96.00 BLACK \nSTOREHOUSE\,STRONSAY  £48.00 WHITE \nCOLLIGARTH\,SANDAY  £78.00 WHITE \nHALL OF CLESTRAIN\,ORPHIR  £72.00 WHITE \nUPPER BERRYHILL\,ST OLA  £90.00 TEX \nUPPER BERRYHILL\,ST OLA  £78.00 TEX \nSOUTH TOFTS\,EGILSAY  £95.00 TEX \nSOUTH GREENIGOE\,ORPHIR  £104.00 TEX \nSELWICK\,HOY  £96.00 TEX \nWALKERHOUSE\,BIRSAY  £82.00 LLEYN \nAIKERNESS\,EVIE  £106.00 TEX \nHAMMER\,WESTRAY  £79.00 TEX \nHEWING\,FIRTH  £91.00 TEX \nHEWING\,FIRTH  £89.00 TEX \nYARPHA\,ORPHIR  £76.00 CHEV \nLINKSNESS\,STRONSAY  £88.00 TEX
URL:https://orkneymart.com/event/sheep-sale-126/
CATEGORIES:Sales Report
END:VEVENT
BEGIN:VEVENT
DTSTART;TZID=Europe/London:20181011T000000
DTEND;TZID=Europe/London:20181011T000000
DTSTAMP:20260425T184514
CREATED:20231020T100942Z
LAST-MODIFIED:20231027T105434Z
UID:10000997-1539216000-1539216000@orkneymart.com
SUMMARY:Sheep Sale
DESCRIPTION:OSBA Show and Sale Report 2018
URL:https://orkneymart.com/event/sheep-sale-125/
CATEGORIES:Sales Report
END:VEVENT
BEGIN:VEVENT
DTSTART;TZID=Europe/London:20181016T000000
DTEND;TZID=Europe/London:20181016T000000
DTSTAMP:20260425T184514
CREATED:20231020T100941Z
LAST-MODIFIED:20231027T105434Z
UID:10000995-1539648000-1539648000@orkneymart.com
SUMMARY:Sheep Sale
DESCRIPTION:278 PRIME SHEEP AND 216 CAST SHEEP WERE SOLD ON TUESDAY \nPRIME LAMBS SOLD TO  £94 FOR A TEXEL SCALING 67 KILOS FROM J D & M M LEITCH FEOLQUOY EVIE \nTOP PRICE PER KILO WAS 167.8 FOR 3 TEXELS SCALING 46 KILOS FROM R K & F J MARSHALL COTLAND ST OLA \nREALISING  £77.20 PURCHASED BY E FLETT BUTCHER STROMNESS \nOTHER PRIME PRICES \nSTANDPRETTY\,EVIE 51  £72.50 142.2 SUF \nSTANDPRETTY\,EVIE 49  £70.20 143.3 CHEV \nSTANDPRETTY\,EVIE 48  £69.50 144.8 SUF \nNEWHALL\,STROMNESS 56  £74.50 133 TEX \nGREENTOFT\,DEERNESS 42.5  £64.00 150.6 TEX \nCLOKE\,DOUNBY 46  £69.20 150.4 TEX \nCLOKE\,DOUNBY 45  £67.20 149.3 SUF \nEAST HOWE\,BIRSAY 48  £75.00 156.3 TEX \nEAST HOWE\,BIRSAY 46  £70.50 153.3 CHAR \nEAST HOWE\,BIRSAY 46.5  £69.00 148.4 CHAR \nEAST HOWE\,BIRSAY 45  £68.00 151.1 TEX \nHOLLAND\,PAPA WESTRAY 47  £73.80 157 TEX \nHOLLAND\,PAPA WESTRAY 47  £71.20 151.5 SUF \nHOLLAND\,PAPA WESTRAY 45  £68.50 152.2 SUF \nHOLLAND\,PAPA WESTRAY 45  £66.50 147.8 SUF \nHOLLAND\,PAPA WESTRAY 44  £65.80 149.5 SUF \nGAIRBOLLS\,PAPA WESTRAY 45  £68.50 152.2 CHAR \nGAIRBOLLS\,PAPA WESTRAY 41.5  £61.00 147 CHAR \nFEOLQUOY\,EVIE 67  £94.00 140.3 TEX \nFEOLQUOY\,EVIE 52  £77.00 148.1 TEX \nMELFEA\,ST OLA\, 42.5  £66.20 155.8 TEX \nSOUTH HOUSE\,TANKERNESS 44  £69.00 156.8 TEX \nCOTLAND\,ST OLA 46  £77.20 167.8 TEX \nCOTLAND\,ST OLA 49  £76.50 156.1 TEX \nCOTLAND\,ST OLA 49  £75.00 153.1 TEX \nLYDE ROAD\,HARRAY 47  £66.00 140.4 OTHER \nUPPER SCAPA\,ST OLA 46  £70.50 153.3 CHAR \nUPPER SCAPA\,ST OLA 44  £65.00 147.7 CHAR \nAIKERNESS\,EVIE 45  £67.50 150 SUF \nAIKERNESS\,EVIE 43  £64.20 149.3 SUF \nONZIEBUST\,EGILSAY 45.5  £68.50 150.5 SUF \nONZIEBUST\,EGILSAY 46.5  £67.00 144.1 SUF \nAPPIETEEN\,SANDWICK 53  £85.50 161.3 TEX \nAPPIETEEN\,SANDWICK 49  £81.20 165.7 TEX \nAPPIETEEN\,SANDWICK 59  £80.50 136.4 TEX \nAPPIETEEN\,SANDWICK 50  £78.00 156 TEX \nEASTSIDE\,TWATT 51  £75.20 147.5 TEX \nEASTSIDE\,TWATT 51  £75.00 147.1 TEX \nUPPER HEADS\,ST MARGARETS HOPE 46.5  £72.50 155.9 TEX \nUPPER HEADS\,ST MARGARETS HOPE 45.5  £69.50 152.7 TEX \nYARPHA\,ORPHIR 45.5  £72.20 158.7 TEX \nYARPHA\,ORPHIR 45  £66.50 147.8 TEX \nLOWER CORNQUOY\,HOLM 47.5  £71.20 149.9 TEX \nLOWER CORNQUOY\,HOLM 46  £68.20 148.3 SUF \nLOWER CORNQUOY\,HOLM 46  £68.00 147.8 CHEV \nBACHYLIS\,ORPHIR 52  £77.50 149 TEX \nBACHYLIS\,ORPHIR 46  £74.50 162 TEX \nBACHYLIS\,ORPHIR 45  £70.00 155.6 TEX \nBRAEMAR\,DEERNESS 53  £75.50 142.5 TEX \nCAST SHEEP SOLD TO  £107 FOR A TEXEL RAM FROM R S THOMSON HALLBRECK SOUTH RONALDSAY \nAND ALSO A TEXEL EWE FROM J D & M M LEITCH FEOLQUOY EVIE \nOTHER CAST PRICES \nNEWHALL\,STROMNESS  £91.00 BELTEX \nDRYDALE\,STROMNESS  £80.00 CHEV \nDRYDALE\,STROMNESS  £71.00 CHEV \nEAST HOWE\,BIRSAY  £74.00 TEX \nHOBBISTER\,ORPHIR  £66.00 TEX \nDENWICK\,DEERNESS  £68.00 CHAR \nSTONELEA\,STENNESS  £66.00 TEX \nMELFEA\,ST OLA\,  £98.00 TEX \nUPPER SCAPA\,ST OLA  £94.00 TEX \nHAMMER\,WESTRAY  £68.00 TEX \nUPPER HEADS\,ST MARGARETS HOPE  £95.00 TEX \nSOUTH UNIGARTH\,SANDWICK  £68.00 TEX \nSOUTH UNIGARTH\,SANDWICK  £64.00 TEX \nYARPHA\,ORPHIR  £66.00 CHEV \nLOWER CORNQUOY\,HOLM  £106.00 TEX \nLOWER CORNQUOY\,HOLM  £86.00 TEX \nSMOOGARTH\,FIRTH  £80.00 SUF \nBACHYLIS\,ORPHIR  £86.00 TEX \nBACHYLIS\,ORPHIR  £78.00 TEX
URL:https://orkneymart.com/event/sheep-sale-124/
CATEGORIES:Sales Report
END:VEVENT
BEGIN:VEVENT
DTSTART;TZID=Europe/London:20181019T000000
DTEND;TZID=Europe/London:20181019T000000
DTSTAMP:20260425T184514
CREATED:20231020T100941Z
LAST-MODIFIED:20231027T105434Z
UID:10000994-1539907200-1539907200@orkneymart.com
SUMMARY:Sheep Sale
DESCRIPTION:STORE LAMBS SOLD TO  £70.50 FOR 2 CHEVIOTS FROM I F SMITH CATMUIRHALL FLOTTA \nOTHER PRICES \nSTANDPRETTY\,EVIE  £56.50 CHEV \nBRECK\,EDAY  £55.50 WHITE \nBRECK\,EDAY  £53.00 BLACK \nHEATHERLEA COTTAGE\,TOAB  £52.00 TEX \nSOUTH BRECK\,BURRAY  £52.00 TEX \nSOUTH BRECK\,BURRAY  £49.00 TEX \nDENWICK\,DEERNESS  £58.00 WHITE \nDENWICK\,DEERNESS  £55.00 BLACK \nGAIRBOLLS\,PAPA WESTRAY  £50.00 CHEV \nMELFEA\,ST OLA\,  £62.50 TEX \nMELFEA\,ST OLA\,  £53.00 TEX \nMILLBURN FARM \,HARRAY  £52.00 OTHER \nCRUMBRECKS\,ORPHIR  £59.00 TEX \nPURTABRECK\,TOAB  £53.00 TEX \nCATMUIRHALL\,FLOTTA  £70.50 CHEV \nCATMUIRHALL\,FLOTTA  £65.50 CHEV \nCATMUIRHALL\,FLOTTA  £60.00 CHEV \nBRECK\,STRONSAY  £58.50 BLACK \nBRECK\,STRONSAY  £53.00 BLACK \nERVADALE\,ROUSAY  £50.00 TEX \nERVADALE\,ROUSAY  £44.00 CHEV \nHONEYSGOE\,SOUTH RONALDSAY  £52.00 CHEV
URL:https://orkneymart.com/event/sheep-sale-123/
CATEGORIES:Sales Report
END:VEVENT
BEGIN:VEVENT
DTSTART;TZID=Europe/London:20181024T000000
DTEND;TZID=Europe/London:20181024T000000
DTSTAMP:20260425T184514
CREATED:20231020T100941Z
LAST-MODIFIED:20231027T105434Z
UID:10000993-1540339200-1540339200@orkneymart.com
SUMMARY:Sheep Sale
DESCRIPTION:FORWARD FOR SALE ON WEDNESDAY WERE 358 PRIME LAMBS AND 145 CAST SHEEP \nLAMBS SOLD TO  £89.50 FOR A 60 KILO TEXEL FROM MUIR & SONS GORN SHAPINSAY \nAND TO 158.7 P/KG FOR 15 TEXELS SCALING 46 KILOS FROM HOBBISTER FARM ORPHIR \nREALISING  £73 \nOTHER PRIME LAMBS \nBINSCARTH \,FINSTOWN 50  £73.80 147.6 SUF \nBINSCARTH \,FINSTOWN 45  £68.00 151.1 SUF \nODINESS\,STRONSAY 46.5  £73.50 158.1 TEX \nODINESS\,STRONSAY 47  £71.80 152.8 TEX \nODINESS\,STRONSAY 45  £70.00 155.6 BELTEX \nUPPERFIELD\,ST OLA 52  £74.80 143.8 TEX \nUPPERFIELD\,ST OLA 42  £64.20 152.9 TEX \nHOBBISTER\,ORPHIR 48.5  £75.50 155.7 TEX \nHOBBISTER\,ORPHIR 46  £73.00 158.7 TEX \nHOBBISTER\,ORPHIR 45  £70.80 157.3 TEX \nDENWICK\,DEERNESS 50  £73.80 147.6 CHAR \nDENWICK\,DEERNESS 45  £68.80 152.9 CHAR \nSTONELEA\,STENNESS 52  £74.50 143.3 TEX \nSTONELEA\,STENNESS 43  £64.00 148.8 TEX \nLOCHEND\,WESTRAY 58  £80.50 138.8 TEX \nLOCHEND\,WESTRAY 50  £77.00 154 TEX \nLOCHEND\,WESTRAY 60  £76.00 126.7 SUF \nLOCHEND\,WESTRAY 52  £74.20 142.7 SUF \nMOA\,STENNESS 60  £76.50 127.5 TEX \nROSEBANK\,DEERNESS 50  £74.00 148 TEX \nROSEBANK\,DEERNESS 47  £73.00 155.3 TEX \nROSEBANK\,DEERNESS 41  £62.50 152.4 TEX \nCRUMBRECKS\,ORPHIR 53  £73.80 139.2 TEX \nCRUMBRECKS\,ORPHIR 57  £73.80 129.5 TEX \nGORN\,SHAPINSAY 60  £89.50 149.2 TEX \nGORN\,SHAPINSAY 50  £78.50 157 TEX \nGORN\,SHAPINSAY 59  £76.00 128.8 TEX \nGORN\,SHAPINSAY 43  £63.00 146.5 TEX \nSKAILL\,ORPHIR 55  £74.20 134.9 TEX \nSKAILL\,ORPHIR 48  £73.50 153.1 TEX \nSKAILL\,ORPHIR 47  £72.80 154.9 TEX \nSOUTH BRECK\,FIRTH 52  £75.20 144.6 TEX \nSOUTH BRECK\,FIRTH 47  £73.80 157 TEX \nSOUTH BRECK\,FIRTH 46  £68.00 147.8 TEX \nHALLMYRE\,ST OLA\, 45  £64.20 142.7 TEX \nBEAFIELD\,SANDAY 49  £74.00 151 SUF \nLOWER BIGSWELL FARM 49  £73.50 150 TEX \nBEAFIELD\,SANDAY 50  £73.00 146 TEX \nBEAFIELD\,SANDAY 47  £72.80 154.9 TEX \nCAST EWES SOLD TO  £105 FOR 3 TEXELS FROM MUIR & SONS GORN SHAPINSAY
URL:https://orkneymart.com/event/sheep-sale-122/
CATEGORIES:Sales Report
END:VEVENT
BEGIN:VEVENT
DTSTART;TZID=Europe/London:20181026T000000
DTEND;TZID=Europe/London:20181026T000000
DTSTAMP:20260425T184514
CREATED:20231020T100927Z
LAST-MODIFIED:20231027T105434Z
UID:10000992-1540512000-1540512000@orkneymart.com
SUMMARY:Sheep Sale
DESCRIPTION:Forward for sale on Friday were 859 Store Lambs. A mixed show of stores sold to  £65 for a Beltex lamb from DM Walls\, Inkerman\, Sanday. Other Leading Stores LOWER BIGSWELL\,STENNESS  £58.00 TEXLOWER BIGSWELL\,STENNESS  £52.00 TEXFILLETS\,GRAEMSAY  £53.50 OTHERFILLETS\,GRAEMSAY  £50.00 OTHERWINDYWALLS\,GRAEMSAY  £63.00 TEXWINDYWALLS\,GRAEMSAY  £52.50 TEXAPPIETOWN\,RENDALL  £52.50 SUFAPPIETOWN\,RENDALL  £60.00 CHARMIDSKAILL\,EGILSAY  £49.00 SUFROSEBANK\,DEERNESS  £60.50 TEXUPPER BERRYHILL\,ST OLA  £55.00 TEXUPPER BERRYHILL\,ST OLA  £50.50 TEXINKERMAN\,SANDAY  £55.00 SUFINKERMAN\,SANDAY  £54.50 CHEVINKERMAN\,SANDAY  £52.00 CHEVGORN\,SHAPINSAY  £49.50 TEXHALLMYRE\,ST OLA  £46.00 TEXERVADALE\,ROUSAY  £50.50 WHITEERVADALE\,ROUSAY  £45.00 WHITEQUOYS\,GRAEMSAY  £58.50 TEXQUOYS\,GRAEMSAY  £53.00 TEXUPPERFIELD\,ST OLA  £60.50 TEXUPPERFIELD\,ST OLA  £58.00 TEXNAVERSDALE\,ORPHIR  £54.00 WHITELITTLE WARDS\,LONGHOPE  £53.50 SUFLITTLE WARDS\,LONGHOPE  £50.50 WHITELENAHOWE\,SANDWICK  £51.20 SUFLENAHOWE\,SANDWICK  £57.00 SUFONZIEBUST\,EGILSAY  £61.20 SUFONZIEBUST\,EGILSAY  £55.50 WHITEGERBO\,NORTH RONALDSAY  £35.00 WHITE
URL:https://orkneymart.com/event/sheep-sale-121/
CATEGORIES:Sales Report
END:VEVENT
BEGIN:VEVENT
DTSTART;TZID=Europe/London:20181031T000000
DTEND;TZID=Europe/London:20181031T000000
DTSTAMP:20260425T184514
CREATED:20231020T100927Z
LAST-MODIFIED:20231027T105434Z
UID:10000989-1540944000-1540944000@orkneymart.com
SUMMARY:Sheep Sale
DESCRIPTION:FOR SALE ON WEDNESDAY WERE 453 PRIME LAMBS AND 269 CAST SHEEP \nLAMBS SOLD TO 163.4 P/KG FOR 5 BELTEX SCALING 47 KILOS FROM F & T MOAR WITHAQUOY HOLM \nREALISING  £76.80 \nTOP PRICE WAS  £77.50 FOR A PAIR OF TEXELS SCALING 50 KILOS FROM J M LENNIE & CO NEARHOUSE \nTANKERNESS \nOTHER PRIME PRICES \nSEBAY\,TANKERNESS 56  £75.50 134.8 TEX \nSEBAY\,TANKERNESS 47.5  £74.80 157.5 TEX \nSEBAY\,TANKERNESS 47.5  £73.80 155.4 TEX \nQUEENAMUCKLE\,RENDALL 55  £75.00 136.4 TEX \nQUEENAMUCKLE\,RENDALL 52  £74.00 142.3 SUF \nTHE KNOWE\,SANDAY 47  £70.40 149.8 SUF \nTHE KNOWE\,SANDAY 45  £70.00 155.6 SUF \nTHE KNOWE\,SANDAY 44  £69.00 156.8 TEX \nLOWER COTTISCARTH\,RENDALL 48  £72.00 150 TEX \nLOWER COTTISCARTH\,RENDALL 47  £70.40 149.8 SUF \nCLOKE\,DOUNBY 49  £74.00 151 TEX \nCLOKE\,DOUNBY 50  £74.00 148 SUF \nWESTFIELD\,STROMNESS\, 60  £74.00 123.3 SUF \nSEAVIEW\,SANDAY 45  £68.50 152.2 SUF \nSEAVIEW\,SANDAY 41.5  £66.00 159 TEX \nNEARHOUSE\,TANKERNESS 48.5  £75.20 155.1 CHAR \nNEARHOUSE\,TANKERNESS 47.5  £75.00 157.9 TEX \nCOTLAND\,ST OLA 45  £70.00 155.6 TEX \nCOTLAND\,ST OLA 44  £67.50 153.4 CHAR \nINNISTER\,ROUSAY 47  £75.00 159.6 TEX \nINNISTER\,ROUSAY 45  £72.80 161.8 TEX \nHAQUOY\,SHAPINSAY 48  £76.50 159.4 BELTEX \nCOWESHOUSE\,STRONSAY 46  £74.50 162 TEX \nCOWESHOUSE\,STRONSAY 51  £74.00 145.1 TEX \nHAQUOY\,SHAPINSAY 47  £73.80 157 BELTEX \nCOWESHOUSE\,STRONSAY 47.5  £72.50 152.6 SUF \nCOWESHOUSE\,STRONSAY 45.5  £72.20 158.7 TEX \nWITHAQUOY\,HOLM 47  £76.80 163.4 BELTEX \nWITHAQUOY\,HOLM 52  £76.20 146.5 TEX \nWITHAQUOY\,HOLM 47.5  £74.80 157.5 TEX \nSAMSONS LANE\,STRONSAY 45  £67.50 150 BLACK \nONZIEBUST\,EGILSAY 45  £67.50 150 SUF \nNESS\,SHAPINSAY 54  £75.00 138.9 TEX \nNESS\,SHAPINSAY 46  £74.20 161.3 TEX \nNESS\,SHAPINSAY 48  £74.00 154.2 TEX \nEASTSIDE\,TWATT 51  £77.20 151.4 BELTEX \nEASTSIDE\,TWATT 51  £75.20 147.5 TEX \nROSEBANK\,TWATT 47.5  £74.50 156.8 BELTEX \nROSEBANK\,TWATT 46  £74.00 160.9 TEX \nROSEBANK\,TWATT 48  £72.50 151 SUF \nHOLLAND\,FIRTH 46.5  £74.20 159.6 TEX \nYARPHA\,ORPHIR 45.5  £72.60 159.6 TEX \nYARPHA\,ORPHIR 45  £71.00 157.8 TEX \nYARPHA\,ORPHIR 44  £70.60 160.5 TEX \nYARPHA\,ORPHIR 45  £70.20 156 TEX \nLOWER CORNQUOY\,HOLM 49  £76.00 155.1 TEX \nLOWER CORNQUOY\,HOLM 46.5  £74.00 159.1 TEX \nLOWER CORNQUOY\,HOLM 47.5  £73.80 155.4 TEX \nRYSA FARM\,HOY 45  £65.50 145.6 SUF \nRYSA FARM\,HOY 43  £64.00 148.8 SUF \nCRISMO FARM\,COSTA\,EVIE\, 44.5  £69.00 155.1 LLEYN \nCRISMO FARM\,COSTA\,EVIE\, 44  £66.00 150 LLEYN \nEAST THORN\,WESTRAY 47  £71.50 152.1 CHEV \nRENNIBISTER FARM\,KIRKWALL 45  £72.20 160.4 TEX \nRENNIBISTER FARM\,KIRKWALL 45  £72.00 160 TEX \nKNOCKHALL\,SOUTH RONALDSAY 50  £74.50 149 SUF \nKNOCKHALL\,SOUTH RONALDSAY 44.5  £68.00 152.8 SUF \nCAST SHEEP SOLD TO  £130 FOR A BELTEX RAM FROM P & E M DENNISON ODINESS STRONSAY \nOTHER PRICES \nSEBAY\,TANKERNESS  £78.00 SUF \nBIGGINGS\,TOAB  £77.00 TEX \nQUEENAMUCKLE\,RENDALL  £74.00 TEX \nHEATHFIELD\,ST OLA  £78.00 WHITE \nSEAVIEW\,SANDAY  £82.00 TEX \nSEAVIEW\,SANDAY  £69.00 TEX \nSEAVIEW\,SANDAY  £48.00 TEX \nTHE ROY\,HOLM  £90.00 WHITE \nTHE ROY\,HOLM  £80.00 WHITE \nNEARHOUSE\,ROUSAY  £65.00 WHITE \nINNISTER\,ROUSAY  £98.00 TEX \nINNISTER\,ROUSAY  £79.00 TEX \nHAQUOY\,SHAPINSAY  £97.00 TEX \nCOWESHOUSE\,STRONSAY  £86.00 TEX \nROADSIDE\,ST OLA  £85.00 SUF \nWITHAQUOY\,HOLM  £114.00 TEX \nWITHAQUOY\,HOLM  £75.00 WHITE \nSKAILL\,ORPHIR  £97.00 TEX \nSKAILL\,ORPHIR  £78.00 TEX \nNISTIGAR\,WESTRAY  £88.00 OTHER \nNISTIGAR\,WESTRAY  £78.00 OTHER \nROSEBANK\,TWATT  £92.00 TEX \nERVADALE\,ROUSAY  £68.00 WHITE \nKNOCKHALL\,SOUTH RONALDSAY  £93.00 SUF \nKNOCKHALL\,SOUTH RONALDSAY  £70.00 WHITE
URL:https://orkneymart.com/event/sheep-sale-120/
CATEGORIES:Sales Report
END:VEVENT
END:VCALENDAR