BEGIN:VCALENDAR
VERSION:2.0
PRODID:-//Orkney Auction Mart - ECPv6.15.17.1//NONSGML v1.0//EN
CALSCALE:GREGORIAN
METHOD:PUBLISH
X-WR-CALNAME:Orkney Auction Mart
X-ORIGINAL-URL:https://orkneymart.com
X-WR-CALDESC:Events for Orkney Auction Mart
REFRESH-INTERVAL;VALUE=DURATION:PT1H
X-Robots-Tag:noindex
X-PUBLISHED-TTL:PT1H
BEGIN:VTIMEZONE
TZID:Europe/London
BEGIN:DAYLIGHT
TZOFFSETFROM:+0000
TZOFFSETTO:+0100
TZNAME:BST
DTSTART:20170326T010000
END:DAYLIGHT
BEGIN:STANDARD
TZOFFSETFROM:+0100
TZOFFSETTO:+0000
TZNAME:GMT
DTSTART:20171029T010000
END:STANDARD
BEGIN:DAYLIGHT
TZOFFSETFROM:+0000
TZOFFSETTO:+0100
TZNAME:BST
DTSTART:20180325T010000
END:DAYLIGHT
BEGIN:STANDARD
TZOFFSETFROM:+0100
TZOFFSETTO:+0000
TZNAME:GMT
DTSTART:20181028T010000
END:STANDARD
BEGIN:DAYLIGHT
TZOFFSETFROM:+0000
TZOFFSETTO:+0100
TZNAME:BST
DTSTART:20190331T010000
END:DAYLIGHT
BEGIN:STANDARD
TZOFFSETFROM:+0100
TZOFFSETTO:+0000
TZNAME:GMT
DTSTART:20191027T010000
END:STANDARD
END:VTIMEZONE
BEGIN:VEVENT
DTSTART;TZID=Europe/London:20180904T000000
DTEND;TZID=Europe/London:20180904T000000
DTSTAMP:20260425T195752
CREATED:20231020T101339Z
LAST-MODIFIED:20231027T105433Z
UID:10001010-1536019200-1536019200@orkneymart.com
SUMMARY:Sheep Sale
DESCRIPTION:FORWARD FOR SALE ON TUESDAY WERE 379 PRIME LAMBS 56 STORE LAMBS AND 174 CAST SHEEP \nPRIME LAMBS SOLD TO 189.6 P/KG FOR 2 TEXELS SCALING 48 KILOS FROM T HARVEY HILLCREST QUOYLOO \nREALISING  £91 PURCHASED BY WILLIAMSONS EAST ROAD KIRKWALL \nTOP PRICE PER HEAD WAS  £94 FOR 2 TEXELS SCALING 55 KILOS FROM T HARCUS & CO BRANSTANE WESTRAY \nAND THEY WERE BOUGHT BY E FLETT BUTCHER STROMNESS \nOTHER PRIME LAMB PRICES \nHESTWALL HOUSE\,HOLM 50  £82.00 164 TEX \nHESTWALL HOUSE\,HOLM 41.5  £73.50 177.1 TEX \nSTOREHOUSE\,STRONSAY 42  £71.20 169.5 TEX \nLITTLE HOWES\,HOLM 53  £93.00 175.5 TEX \nLITTLE HOWES\,HOLM 46  £83.00 180.4 TEX \nLITTLE HOWES\,HOLM 46  £76.50 166.3 TEX \nTHE KNOWE\,SANDAY 58  £90.00 155.2 SUF \nTHE KNOWE\,SANDAY 45  £76.50 170 SUF \nTHE KNOWE\,SANDAY 47.5  £76.50 161.1 SUF \nODINESS\,STRONSAY 46  £86.50 188 TEX \nODINESS\,STRONSAY 51.5  £86.50 168 TEX \nODINESS\,STRONSAY 49.5  £82.50 166.7 TEX \nNEWARK\,SANDAY 58  £89.00 153.4 TEX \nHALLEY\,DEERNESS 58  £87.00 150 TEX \nLAITHE\,SANDWICK 55  £81.50 148.2 CHEV \nLAITHE\,SANDWICK 46.5  £78.00 167.7 CHEV \nLAITHE\,SANDWICK 45.5  £76.00 167 SUF \nBRANSTANE\,WESTRAY 55  £94.00 170.9 TEX \nBRANSTANE\,WESTRAY 50  £81.00 162 SUF \nBRANSTANE\,WESTRAY 49  £80.00 163.3 TEX \nBRANSTANE\,WESTRAY 47.5  £79.00 166.3 TEX \nNEARHOUSE\,TANKERNESS 44  £77.50 176.1 TEX \nNEARHOUSE\,TANKERNESS 43  £73.00 169.8 CHAR \nNEARHOUSE\,TANKERNESS 42  £72.20 171.9 CHAR \nNEARHOUSE\,TANKERNESS 43.5  £71.00 163.2 CHEV \nSOUTH HOUSE\,TANKERNESS 51.5  £93.00 180.6 TEX \nSOUTH HOUSE\,TANKERNESS 48  £82.00 170.8 TEX \nCOTLAND\,ST OLA 50.5  £85.20 168.7 CHAR \nMILLBURN FARM HARRAY 54  £82.00 151.9 WHITE \nMILLBURN FARM HARRAY 44  £72.00 163.6 OTHER \nUPPER SCAPA\,ST OLA 46  £80.00 173.9 CHAR \nUPPER SCAPA\,ST OLA 47  £79.80 169.8 CHAR \nUPPER SCAPA\,ST OLA 45  £77.80 172.9 CHAR \nSAMSONS LANE\,STRONSAY 42  £70.00 166.7 TEX \nAIKERNESS\,EVIE 52  £91.00 175 SUF \nAIKERNESS\,EVIE 45  £75.50 167.8 SUF \nGRUTHA\,SOUTH RONALDSAY 42  £70.00 166.7 OTHER \nWHITEHALL FARM\,STRONSAY 44.5  £78.00 175.3 TEX \nWHITEHALL FARM\,STRONSAY 44.5  £76.00 170.8 TEX \nWHITEHALL FARM\,STRONSAY 45  £76.00 168.9 TEX \nHOWEQUOY\,HOLM 45.5  £78.40 172.3 TEX \nSTORE LAMBS SOLD TO  £60 FOR A PAIR OF BLACK LAMBS FROM MILLBURN FARM RENDALL \nCAST RAMS SOLD TO  £125 FOR A BELTEX FROM R W FLAES NISTHOUSE EVIE \nCAST EWES SOLD TO  £114 FOR A TEXEL FROM P & E M DENNISON ODINESS STRONSAY \nOTHER CAST PRICES \nSWEENALAY\,RENDALL  £37.00 OTHER \nUPPER BERRYHILL\,ST OLA  £79.00 TEX \nODINESS\,STRONSAY  £86.00 OTHER \nODINESS\,STRONSAY  £79.00 TEX \nBRANSTANE\,WESTRAY  £82.00 TEX \nQUANTERNESS\,ST OLA  £79.00 TEX \nHILLCREST\,QUOYLOO  £88.00 TEX \nSALWICK\,LONGHOPE  £98.00 TEX \nSALWICK\,LONGHOPE  £80.00 TEX \nNEARHOUSE\,TANKERNESS  £108.00 TEX \nSTONELEA\,STENNESS  £59.00 TEX \nSOUTH HOUSE\,TANKERNESS  £96.00 TEX \nSOUTH HOUSE\,TANKERNESS  £56.00 TEX \nGRUTHA\,SOUTH RONALDSAY  £51.00 SHET \nREDLAND\,FIRTH  £48.00 WHITE \nYARPHA\,ORPHIR  £77.00 TEX \nYARPHA\,ORPHIR  £76.00 BLACK \nLOWER CORNQUOY\,HOLM  £90.00 TEX \nLOWER CORNQUOY\,HOLM  £72.00 TEX \nHOWEQUOY\,HOLM  £106.00 BLACK \nHOWEQUOY\,HOLM  £86.00 TEX
URL:https://orkneymart.com/event/sheep-sale-133/
CATEGORIES:Sales Report
END:VEVENT
BEGIN:VEVENT
DTSTART;TZID=Europe/London:20180911T000000
DTEND;TZID=Europe/London:20180911T000000
DTSTAMP:20260425T195752
CREATED:20231020T101339Z
LAST-MODIFIED:20231027T105433Z
UID:10001008-1536624000-1536624000@orkneymart.com
SUMMARY:Sheep Sale
DESCRIPTION:FORWARD FOR SALE ON TUESDAY WERE 300 PRIME LAMBS 98 STORE LAMBS AND 219 CAST SHEEP \nPRIME LAMBS SOLD TO A TOP OF 165.2 P/KG FOR A TEXEL SCALING 46 KILOS FROM A C & G A SMITH \nGRIND STRONSAY REALISING  £76 \nTOP PRICE PER HEAD WAS  £95 FOR A SUFFOLK SCALING 75 KILOS FROM I & I BROWN MILLBRAE WESTRAY \nOTHER PRIME LAMB PRICES \nAPPIETOWN\,RENDALL 54  £78.50 145.4 CHAR \nBROUGH FARM\,SOUTH RONALDSAY 42  £64.20 152.9 TEX \nBINSCARTH HOUSE\,FINSTOWN 45  £68.00 151.1 SUF \nMILLBRAE\,SANDAY 55  £78.00 141.8 TEX \nMILLBRAE\,SANDAY 53.5  £77.00 143.9 TEX \nMILLBRAE\,SANDAY 51  £76.50 150 SUF \nMILLBRAE\,SANDAY 52  £75.50 145.2 SUF \nLITTLEQUOY BURRAY 43.5  £66.50 152.9 TEX \nUPPER BERRYHILL\,ST OLA 42  £66.00 157.1 TEX \nUPPER BERRYHILL\,ST OLA 43  £65.00 151.2 TEX \nGARSON\,SANDWICK 49  £76.80 156.7 CHAR \nGARSON\,SANDWICK 48  £76.50 159 CHAR \nGARSON\,SANDWICK 46.5  £71.20 153.1 CHEV \nGARSON\,SANDWICK 45  £71.00 157.8 CHAR \nHOWE FARM\,HARRAY 45.5  £73.80 162.2 BELTEX \nHOWE FARM\,HARRAY 46  £73.20 159.1 TEX \nHOWE FARM\,HARRAY 45.5  £70.00 153.8 TEX \nCLOKE\,DOUNBY 49  £77.20 157.6 TEX \nUPPER SCAPA\,ST OLA 46.5  £73.80 158.7 CHAR \nWITHAQUOY\,HOLM 46  £73.20 159.1 TEX \nWITHAQUOY\,HOLM 47  £73.00 155.3 TEX \nUPPER SCAPA\,ST OLA 46  £72.20 157 CHAR \nUPPER SCAPA\,ST OLA 46  £71.50 155.4 CHAR \nWITHAQUOY\,HOLM 45.5  £70.50 154.9 TEX \nWITHAQUOY\,HOLM 46  £70.00 152.2 BLACK \nUPPER SCAPA\,ST OLA 45  £69.00 153.3 CHAR \nTASMAIN\,HOLM 48  £77.00 160.4 TEX \nTASMAIN\,HOLM 41  £62.50 152.4 TEX \nNETHERHILL\,TANKERNESS 50  £80.00 160 TEX \nNETHERHILL\,TANKERNESS 51  £77.50 152 TEX \nAPPIETEEN\,SANDWICK 58  £88.00 151.7 CHAR \nAPPIETEEN\,SANDWICK 51  £78.00 152.9 CHAR \nAPPIETEEN\,SANDWICK 52.5  £78.00 148.6 CHAR \nAPPIETEEN\,SANDWICK 51  £76.80 150.6 BLACK \nEASTSIDE\,TWATT 48.5  £75.20 155.1 TEX \nAPPIETEEN\,SANDWICK 51  £75.00 147.1 WHITE \nEASTSIDE\,TWATT 48  £73.40 152.9 TEX \nHOLLAND\,FIRTH 51  £77.20 151.4 TEX \nHOLLAND\,FIRTH 48.5  £76.50 157.7 TEX \nHOLLAND\,FIRTH 50  £75.00 150 TEX \nHOLLAND\,FIRTH 46.5  £72.00 154.8 TEX \nROADSIDE COTTAGE\,ORPHIR\, 56  £78.00 139.3 TEX \nGRIND\,STRONSAY 46  £76.00 165.2 TEX \nLOWER CORNQUOY\,HOLM 45.5  £72.80 160 TEX \nGRIND\,STRONSAY 46  £71.00 154.3 TEX \nLOWER CORNQUOY\,HOLM 45.5  £70.60 155.2 SUF \nLOWER CORNQUOY\,HOLM 44.5  £69.50 156.2 TEX \nLOWER CORNQUOY\,HOLM 45  £67.00 148.9 SUF \nBRECK\,STRONSAY 49  £74.50 152 BLACK \nBRECK\,STRONSAY 46  £73.00 158.7 TEX \nHEATHERCOW\,EDAY 50  £77.50 155 BELTEX \nBEAFIELD\,SANDAY 50  £75.80 151.6 TEX \nBEAFIELD\,SANDAY 46.5  £71.50 153.8 SUF \nBEAFIELD\,SANDAY 46  £70.50 153.3 SUF \nBRECHINS\,SOUTH RONALDSAY 44  £67.00 152.3 TEX \nHEATHERCOW\,EDAY 42.5  £63.50 149.4 BELTEX \nBRECHINS\,SOUTH RONALDSAY 40  £60.00 150 BLACK \nRENNIBISTER FARM\,KIRKWALL 55  £90.00 163.6 TEX \nRENNIBISTER FARM\,KIRKWALL 47  £75.50 160.6 TEX \nSTORE LAMBS SOLD TO  £62.50 FOR 19 SUFFOLKS FROM E M FLETT HURTISO HOLM \nCAST EWES SOLD TO  £120 FOR 2 TEXELS FROM I W SLATER ROADSIDE COTTAGE ORPHIR \nCAST PRICES \nAPPIETOWN\,RENDALL  £89.00 WHITE \nSEBAY\,TANKERNESS  £108.00 BELTEX \nSEBAY\,TANKERNESS  £100.00 SUF \nSEBAY\,TANKERNESS  £90.00 TEX \nBALFOUR MAINS  £89.00 TEX \nBALFOUR MAINS  £75.00 TEX \nBROUGH FARM\,SOUTH RONALDSAY  £56.00 SUF \nBINSCARTH HOUSE\,FINSTOWN  £51.00 WHITE \nMILLBRAE\,SANDAY  £99.00 TEX \nMILLBRAE\,SANDAY  £73.00 TEX \nLAGA\,EVIE  £116.00 TEX \nUPPER GARSON\,SANDWICK  £44.00 WHITE \nHEATHERUM\,SOUTH RONALDSAY  £56.00 TEX \nTASMAIN\,HOLM  £90.00 TEX \nTWATT FARM\,BIRSAY  £57.00 TEX \nAPPIETEEN\,SANDWICK  £109.00 BLACK \nAPPIETEEN\,SANDWICK  £88.00 CHAR \nEASTSIDE\,TWATT  £68.00 OTHER \nHOLLAND\,FIRTH  £113.00 TEX \nHOLLAND\,FIRTH  £86.00 TEX \nHOLLAND\,FIRTH  £74.00 TEX \nROADSIDE COTTAGE\,ORPHIR\,  £120.00 TEX
URL:https://orkneymart.com/event/sheep-sale-132/
CATEGORIES:Sales Report
END:VEVENT
BEGIN:VEVENT
DTSTART;TZID=Europe/London:20180918T000000
DTEND;TZID=Europe/London:20180918T000000
DTSTAMP:20260425T195752
CREATED:20231020T101140Z
LAST-MODIFIED:20231027T105433Z
UID:10001006-1537228800-1537228800@orkneymart.com
SUMMARY:Sheep Sale
DESCRIPTION:FORWARD AT THIS WEEKS SHEEP SALE WERE 400 PRIME LAMBS 129 STORE LAMBS AND 214 CAST SHEEP \nPRIME LAMBS SOLD TO 173.6 P/KG FOR 11 BELTEX SCALING 45 KILOS FROM P & EM DENNISON ODINESS STRONSAY \nREALISING  £78 \nTOP PRICE WAS  £82 FOR 4 SUFFOLKS SCALING 58.5 KILOS FROM G & S HEDDLE WESTFIELD STROMNESS \nOTHER PRIME PRICES \nKIRBUSTER\,LONGHOPE 45  £70.00 155.6 SUF \nKIRBUSTER\,LONGHOPE 44  £69.50 158 SUF \nLOWER HOUSE\,SHETLAND 40  £60.00 150 TEX \nLITTLE HOWES\,HOLM 50  £76.20 152.4 TEX \nLITTLE HOWES\,HOLM 52  £74.00 142.3 TEX \nLITTLE HOWES\,HOLM 47  £71.00 151.1 OTHER \nCHARLESTON\,PAPA WESTRAY 50  £75.00 150 TEX \nTHE KNOWE\,SANDAY 47  £73.00 155.3 SUF \nODINESS\,STRONSAY 45  £78.00 173.3 BELTEX \nODINESS\,STRONSAY 46.3  £73.50 158.7 TEX \nODINESS\,STRONSAY 46.1  £72.50 157.3 TEX \nODINESS\,STRONSAY 45.2  £72.00 159.3 TEX \nQUANTERNESS\,ST OLA 51  £76.60 150.2 CHAR \nMEADOWVIEW\,STROMNESS\, 58.5  £82.00 140.2 SUF \nHOLLAND\,PAPA WESTRAY 49  £77.00 157.1 TEX \nHOLLAND\,PAPA WESTRAY 50  £76.50 153 SUF \nHOLLAND\,PAPA WESTRAY 49  £74.20 151.4 TEX \nLENAHOWE\,SANDWICK 49.5  £76.00 153.5 SUF \nLENAHOWE\,SANDWICK 47.5  £75.00 157.9 SUF \nKIERFIOLD\,SANDWICK 46  £73.50 159.8 CHAR \nKIERFIOLD\,SANDWICK 43  £68.00 158.1 TEX \nGAIRBOLLS\,PAPA WESTRAY 59  £76.50 129.7 CHAR \nGAIRBOLLS\,PAPA WESTRAY 58  £76.00 131 CHAR \nGAIRBOLLS\,PAPA WESTRAY 49.5  £75.80 153.1 CHAR \nGAIRBOLLS\,PAPA WESTRAY 47  £72.00 153.2 CHAR \nGAIRBOLLS\,PAPA WESTRAY 46  £71.00 154.3 CHAR \nNEARHOUSE\,TANKERNESS 50  £78.50 157 TEX \nSITTADALE PARK\,KIRKWALL\, 47  £73.50 156.4 TEX \nSITTADALE PARK\,KIRKWALL\, 48  £73.00 152.1 BELTEX \nUPPER SCAPA\,ST OLA 46  £70.00 152.2 CHAR \nCROOK\,RENDALL 47  £74.50 158.5 TEX \nCROOK\,RENDALL 40  £62.80 157 TEX \nBRECK COTTAGE\,BIRSAY 50.5  £76.20 150.9 TEX \nWEST THRAVE\,SANDAY 49  £75.00 153.1 SUF \nSTRATHGARY\,ST OLA\, 43  £66.00 153.5 BELTEX \nSTRATHGARY\,ST OLA\, 42.5  £64.50 151.8 BELTEX \nROSEBANK\,TWATT 53.5  £77.80 145.4 TEX \nSOUTH BRECK\,FIRTH 50.5  £77.50 153.5 TEX \nROSEBANK\,TWATT 52  £77.00 148 SUF \nSOUTH BRECK\,FIRTH 49  £75.50 154.1 TEX \nMOAN\,HARRAY 45  £74.80 166.2 TEX \nMOAN\,HARRAY 46  £71.50 155.4 TEX \nYARPHA\,ORPHIR 47.5  £75.00 157.9 TEX \nYARPHA\,ORPHIR 47.5  £74.00 155.8 CHEV \nYARPHA\,ORPHIR 46  £73.00 158.7 CHEV \nSWANBISTER\,ORPHIR 45  £69.00 153.3 TEX \nSWANBISTER\,ORPHIR 41.5  £62.50 150.6 TEX \nROSEMOUNT\,SANDWICK 57  £80.00 140.4 TEX \nROSEMOUNT\,SANDWICK 54.5  £77.20 141.7 TEX \nROSEMOUNT\,SANDWICK 47  £74.50 158.5 TEX \nHOWEQUOY\,HOLM 46  £73.50 159.8 CHAR \nHOWEQUOY\,HOLM 46.5  £73.50 158.1 TEX \nHOWEQUOY\,HOLM 46.5  £73.00 157 TEX \nSTORE LAMBS SOLD TO  £63.50 FOR 4 SUFFOLKS FROM M SINCLAIR ROSEBANK SANDWICK \nCAST EWES SOLD TO  £125 FOR A TEXEL FROM LOWER COTTISCARTH RENDALL \n £114 FOR A TEXEL FROM BEBORAN HARRAY AND  £109 FOR A SUFFOLK FROM WESTFIELD STROMNESS
URL:https://orkneymart.com/event/sheep-sale-131/
CATEGORIES:Sales Report
END:VEVENT
BEGIN:VEVENT
DTSTART;TZID=Europe/London:20180925T000000
DTEND;TZID=Europe/London:20180925T000000
DTSTAMP:20260425T195752
CREATED:20231020T101140Z
LAST-MODIFIED:20231027T105433Z
UID:10001004-1537833600-1537833600@orkneymart.com
SUMMARY:Sheep Sale
DESCRIPTION:FORWARD FOR SALE ON TUESDAY WERE 323 PRIME LAMBS 157 STORE LAMBS AND 236 CAST SHEEP \nPRIME LAMBS SOLD TO 171 P/KG FOR 4 TEXELS SCALING 50 KILOS FROM B S SCOTT NETHERHILL TANKERNESS \nREALISING  £85.50 PURCHASED BY WILLIAMSONS EAST ROAD KIRKWALL \nTOP PRICE WAS  £86.50 FOR 4 TEXELS 52 KILOS FROM C & C E B LESLIE LOPNESS SANDAY PURCHASED BY \nE FLETT BUTCHERS STROMNESS \nOTHER PRICES \nCOLLIGARTH\,SANDAY 50  £74.80 149.6 TEX \nCRUDY\,SANDAY 50  £77.00 154 TEX \nCRUDY\,SANDAY 52  £74.20 142.7 TEX \nCRUDY\,SANDAY 50  £74.00 148 TEX \nUPPER BERRYHILL\,ST OLA 41  £62.50 152.4 WHITE \nREDLAND\,STROMNESS 53  £84.00 158.5 TEX \nREDLAND\,STROMNESS 58  £82.00 141.4 TEX \nREDLAND\,STROMNESS 52  £75.80 145.8 SUF \nNAVERSDALE\,ORPHIR 50  £76.00 152 TEX \nVINKWIN\,EVIE 46  £71.50 155.4 TEX \nVINKWIN\,EVIE 44  £68.50 155.7 TEX \nLAITHE\,SANDWICK 48.5  £74.00 152.6 SUF \nLAITHE\,SANDWICK 50  £73.00 146 WHITE \nLAITHE\,SANDWICK 46.5  £71.20 153.1 SUF \nLAITHE\,SANDWICK 46  £70.20 152.6 SUF \nEAST HOWE\,BIRSAY 49  £75.00 153.1 BELTEX \nEAST HOWE\,BIRSAY 51  £74.80 146.7 SUF \nEAST HOWE\,BIRSAY 46.5  £73.00 157 CHAR \nMILLFIELD\,STRONSAY 43  £64.20 149 WHITE \nLENAHOWE\,SANDWICK 47.5  £72.60 152.8 SUF \nLENAHOWE\,SANDWICK 46  £69.20 150.4 SUF \nCLOKE\,DOUNBY 46.5  £70.80 152.3 SUF \nCLOKE\,DOUNBY 45  £70.20 156 TEX \nCLOKE\,DOUNBY 46  £70.00 152.2 TEX \nONZIEBUST\,EGILSAY 49  £74.00 151 SUF \nONZIEBUST\,EGILSAY 48.5  £73.80 152.2 SUF \nONZIEBUST\,EGILSAY 47  £72.00 153.2 WHITE \nLOPNESS\,SANDAY 52  £86.50 166.3 TEX \nLOPNESS\,SANDAY 48  £75.50 157.3 TEX \nLOPNESS\,SANDAY 47  £73.00 155.3 TEX \nCOTLAND\,ST OLA 47  £73.80 157 TEX \nUPPER SCAPA\,ST OLA 44  £67.50 153.4 CHAR \nUPPER SCAPA\,ST OLA 42  £64.80 154.3 CHAR \nKIERFIOLD FARM\,SANDWICK 46  £71.20 154.8 TEX \nKIERFIOLD FARM\,SANDWICK 47  £71.00 151.1 TEX \nAIKERNESS\,EVIE 46  £72.00 156.5 TEX \nAIKERNESS\,EVIE 46  £71.00 154.3 SUF \nSOUTH FEA\,ORPHIR 42.5  £64.40 151.5 TEX \nNETHERHILL\,TANKERNESS 50  £85.50 171 TEX \nNETHERHILL\,TANKERNESS 46  £72.50 157.6 TEX \nSMOOGARTH\,FIRTH 47  £71.00 151.1 TEX \nSTORE LAMBS SOLD TO  £57 FOR TEXELS FROM ORGIL HOY\, LETTALY FIRTH AND SMOOGARTH FIRTH \nCAST SHEEP SOLD TO  £110 FOR A SUFFOLK EWE FROM GEORGE LOW CRAIGHAVEN TOAB \nOTHER CAST PRICES \nSEBAY\,TANKERNESS  £87.00 TEX \nSEBAY\,TANKERNESS  £86.00 TEX \nBIGGINGS\,STENNESS  £109.00 TEX \nBIGGINGS\,STENNESS  £79.00 SUF \nBIGGINGS\,STENNESS  £70.00 OTHER \nCOLLIGARTH\,SANDAY  £70.00 TEX \nLOPNESS\,SANDAY  £109.00 TEX \nODINSTONE\,SHAPINSAY  £108.00 TEX \nODINSTONE\,SHAPINSAY  £102.00 TEX \nODINSTONE\,SHAPINSAY  £90.00 TEX \nEILDON\,TOAB  £88.00 CHEV \nEILDON\,TOAB  £67.00 BLACK \nROADSIDE COTTAGE\,SMOOGRO\,ORPHIR\,  £78.00 WHITE
URL:https://orkneymart.com/event/sheep-sale-130/
CATEGORIES:Sales Report
END:VEVENT
END:VCALENDAR