BEGIN:VCALENDAR
VERSION:2.0
PRODID:-//Orkney Auction Mart - ECPv6.15.17.1//NONSGML v1.0//EN
CALSCALE:GREGORIAN
METHOD:PUBLISH
X-ORIGINAL-URL:https://orkneymart.com
X-WR-CALDESC:Events for Orkney Auction Mart
REFRESH-INTERVAL;VALUE=DURATION:PT1H
X-Robots-Tag:noindex
X-PUBLISHED-TTL:PT1H
BEGIN:VTIMEZONE
TZID:Europe/London
BEGIN:DAYLIGHT
TZOFFSETFROM:+0000
TZOFFSETTO:+0100
TZNAME:BST
DTSTART:20170326T010000
END:DAYLIGHT
BEGIN:STANDARD
TZOFFSETFROM:+0100
TZOFFSETTO:+0000
TZNAME:GMT
DTSTART:20171029T010000
END:STANDARD
BEGIN:DAYLIGHT
TZOFFSETFROM:+0000
TZOFFSETTO:+0100
TZNAME:BST
DTSTART:20180325T010000
END:DAYLIGHT
BEGIN:STANDARD
TZOFFSETFROM:+0100
TZOFFSETTO:+0000
TZNAME:GMT
DTSTART:20181028T010000
END:STANDARD
BEGIN:DAYLIGHT
TZOFFSETFROM:+0000
TZOFFSETTO:+0100
TZNAME:BST
DTSTART:20190331T010000
END:DAYLIGHT
BEGIN:STANDARD
TZOFFSETFROM:+0100
TZOFFSETTO:+0000
TZNAME:GMT
DTSTART:20191027T010000
END:STANDARD
END:VTIMEZONE
BEGIN:VEVENT
DTSTART;TZID=Europe/London:20180806T000000
DTEND;TZID=Europe/London:20180806T000000
DTSTAMP:20260425T212203
CREATED:20231020T101518Z
LAST-MODIFIED:20231027T105536Z
UID:10001015-1533513600-1533513600@orkneymart.com
SUMMARY:Cattle & Sheep Sales
DESCRIPTION:TODAY PRIME CATTLE SOLD TO A TOP OF 227 P/KG FOR A LIMOUSIN STOT SCALING 575 KILOS FROM J & R STANGERSOUTH SEATTER SANDWICK REALISING  £1305.25 PURCHASED BY E FLETT BUTCHERS STROMNESS \nPRIME HEIFERS REALISED 223 P/KG FOR A LIMOUSIN SCALING 580 KILOS FROM GLEN ORKNEY FARM ST OLASELLING FOR  £1293.40 AND WAS PURCHASED BY E FLETT BUTCHERS STROMNESS \nOTM COWS SOLD TO 137.6 P/KG FOR A SIMMENTAL SCALING 705 KILOS FROM J W S WISHART KNOCKHALLSOUTH RONALDSAY  £970 \nAN ABERDEEN ANGUS OTM BULL FROM J SINCLAIR & CO MIDHOUSE HARRAY SOLD FOR  £1140 \nPRIME LAMBS SOLD TO 180.4 P/KG FOR 4 TEXELS SCALING 51 KILOS FROM E S H HARCUS LTD QUANTERNESS ST OLAREALISING  £92 PURCHASED BY WILLIAMSONS EAST ROAD KIRKWALL \nCAST EWES SOLD TO  £92 FOR A TEXEL FROM J R & J E MOAR ROSEBANK DEERNESS
URL:https://orkneymart.com/event/cattle-sheep-sales-101/
CATEGORIES:Sales Report
END:VEVENT
BEGIN:VEVENT
DTSTART;TZID=Europe/London:20180820T000000
DTEND;TZID=Europe/London:20180820T000000
DTSTAMP:20260425T212203
CREATED:20231020T101518Z
LAST-MODIFIED:20231027T105536Z
UID:10001013-1534723200-1534723200@orkneymart.com
SUMMARY:Cattle & Sheep Sales
DESCRIPTION:FORWARD FOR SALE ON MONDAY WERE 6 PRIME CATTLE 10 OTM CATTLE 148 PRIME LAMBS AND \n148 CAST SHEEP \nPRIME STEERS SOLD TO 228 P/KG FOR A LIMOUSIN SCALING 570 KILOS FROM J & R STANGER SOUTH SEATTER \nSANDWICK REALISING  £1299.60 PURCHASED BY E FLETT BUTCHERS STROMNESS \nPRIME HEIFERS SOLD TO 225 P/KG FOR A LIMOUSIN SCALING 615 KILOS FROM D & G TAIT CAMPSTON TOAB \nREALISING  £1383.75 PURCHASED BY CRAIGIE BUTCHERS LTD BRIG LARDER KIRKWALL \nOTM COWS SOLD TO 152.5 /PK FOR A CHAROLAIS FROM J BRODIE SUNNYBANK ST OLA SELLING FOR  £900 \nTOP PRICE WAS  £1160 FOR A SIMMENTAL SCALING 790 KILOS FROM K WATSON & SON RENNIBISTER KIRKWALL \nPRIME LAMBS SOLD TO 189.8 P/KF FOR A PAIR OF CHAROLLAIS WEIGHING 49 KILOS\, THEY REALISED  £93 \nFROM E S H HARCUS LTD QUANTERNESS ST OLA AND WERE PURCHASED BY WILLIAMSONS EAST ROAD KIRKWALL \nOTHER PRIME LAMB PRICES \nAPPIETOWN\,RENDALL 45.4  £79.00 174 CHAR \nQUEENAMUCKLE\,RENDALL 48.5  £78.00 160.8 TEX \nNEWHALL\,STROMNESS 53  £93.00 175.5 TEX \nNEWHALL\,STROMNESS 65  £96.00 147.7 TEX \nCRUDY\,SANDAY 46  £83.00 180.4 TEX \nUPPER BERRYHILL\,ST OLA 45  £70.50 156.7 SUF \nQUANTERNESS\,ST OLA 49  £93.00 189.8 CHAR \nQUANTERNESS\,ST OLA 48.5  £78.00 160.8 CHAR \nHOWE FARM\,HARRAY 46  £78.50 170.7 LLEYN \nHOWE FARM\,HARRAY 47  £79.00 168.1 TEX \nNEARHOUSE\,TANKERNESS 51.5  £94.00 182.5 TEX \nSTONELEA\,STENNESS 47.5  £85.00 178.9 TEX \nSTONELEA\,STENNESS 42  £73.00 173.8 TEX \nWITHAQUOY\,HOLM 50  £91.00 182 TEX \nWITHAQUOY\,HOLM 46  £81.00 176 TEX \nEASTSIDE\,TWATT 48.5  £90.00 185.6 TEX \nSMOOGARTH\,FIRTH 46.5  £80.00 172 TEX \nSMOOGARTH\,FIRTH 44.5  £75.50 169.7 SUF \nSMOOGARTH\,FIRTH 42.5  £72.00 169.4 TEX \nWHITEHALL FARM\,STRONSAY 45  £80.00 177.8 TEX \nWHITEHALL FARM\,STRONSAY 47  £75.50 160.6 WHITE \nWHITEHALL FARM\,STRONSAY 45.5  £73.00 160.4 SUF \nHOWEQUOY\,HOLM 51  £91.00 178.4 TEX \nHOWEQUOY\,HOLM 45  £80.00 177.8 CHAR \nCAST EWES SOLD FOR  £103 FOR A TEXEL FROM J M LENNIE & CO NEARHOUSE TANKERNESS \nOTHER CAST PRICES \nKIRBUSTER\,LONGHOPE  £80.00 CHAR \nKIRBUSTER\,LONGHOPE  £41.00 WHITE \nQUEENAMUCKLE\,RENDALL  £70.00 TEX \nQUEENAMUCKLE\,RENDALL  £69.00 TEX \nUPPER BERRYHILL\,ST OLA  £58.00 TEX \nGARTHST OLA\,  £50.00 OTHER \nNEARHOUSE\,TANKERNESS  £103.00 TEX \nNEARHOUSE\,TANKERNESS  £100.00 TEX \nNEARHOUSE\,TANKERNESS  £99.00 TEX \nNEARHOUSE\,TANKERNESS  £85.00 BLACK \nSTONELEA\,STENNESS  £53.00 TEX \nSTONELEA\,STENNESS  £53.00 TEX \nOAKLEA\,ST OLA  £80.00 TEX \nOAKLEA\,ST OLA  £71.00 TEX \nWITHAQUOY\,HOLM  £79.00 TEX \nTWATT FARM\,BIRSAY  £55.00 WHITE \nTWATT FARM\,BIRSAY  £79.00 WHITE \nWHITEHALL FARM\,STRONSAY  £71.00 WHITE \nHOWEQUOY\,HOLM  £80.00 TEX \nHOWEQUOY\,HOLM  £68.00 TEX \nNORTH MOA\,RENDALL  £88.00 CHAR
URL:https://orkneymart.com/event/cattle-sheep-sales-100/
CATEGORIES:Sales Report
END:VEVENT
BEGIN:VEVENT
DTSTART;TZID=Europe/London:20180827T000000
DTEND;TZID=Europe/London:20180827T000000
DTSTAMP:20260425T212203
CREATED:20231020T101339Z
LAST-MODIFIED:20231027T105536Z
UID:10001012-1535328000-1535328000@orkneymart.com
SUMMARY:Cattle & Sheep Sales
DESCRIPTION:Cattle & Sheep Report – Monday 27th August\, 2018 \n19 Prime and 12 OTM cattle were sold on Monday. \nThe Prime ring was topped by a 695kg Limousin heifer\, from Baillie\, Sebay View\, Tankerness\, which realised 229p/kg ( £1591.55) to Williamsons\, Butcher\, Kirkwall \nOther leading Prime heifer prices were – British Blue (600kg) Biggings Farm Ltd\, Biggings\, Stenness (219p)  £1314 \nLimousin (685kg) Tait\, Campston\, Toab (218p)  £1493.30 \nLimousin (485kg) Morgan\, Swannay Farm\, Swannay (212p)  £1028.20 \nLimousin (610kg) Walls\, New Moan\, Sandwick (210p)  £1281 \nCharolais (545kg) Spence\, Hyval\, Sandwick (210p)  £1144.50 \nPrime steers  sold to 228p/kg for a 600kg Limousin\, from Stanger\, South Seatter\, Sandwick\, which realised  £1368 to Flett\, Butcher\, Stromness \nOther steer prices – \nLimousin (550kg) Henry\, Howe\, Harray (222p)  £1221 \nSimmental (740kg) Fraser\, Feavel\, Sandwick (213p)  £1576.20 \nOTM cows sold to 122.4p/kg for a 980kg Angus\, from Flett\, Stank\, Stromness which realised  £1200 (This was also top price per head) \nOther leading prices – \nSimmental (830kg) Scott\, Redland\, Firth (121.7p)  £1010 \nLimousin (740kg) Biggings Farm Ltd\, Biggings\, Stenness (135.1p)  £1000 \nShorthorn (790kg) Brodie\, Sunnybank\, St Ola (121.5p)  £960 \n  \nFollowing after the cattle sale\, 94 Prime lambs and 41 Cast sheep were sold. \nPrime lambs sold to 176.7p/kg for a Texel\, from Moar\, Withaquoy\, Holm\, which realised  £79.50 \nOther leading lamb prices – \n6 Beltex”s (52.5kg) Morgan\, Bryameadow\, Twatt (174.3p)  £91.50 \n13 Suffolks (46.5kg) Wishart\, Knockhall\, South Ronaldsay (169.9p)  £79 \n13 Charollais (48kg) Moar\, Upper Scapa\, St Ola (167.7p)  £80.50 \nTexel (45kg) Donaldson\, Redland\, Stromness (166.7p)  £75 \n8 Charollais (48kg) Harcus\, Quanterness\, St Ola (158.3p)  £76 \n2 Texels (42kg) Poke\, Netherstove\, Quoyloo (155p)  £65 \nTop price per head for Prime lambs was  £96.50 for a pair of 56kg Beltex x”s from Morgan\, Bryameadow\,  Twatt (172.3p/kg) \nOther leading lamb prices per head – \n4 Charollais (53kg) Moar\, Upper Scapa\, St Ola ( £85.50) 161.3p \nTexel (50kg) Moar\, Withaquoy\, Holm ( £85) 170p \nCast ewes sold to  £85 for a pair of Texels\, from Moar\, Withaquoy\, Holm \nOther leading ewe prices – \n3 Texels Harcus\, Quanterness\, St Ola ( £84) \n10 Texels Donaldson\, Redland\, Stromness ( £83) \nCast rams sold to  £59 for a Texel from Sinclair\, Carness\, St Ola \nThere will be a Special Sale of Store cattle next Monday at 10.30am – Sheep will be sold on Tuesday at 12 noon.
URL:https://orkneymart.com/event/cattle-sheep-sales-99/
CATEGORIES:Sales Report
END:VEVENT
END:VCALENDAR