BEGIN:VCALENDAR
VERSION:2.0
PRODID:-//Orkney Auction Mart - ECPv6.15.17.1//NONSGML v1.0//EN
CALSCALE:GREGORIAN
METHOD:PUBLISH
X-WR-CALNAME:Orkney Auction Mart
X-ORIGINAL-URL:https://orkneymart.com
X-WR-CALDESC:Events for Orkney Auction Mart
REFRESH-INTERVAL;VALUE=DURATION:PT1H
X-Robots-Tag:noindex
X-PUBLISHED-TTL:PT1H
BEGIN:VTIMEZONE
TZID:Europe/London
BEGIN:DAYLIGHT
TZOFFSETFROM:+0000
TZOFFSETTO:+0100
TZNAME:BST
DTSTART:20170326T010000
END:DAYLIGHT
BEGIN:STANDARD
TZOFFSETFROM:+0100
TZOFFSETTO:+0000
TZNAME:GMT
DTSTART:20171029T010000
END:STANDARD
BEGIN:DAYLIGHT
TZOFFSETFROM:+0000
TZOFFSETTO:+0100
TZNAME:BST
DTSTART:20180325T010000
END:DAYLIGHT
BEGIN:STANDARD
TZOFFSETFROM:+0100
TZOFFSETTO:+0000
TZNAME:GMT
DTSTART:20181028T010000
END:STANDARD
BEGIN:DAYLIGHT
TZOFFSETFROM:+0000
TZOFFSETTO:+0100
TZNAME:BST
DTSTART:20190331T010000
END:DAYLIGHT
BEGIN:STANDARD
TZOFFSETFROM:+0100
TZOFFSETTO:+0000
TZNAME:GMT
DTSTART:20191027T010000
END:STANDARD
END:VTIMEZONE
BEGIN:VEVENT
DTSTART;TZID=Europe/London:20180611T000000
DTEND;TZID=Europe/London:20180611T000000
DTSTAMP:20260425T235159
CREATED:20231020T101532Z
LAST-MODIFIED:20231027T105535Z
UID:10001022-1528675200-1528675200@orkneymart.com
SUMMARY:Cattle & Sheep Sales
DESCRIPTION:CATTLE \n9 Prime cattle\, 2 Store cattle and 6 OTM”s were sold on Monday. \nPrime cattle sold to 215p/kg for a 655kg Simmental heifer\, from McGucken\, Lyking\, Sandwick\, which realised  £1408.25 to Williamson”s\, Butcher\, Kirkwall. \nOther leading Prime heifer prices – \nSimmental (565kg) Ross\, Lenahowe\, Sandwick (214p)  £1209.10 \nLimousin (535kg) Tait\, Campston\, Toab (214p)  £1144.90 \nPrime steers sold to 209p/kg for a Simmental\, from McGucken\, Lyking\, Sandwick\, which scaled 875kg and realised  £1828.75\, also to Williamsons. \nStore heifers sold to 186p/kg for a 485kg Charolais\, from Brodie\, Sunnybank\, St Ola\, which realised  £900. \nOTM Cattle sold to 146.8p/kg for a 620kg Angus heifer\, from Flaws\, Nisthouse\, Evie\, which realised  £910. \nOTM Cows sold to 131.2p/kg for a 625kg Limousin\, from Miller\, Banks\, Stronsay\, which realised  £820. \nTop price per head for cows was  £910 for a 700kg Simmental\, from Skea\, Garbo\, Sanday (130p/kg) \nFollowing the Cattle sale\, 91 Prime hoggs\, 21 Store hoggs and 108 Cast sheep were sold \nSHEEP \nPrime hoggs sold to 158.6p/kg for a pen of 12 Charollais\, from Scott\, Appiehouse\, Stenness\, which scaled 58kg and realised  £92 which was also top gross price on the day. \nOther leading Prime hogg prices per kilo – \n18 Charollais (49kg) Fergus\, Grindigar\, Deerness (157.1p)  £77 \n3 Texels (53kg) Brodie\, Sunnybank\, St Ola (147.2p)  £78 \n2 Suffolks (41kg) Craigie\, Hall of Clestrain\, Orphir (146.3p)  £60 \nTexel (52kg) Stout\, Whitehall\, Stronsay (144.2p)  £75 \nCheviot (40kg) Gray\, Laithe\, Sandwick (142.5p)  £57 \nOther leading prices per head – \n5 Texels (63kg) Moar\, Rosebank\, Deerness ( £89) 141.3p \nCharollais (64kg) Fergus\, Grindigar\, Deerness ( £81) 126.6p \nSuffolk (74kg) Brodie\, Sunnybank\, St Ola ( £80) 108.1p \nStore hoggs sold to  £52 for a pen of 3 Texels  from Hourie\, Heathfield\, St Ola \nCast ewes sold to  £105 for a Suffolk\, from Isbister\, Feolquoy\, Evie \nOther leading ewe prices – \n2 Texels ( £104) Moar\, Rosebank\, Deerness \nTexel ( £102) Rendall\, Old Hall\, Stromness \nSuffolk ( £98) Stout\, Whitehall\, Stronsay \nTexel ( £91) Gray\, Laithe\, Sandwick \n3 Texels ( £86) Hourie\, Heathfield\, St Ola \nCast rams sold to  £100 for a Texel\, from Rendall\, Old Hall\, Stromness \nThe next sale at Orkney Auction Mart will be next Monday at 11.30am\, when we will sell Prime\, Store & OTM cattle
URL:https://orkneymart.com/event/cattle-sheep-sales-105/
CATEGORIES:Sales Report
END:VEVENT
BEGIN:VEVENT
DTSTART;TZID=Europe/London:20180625T000000
DTEND;TZID=Europe/London:20180625T000000
DTSTAMP:20260425T235159
CREATED:20231020T101531Z
LAST-MODIFIED:20231027T105536Z
UID:10001020-1529884800-1529884800@orkneymart.com
SUMMARY:Cattle & Sheep Sales
DESCRIPTION:FORWARD FOR SALE ON MONDAY WERE 11 PRIME CATTLE 10 OTM COWS AND SOME PRIME AND CAST SHEEP                                PRIME STEERS SOLD TO 227 P/KG FOR A LIMOUSIN SCALING 570 KILOS FROM B & M EUNSON                STAYE DEERNESS REALISING  £1430.10 PURCHASED BY CRAIGIE BUTCHERS Ltd BRIG LARDER KIRKWALL                                PRIME HEIFERS SOLD TO 221 P/KG FOR A LIMOUSIN SCALING 570 KILOS FROM D & G TAIT CAMPSTON                 TOAB REALISING  £1259.70 PURCHASED BY E FLETT BUTCHER STROMNESS                                OTHER PRIME PRICES                                STAYE\,DEERNESS    640     £1\,408.00    220    CHARGRANDON\,FINSTOWN    475     £1\,045.00    220    LIMGRANDON\,FINSTOWN    490     £1\,004.50    205    LIMCAULDHAME\,STROMNESS    665     £1\,429.75    215    SIMSOUTH SEATTER\,SANDWICK    670     £1\,507.50    225    SIMSOUTH SEATTER\,SANDWICK    625     £1\,381.25    221    SIMCAMPSTON\,TOAB    570     £1\,259.70    221    LIMCAMPSTON\,TOAB    590     £1\,298.00    220    LIM                OTM COWS SOLD TO 149.3 P/KG FOR A LIMOUSIN SCALING 670 KILOS FROM J M LENNIE COTT RENDALL                AND REALISED  £1000                                THE FIRST NEW SEASON LAMBS FOR SALE THIS YEAR WERE CONSIGNED BY R E SCOTT DAWN COTTAGE HOLM                THEY WERE TEXELS AND WEIGHED 50 KILOS AND SOLD FOR  £127 (254.9) & 52 KILOS  £131 (251.9) AND WERE ALL                 PURCHASED BY E FLETT BUTCHERS STROMNESS                                CAST SHEEP SOLD TO  £118 FOR A TEXEL RAM FROM J S & M M SINCLAIR EASTSIDE TWATT                 
URL:https://orkneymart.com/event/cattle-sheep-sales-104/
CATEGORIES:Sales Report
END:VEVENT
END:VCALENDAR