BEGIN:VCALENDAR
VERSION:2.0
PRODID:-//Orkney Auction Mart - ECPv6.15.17.1//NONSGML v1.0//EN
CALSCALE:GREGORIAN
METHOD:PUBLISH
X-WR-CALNAME:Orkney Auction Mart
X-ORIGINAL-URL:https://orkneymart.com
X-WR-CALDESC:Events for Orkney Auction Mart
REFRESH-INTERVAL;VALUE=DURATION:PT1H
X-Robots-Tag:noindex
X-PUBLISHED-TTL:PT1H
BEGIN:VTIMEZONE
TZID:Europe/London
BEGIN:DAYLIGHT
TZOFFSETFROM:+0000
TZOFFSETTO:+0100
TZNAME:BST
DTSTART:20170326T010000
END:DAYLIGHT
BEGIN:STANDARD
TZOFFSETFROM:+0100
TZOFFSETTO:+0000
TZNAME:GMT
DTSTART:20171029T010000
END:STANDARD
BEGIN:DAYLIGHT
TZOFFSETFROM:+0000
TZOFFSETTO:+0100
TZNAME:BST
DTSTART:20180325T010000
END:DAYLIGHT
BEGIN:STANDARD
TZOFFSETFROM:+0100
TZOFFSETTO:+0000
TZNAME:GMT
DTSTART:20181028T010000
END:STANDARD
BEGIN:DAYLIGHT
TZOFFSETFROM:+0000
TZOFFSETTO:+0100
TZNAME:BST
DTSTART:20190331T010000
END:DAYLIGHT
BEGIN:STANDARD
TZOFFSETFROM:+0100
TZOFFSETTO:+0000
TZNAME:GMT
DTSTART:20191027T010000
END:STANDARD
END:VTIMEZONE
BEGIN:VEVENT
DTSTART;TZID=Europe/London:20180402T000000
DTEND;TZID=Europe/London:20180402T000000
DTSTAMP:20260426T022630
CREATED:20231020T111758Z
LAST-MODIFIED:20231027T105433Z
UID:10001033-1522627200-1522627200@orkneymart.com
SUMMARY:Sheep Sale
DESCRIPTION:FORWARD FOR SALE ON MONDAY WERE 309 PRIME HOGGS 129 STORE HOGGS AND 67 CAST SHEEP \nPRIME HOGGS SOLD TO 221.6 P/KG FOR A CHAROLLAIS SCALING 44 KILOS FROM C W PATERSONVELTIGAR TANKERNESS REALISING  £97.50 \nTOP PRICE PER HEAD WAS  £118 FOR 4 SUFFOLKS SCALING 67.5 KILOS FROM J L BROWN GLEBE FIRTH \nOTHER PRIME HOGGSGLEBE\,FIRTH 56  £100.00 178.6 SUFBURNHOUSE\,LONGHOPE 42.2  £87.00 206.2 CHARBURNHOUSE\,LONGHOPE 41.5  £82.00 197.6 CHARCOLDOMO\,STENNESS 45  £93.00 206.7 TEXCOLDOMO\,STENNESS 44.5  £88.00 197.8 TEXCOLDOMO\,STENNESS 43.5  £87.00 200 SUFCOLDOMO\,STENNESS 42.5  £86.50 203.5 SUFNEWARK\,SANDAY 45  £91.00 202.2 TEXQUOYS\,DEERNESS 50  £101.50 203 SUFWASBISTER FARM\,SOUTH RONALDSAY 60  £110.00 183.3 SUFWASBISTER FARM\,SOUTH RONALDSAY 53  £103.00 194.3 SUFWASBISTER FARM\,SOUTH RONALDSAY 48  £95.00 197.9 SUFVELTIGAR\,TANKERNESS 51.4  £103.50 201.4 OTHERVELTIGAR\,TANKERNESS 51.4  £103.00 200.4 OTHERVELTIGAR\,TANKERNESS 44  £97.50 221.6 CHARVELTIGAR\,TANKERNESS 47  £96.50 205.3 CHARVELTIGAR\,TANKERNESS 42.5  £86.50 203.5 TEXHUAN\,SANDWICK 50  £103.50 207 OTHERHUAN\,SANDWICK 43  £88.00 204.7 WHITEHUAN\,SANDWICK 41  £82.50 201.2 WHITEGARTHST OLA\, 42  £71.00 169 OTHERMESSIGATE\,TANKERNESS 45  £91.00 202.2 TEXMESSIGATE\,TANKERNESS 40.5  £82.00 202.5 TEXMESSIGATE\,TANKERNESS 36  £72.50 201.4 TEXEAST GARTH\,HARRAY\, 50  £100.00 200 TEXEAST GARTH\,HARRAY\, 48  £95.00 197.9 TEXEAST GARTH\,HARRAY\, 38  £75.00 197.4 TEXUPPER SCAPA\,ST OLA 45  £93.00 206.7 TEXUPPER SCAPA\,ST OLA 42  £84.50 201.2 TEXEASTAQUOY FARM\,HARRAY 37  £72.50 195.9 TEXMIDLAND\,RENDALL 44  £88.50 201.1 SUFMIDLAND\,RENDALL 39.5  £80.20 203 SUFTWATT FARM\,BIRSAY 37  £70.00 189.2 CHARAPPIETEEN\,SANDWICK 51  £106.00 207.8 TEXAPPIETEEN\,SANDWICK 41  £84.00 204.9 TEXYARPHA\,ORPHIR 50  £104.50 209 TEXYARPHA\,ORPHIR 45  £93.50 207.8 SPEKROADSIDE COTTAGE\,ORPHIR\, 41  £88.00 214.6 TEXROADSIDE COTTAGE\,ORPHIR\, 41.5  £88.00 212 TEXROADSIDE COTTAGE\,ORPHIR\, 40  £80.00 200 TEXRENNIBISTER FARM\,KIRKWALL 43  £88.00 204.7 TEXRENNIBISTER FARM\,KIRKWALL 43  £87.00 202.3 TEXRENNIBISTER FARM\,KIRKWALL 37  £76.00 205.4 TEXHOWEQUOY\,HOLM 55  £115.00 209.1 TEXHOWEQUOY\,HOLM 45  £96.00 213.3 TEX \nSTORE HOGGS SOLD TO  £77 FOR 4 TEXELS FROM K MOAR EASTAQUOY HARRAY \nOTHER STORE HOGG PRICESMOUSELAND\,STROMNESS  £71.50 SUFMOUSELAND\,STROMNESS  £56.00 SUFWASBISTER FARM\,SOUTH RONALDSAY  £76.00 SUFWESTSHORE\,RENDALL  £69.00 TEXWESTSHORE\,RENDALL  £67.00 TEXGARTHST OLA\,  £53.00 SUFMESSIGATE\,TANKERNESS  £69.00 TEXNEARHOUSE\,TANKERNESS  £66.00 TEXYARPHA\,ORPHIR  £65.00 SHETROADSIDE COTTAGE\,ORPHIR\,  £57.00 TEXRENNIBISTER FARM\,KIRKWALL  £55.00 TEX \nCAST EWES SOLD TO  £125 FOR A PAIR OF SUFFOLKS FROM D & G SUMMERS EASTHOUSE TOAB \nOTHER CAST PRICESDRYDALE\,STROMNESS  £100.00 CHEVQUOYS\,DEERNESS  £95.00 BLACKUPPERFIELD\,ST OLA  £113.00 TEXUPPERFIELD\,ST OLA  £100.00 TEXWESTSHORE\,RENDALL  £65.00 TEXHUAN\,SANDWICK  £114.00 TEXHUAN\,SANDWICK  £107.00 TEXEAST GARTH\,\,HARRAY\,  £100.00 TEXEAST GARTH\,HARRAY\,  £90.00 WHITENORTH MANSE\,NORTH RONALDSAY  £88.00 WHITENORTH MANSE\,NORTH RONALDSAY  £78.00 WHITEBIGGINGS\,STENNESS  £83.00 SUFRENNIBISTER FARM\,KIRKWALL  £95.00 TEXRENNIBISTER FARM\,KIRKWALL  £80.00 TEXHOWEQUOY\,HOLM  £108.00 TEX
URL:https://orkneymart.com/event/sheep-sale-136/
CATEGORIES:Sales Report
END:VEVENT
BEGIN:VEVENT
DTSTART;TZID=Europe/London:20180416T000000
DTEND;TZID=Europe/London:20180416T000000
DTSTAMP:20260426T022630
CREATED:20231020T101932Z
LAST-MODIFIED:20231027T105433Z
UID:10001030-1523836800-1523836800@orkneymart.com
SUMMARY:Sheep Sale
DESCRIPTION:FORWARD FOR SALE ON MONDAY WERE 127 PRIME HOGGS 114 STORE HOGGS AND 56 CAST SHEEP \nPRIME HOGGS SOLD TO 235.6 P/KG FOR 4 BELTEX SCALING 45 KILOS FROM D & K MORGAN BRYAMEADOW TWATTREALISING  £106 \nTOP PRICE WAS  £124 FOR 3 TEXELS SCALING 62 KILOS FROM J S & M M SINCLAIR EASTSIDE TWATT \nOTHER PRIME HOGG PRICESTWINESS\,WESTRAY 46  £106.00 230.4 BLACKTWINESS\,WESTRAY 45  £100.00 222.2 TEXTWINESS\,WESTRAY 50  £109.50 219 SUFTWINESS\,WESTRAY 49  £106.00 216.3 SUFBURNHOUSE\,LONGHOPE 41.5  £90.00 216.9 CHARBURNHOUSE\,LONGHOPE 39  £79.00 202.6 CHARWESTSHORE\,RENDALL 44  £88.00 200 TEXUPPER SCAPA\,ST OLA 45  £96.50 214.4 TEXMIDLAND\,RENDALL 48.58  £107.00 220.3 SUFMIDLAND\,RENDALL 43.5  £92.00 211.5 SUFBRYAMEADOW FARM\,TWATT 45  £106.00 235.6 BELTEXBRYAMEADOW FARM\,TWATT 42  £90.00 214.3 BELTEXSTEMBISTER\,TOAB 51  £116.00 227.5 TEXSTEMBISTER\,TOAB 46  £103.00 223.9 TEXSTEMBISTER\,TOAB 50  £111.00 222 TEXSTEMBISTER\,TOAB 46  £101.00 219.6 TEXEASTSIDE\,TWATT 62  £124.00 200 TEXYARPHA\,ORPHIR 49  £111.00 226.5 TEXYARPHA\,ORPHIR 49  £104.00 212.2 TEXGARTH\,SOUTH RONALDSAY 47  £100.00 212.8 CHEV \nSTORE HOGGS SOLD TO  £75 FOR 16 TEXELS FROM W & M ROBERTSON BRUNTHOUSE FLOTTA \nOTHER STORE HOGG PRICESTWINESS\,WESTRAY  £69.50 SUFBINSCARTH \,FINSTOWN  £59.50 SUFWESTSHORE\,RENDALL  £64.50 TEXWESTSHORE\,RENDALL  £63.00 TEXWESTSHORE\,RENDALL  £55.50 TEXWITHAQUOY\,HOLM  £64.50 TEXLETTALY\,FIRTH  £50.00 TEXLOWER BERRYHILL\,ST OLA  £58.00 CHEVLOWER BERRYHILL\,ST OLA  £50.50 CHEVLOWER BERRYHILL\,ST OLA  £48.00 CHEVBRUNTHOUSE\,FLOTTA  £55.00 TEX \nCAST SHEEP SOLD TO  £119 FOR 3 TEXELS FROM J S & M M SINCLAIR EASTSIDE TWATT AND ALSO ATEXEL FROM H R & M L THOMSON HEATHERCOW EDAY \nOTHER PRICESBURNSIDE\,ORPHIR  £110.00 TEXBURNHOUSE\,LONGHOPE  £69.00 CHARLAGA\,EVIE  £79.00 LLEYNWESTSHORE\,RENDALL  £87.00 LLEYNWESTSHORE\,RENDALL  £81.00 TEXCLOKE\,DOUNBY  £80.00 SUFLAGA\,EVIE  £80.00 LLEYNSTONELEA\,STENNESS  £104.00 TEXSTONELEA\,STENNESS  £86.00 TEXWITHAQUOY\,HOLM  £100.00 TEXMIDLAND\,RENDALL  £50.00 CHEVBRUNTHOUSE\,FLOTTA  £76.00 TEXCAULDHAME\,STROMNESS  £63.00 WHITESOUTH SEATTER\,SANDWICK  £90.00 OTHERRAMSQUOY\,STENNESS  £65.00 TEXHEATHERCOW\,EDAY  £101.00 TEXHEATHERCOW\,EDAY  £68.00 TEX
URL:https://orkneymart.com/event/sheep-sale-135/
CATEGORIES:Sales Report
END:VEVENT
END:VCALENDAR