BEGIN:VCALENDAR
VERSION:2.0
PRODID:-//Orkney Auction Mart - ECPv6.15.17.1//NONSGML v1.0//EN
CALSCALE:GREGORIAN
METHOD:PUBLISH
X-WR-CALNAME:Orkney Auction Mart
X-ORIGINAL-URL:https://orkneymart.com
X-WR-CALDESC:Events for Orkney Auction Mart
REFRESH-INTERVAL;VALUE=DURATION:PT1H
X-Robots-Tag:noindex
X-PUBLISHED-TTL:PT1H
BEGIN:VTIMEZONE
TZID:Europe/London
BEGIN:DAYLIGHT
TZOFFSETFROM:+0000
TZOFFSETTO:+0100
TZNAME:BST
DTSTART:20200329T010000
END:DAYLIGHT
BEGIN:STANDARD
TZOFFSETFROM:+0100
TZOFFSETTO:+0000
TZNAME:GMT
DTSTART:20201025T010000
END:STANDARD
BEGIN:DAYLIGHT
TZOFFSETFROM:+0000
TZOFFSETTO:+0100
TZNAME:BST
DTSTART:20210328T010000
END:DAYLIGHT
BEGIN:STANDARD
TZOFFSETFROM:+0100
TZOFFSETTO:+0000
TZNAME:GMT
DTSTART:20211031T010000
END:STANDARD
BEGIN:DAYLIGHT
TZOFFSETFROM:+0000
TZOFFSETTO:+0100
TZNAME:BST
DTSTART:20220327T010000
END:DAYLIGHT
BEGIN:STANDARD
TZOFFSETFROM:+0100
TZOFFSETTO:+0000
TZNAME:GMT
DTSTART:20221030T010000
END:STANDARD
END:VTIMEZONE
BEGIN:VEVENT
DTSTART;TZID=Europe/London:20211206T000000
DTEND;TZID=Europe/London:20211206T000000
DTSTAMP:20260420T074224
CREATED:20231020T092839Z
LAST-MODIFIED:20231027T105555Z
UID:10000744-1638748800-1638748800@orkneymart.com
SUMMARY:Cattle Sale
DESCRIPTION:Forward for sale on Monday were 12 Prime\, 141 Breeding and 7 OTM cattle. Prime Steers topped at 246 p/kg for a Charolais scaling 655 kilos from J & R Stanger\, South Seatter\, Sandwick realising  £1611 purchased by Williamsons Prime Heifers topped at 244 p/kg for a Charolais scaling 645 kilos from J & R Stanger\, South Seatter\, Sandwick realising  £1574 purchased by Craigies OTHER PRIME CATTLE SOUTH SEATTER\,SANDWICK 590  £1\,427.80 242 CHAR LYKING\,SANDWICK 625  £1\,500.00 240 SIM LYKING\,SANDWICK 650  £1\,553.50 239 SIM MIDHOUSE\,EVIE 645  £1\,541.55 239 CHAR SWANNAY FARM\,BY EVIE 555  £1\,287.60 232 LIM HOWE\,HARRAY 570  £1\,311.00 230 CHAR 11 In Calf Heifers from D & G Tait\, Campston\, Toab topped at  £1520 for a Limousin. OTHER CAMPSTON HEIFERS CAMPSTON\, TOAB  £1\,520.00 LIM CAMPSTON\, TOAB  £1\,500.00 AA CAMPSTON\, TOAB  £1\,450.00 LIM CAMPSTON\, TOAB  £1\,400.00 LIM 51 In Calf Cows from D & G Tait\, Campston\, Toab topped at  £1720 for a Limousin. OTHER CAMPSTON COWS CAMPSTON\, TOAB  £1\,700.00 LIM CAMPSTON\, TOAB  £1\,620.00 AA CAMPSTON\, TOAB  £1\,600.00 LIM CAMPSTON\, TOAB  £1\,500.00 AA CAMPSTON\, TOAB  £1\,500.00 LIM CAMPSTON\, TOAB  £1\,400.00 AA CAMPSTON\, TOAB  £1\,350.00 LIM CAMPSTON BREEDING BULLS CAMPSTON\, TOAB  £2\,500.00 AA CAMPSTON\, TOAB  £2\,000.00 LIM 44 In Calf Cows from W Drever\, Newark\, Sanday topped at  £1280 for a Luing Cross. OTHER NEWARK COWS NEWARK\, SANDAY  £1\,250.00 CONT NEWARK\, SANDAY  £1\,220.00 CONT NEWARK\, SANDAY  £1\,200.00 CONT NEWARK\, SANDAY  £1\,180.00 CONT NEWARK\, SANDAY  £1\,150.00 CONT 7 In Calf Cows from Johnston\, Cloke\,Dounby topped at  £1800 for a Limousin. OTHER CLOKE COWS CLOKE\,DOUNBY  £1\,720.00 LIM CLOKE\,DOUNBY  £1\,600.00 SAL CLOKE\,DOUNBY  £1\,520.00 LIM 4 In Calf Heifers from A & L Cromarty\, Hools\, South Ronaldsay topped at  £1700 twice for 2 Limousins. 2 In Calf Cows from A & L Cromarty\, Hools\, South Ronaldsay topped at  £2050 for a Limousin. 2 Cows with Calves at foot from A & L Cromarty\, Hools\, South Ronaldsay sold to  £1800 twice. 7 In Calf Heifers from Fraser\, Westshore\, Rendall topped at  £1350 for a Simmental. 6 In Calf Cows from Fraser\, Westshore\, Rendall topped at  £1200 for an Aberdeen Angus. OTM Cows averaged 117 p/kg and topped at 144 p/kg for a Limousin scaling 655 kilos from B & M Eunson\, Staye\, Deerness realising  £940.
URL:https://orkneymart.com/event/cattle-sale-60/
CATEGORIES:Sales Report
END:VEVENT
BEGIN:VEVENT
DTSTART;TZID=Europe/London:20211213T000000
DTEND;TZID=Europe/London:20211213T000000
DTSTAMP:20260420T074224
CREATED:20231020T092824Z
LAST-MODIFIED:20231027T105555Z
UID:10000742-1639353600-1639353600@orkneymart.com
SUMMARY:Cattle Sale
DESCRIPTION:Forward for sale on Monday were 7 Prime Cattle\, 433 Store Cattle & 28 OTM Cattle. Prime Cattle topped at 251 p/kg for a Charolais scaling 600 kilos from J & R Stanger\, South Seatter\, Sandwick realising  £1506 purchased by Donaldsons. Store Steers averaged 225.4 p/kg and topped at 267.5 p/kg for a pen of 5 Charolais scaling 400 kilos from Biggings\, Stenness realising  £1070. OTHER STEERS PER KILO HEWAN\,SHAPINSAY 490  £1\,305.00 266.3 LIMHEWAN\,SHAPINSAY 495  £1\,240.00 250.5 LIMHEWAN\,SHAPINSAY 550  £1\,370.00 249.1 LIMHAYON\,BIRSAY 320  £850.00 265.6 LIMMILLBRAE\,SANDAY 470  £1\,230.00 261.7 LIMMILLBRAE\,SANDAY 540  £1\,305.00 241.7 LIMBIGGINGS\,STENNESS 413  £1\,060.00 256.7 SIMBIGGINGS\,STENNESS 421  £1\,080.00 256.5 CHARHOUSEBAY\,STRONSAY 495  £1\,265.00 255.6 BBHOUSEBAY\,STRONSAY 510  £1\,250.00 245.1 BBHOUSEBAY\,STRONSAY 545  £1\,320.00 242.2 LIMHOUSEBAY\,STRONSAY 550  £1\,315.00 239.1 LIMHUIP\,STRONSAY 420  £1\,065.00 253.6 CHARHUIP\,STRONSAY 420  £1\,030.00 245.2 AADALVENNA\,ST OLA 555  £1\,375.00 247.7 LIMNEW MOAN\,DOUNBY 545  £1\,325.00 243.1 LIMLANGSKAILL\,ROUSAY 545  £1\,300.00 238.5 LIMLANGSKAILL\,ROUSAY 575  £1\,325.00 230.4 CHARMUCKLE CROFTY\,TANKERNESS 488  £1\,160.00 237.7 LIMPURTABRECK\,TOAB 490  £1\,160.00 236.7 LIMEAST HOWE\,BIRSAY 580  £1\,370.00 236.2 LIMEAST HOWE\,BIRSAY 592  £1\,325.00 223.8 LIMHOLLAND\,FIRTH 523  £1\,235.00 236.1 CHARHOLLAND\,FIRTH 520  £1\,220.00 234.6 LIMHOLLAND\,FIRTH 520  £1\,215.00 233.7 CHARSERRIGAR\,SOUTH RONALDSAY 545  £1\,280.00 234.9 CHARSERRIGAR\,SOUTH RONALDSAY 530  £1\,200.00 226.4 CHARSERRIGAR\,SOUTH RONALDSAY 625  £1\,400.00 224 CHARWHITECLEAT\,TANKERNESS 510  £1\,195.00 234.3 LIMWHITECLEAT\,TANKERNESS 590  £1\,345.00 228 CHARWEST BROUGH\,SANDAY 592  £1\,385.00 234 CHARWEST BROUGH\,SANDAY 555  £1\,270.00 228.8 CHAREASTABIST\,DOUNBY 456  £1\,055.00 231.4 SIMEASTABIST\,DOUNBY 525  £1\,200.00 228.6 SIMSOUTH BRECK\,FIRTH 535  £1\,230.00 229.9 CHARSOUTH BRECK\,FIRTH 555  £1\,215.00 218.9 BBGORN\,WESTRAY 540  £1\,230.00 227.8 SIMGORN\,WESTRAY 512  £1\,165.00 227.5 CHARNETHERSKAILL\,BIRSAY 570  £1\,295.00 227.2 CHARNETHERSKAILL\,BIRSAY 595  £1\,340.00 225.2 CHARNESSBRECK\,HARRAY 487  £1\,105.00 226.9 CHARNESSBRECK\,HARRAY 550  £1\,245.00 226 CHARKNOWE\,SANDAY 520  £1\,180.00 226.9 CHARKNOWE\,SANDAY 533  £1\,195.00 224.2 CHARKNOWE\,SANDAY 565  £1\,245.00 220.4 CHARGARSON\,SANDWICK 555  £1\,250.00 225.2 CHARGARSON\,SANDWICK 617  £1\,370.00 222 CHARSKAILL\,ORPHIR 591  £1\,330.00 225 AASTRATHEAST\,HOLM 565  £1\,250.00 221.2 SIMSTRATHEAST\,HOLM 573  £1\,250.00 218.2 SIMBRAEHEAD\,STROMNESS 455  £1\,000.00 219.8 SIMWESTFIELD\,STROMNESS 585  £1\,285.00 219.7 LIMWESTFIELD\,STROMNESS 512  £1\,100.00 214.8 BBBRAELAND\,SOUTH RONALDSAY 530  £1\,155.00 217.9 CHARBRAELAND\,SOUTH RONALDSAY 535  £1\,150.00 215 CHARBRAELAND\,SOUTH RONALDSAY 545  £1\,165.00 213.8 AANORTH SKAILL\,SANDAY 632  £1\,365.00 216 CHARNORTH SKAILL\,SANDAY 611  £1\,305.00 213.6 CHARNORTH SKAILL\,SANDAY 602  £1\,280.00 212.6 AABLINKBONNY\,STRONSAY 590  £1\,270.00 215.3 AABRIARLEA\,STRONSAY 550  £1\,180.00 214.5 AABRECK-MYRES\,SHAPINSAY 515  £1\,070.00 207.8 AA Steers averaged  £1208 and topped at  £1455 for a pair of Charolais scaling 697 kilos from D & B Moodie\, Northskaill\, Sanday. OTHER STEERS PER HEAD GARSON\,SANDWICK 662  £1\,440.00 CHAR NEW MOAN\,DOUNBY 630  £1\,410.00 LIM NORTH SKAILL\,SANDAY 720  £1\,400.00 CHAR SERRIGAR\,SOUTH RONALDSAY 625  £1\,400.00 CHAR HOUSEBAY\,STRONSAY 605  £1\,390.00 LIM WEST BROUGH\,SANDAY 592  £1\,385.00 CHAR DALVENNA\,ST OLA 555  £1\,375.00 LIM WHITECLEAT\,TANKERNESS 620  £1\,375.00 LIM EAST HOWE\,BIRSAY 580  £1\,370.00 LIM HEWAN\,SHAPINSAY 550  £1\,370.00 LIM LANGSKAILL\,ROUSAY 595  £1\,360.00 CHAR NETHERSKAILL\,BIRSAY 595  £1\,340.00 CHAR SKAILL\,ORPHIR 591  £1\,330.00 AA MILLBRAE\,SANDAY 540  £1\,305.00 LIM STRATHEAST\,HOLM 602  £1\,290.00 SIM WESTFIELD\,STROMNESS 585  £1\,285.00 LIM BLINKBONNY\,STRONSAY 590  £1\,270.00 AA BLINKBONNY\,STRONSAY 610  £1\,265.00 AA KNOWE\,SANDAY 565  £1\,245.00 CHAR NESSBRECK\,HARRAY 550  £1\,245.00 CHAR HOLLAND\,FIRTH 545  £1\,235.00 CHAR SOUTH BRECK\,FIRTH 535  £1\,230.00 LIM GORN\,WESTRAY 540  £1\,230.00 SIM EASTABIST\,DOUNBY 525  £1\,200.00 SIM BRIARLEA\,STRONSAY 550  £1\,180.00 AA BRAELAND\,SOUTH RONALDSAY 545  £1\,165.00 AA PURTABRECK\,TOAB 490  £1\,160.00 LIM MUCKLE CROFTY\,TANKERNESS 488  £1\,160.00 LIM BIGGINGS\,STENNESS 465  £1\,095.00 CHAR HUIP\,STRONSAY 475  £1\,075.00 AA BRECK-MYRES\,SHAPINSAY 515  £1\,070.00 AA BRAEHEAD\,STROMNESS 455  £1\,000.00 SIM Store Heifers averaged 214.5 p/kg and topped at 249.5 p/kg for a Limousin scaling 465 kilos from I & I Brown\, Millbrae\, Sanday realising  £1160. OTHER HEIFERS PER KILO GARSON\,SANDWICK 500  £1\,235.00 247 CHARGARSON\,SANDWICK 610  £1\,400.00 229.5 CHARHEWAN\,SHAPINSAY 490  £1\,210.00 246.9 LIMHEWAN\,SHAPINSAY 505  £1\,245.00 246.5 LIMHOLLAND\,FIRTH 502  £1\,220.00 243 CHARHOLLAND\,FIRTH 490  £1\,170.00 238.8 CHARHOLLAND\,FIRTH 512  £1\,190.00 232.4 CHARNISTAGAR\,HARRAY 555  £1\,340.00 241.4 LIMMILLBRAE\,SANDAY 512  £1\,230.00 240.2 LIMMILLBRAE\,SANDAY 500  £1\,200.00 240 CHARHOLLAND\,STRONSAY 470  £1\,115.00 237 SIMHOUSEBAY\,STRONSAY 490  £1\,140.00 232.7 SIMHOUSEBAY\,STRONSAY 505  £1\,165.00 230.7 CHARODINESS\,STRONSAY 445  £1\,050.00 236 LIMODINESS\,STRONSAY 525  £1\,180.00 224.8 LIMNETHERSKAILL\,BIRSAY 530  £1\,220.00 230.2 LIMNETHERSKAILL\,BIRSAY 590  £1\,300.00 220.3 CHARKNOWE\,SANDAY 500  £1\,150.00 230 CHARKNOWE\,SANDAY 535  £1\,190.00 222.4 CHARKNOWE\,SANDAY 529  £1\,175.00 222.1 CHARNEW MOAN\,DOUNBY 600  £1\,375.00 229.2 LIMHAYON\,BIRSAY 312  £715.00 229.2 LIMLOPNESS\,SANDAY 555  £1\,270.00 228.8 CHARLOPNESS\,SANDAY 520  £1\,185.00 227.9 CHARLOPNESS\,SANDAY 540  £1\,225.00 226.9 CHARLOPNESS\,SANDAY 551  £1\,245.00 226 CHARWEST BROUGH\,SANDAY 540  £1\,235.00 228.7 CHARWEST BROUGH\,SANDAY 595  £1\,340.00 225.2 CHARWEST BROUGH\,SANDAY 520  £1\,170.00 225 SALNETHERHILL\,TANKERNESS 510  £1\,160.00 227.5 CHARSOUTH BRECK\,FIRTH 590  £1\,325.00 224.6 LIMINGSAY\,SWANNAY 522  £1\,170.00 224.1 CHARINGSAY\,SWANNAY 500  £1\,080.00 216 CHARLOWER CORNQUOY\,HOLM 502  £1\,125.00 224 SIMLOWER CORNQUOY\,HOLM 477  £1\,020.00 214 SIMPURTABRECK\,TOAB 440  £985.00 223.9 CHAREAST HOWE\,BIRSAY 545  £1\,215.00 222.9 LIMSEATTERSQUOY\,STENNESS 618  £1\,375.00 222.5 CHARNESSBRECK\,HARRAY 620  £1\,365.00 220.2 CHARNESSBRECK\,HARRAY 525  £1\,130.00 215.2 CHARHOLLAND\,SOUTH RONALDSAY 502  £1\,095.00 218.1 SIMEASTABIST\,DOUNBY 500  £1\,090.00 218 SIMHUIP\,STRONSAY 430  £930.00 216.3 AAHUIP\,STRONSAY 462  £975.00 211 AANORTH SKAILL\,SANDAY 565  £1\,220.00 215.9 CHARNORTH SKAILL\,SANDAY 591  £1\,270.00 214.9 CHARNORTHFIELD\,BURRAY 495  £1\,060.00 214.1 AANORTHFIELD\,BURRAY 428  £910.00 212.6 AASKAILL\,ORPHIR 585  £1\,240.00 212 CHARSKAILL\,ORPHIR 542  £1\,140.00 210.3 CHARWESTFIELD\,STROMNESS 475  £990.00 208.4 LIMBLINKBONNY\,STRONSAY 635  £1\,305.00 206 AAUPPER BRECKQUOY\,HOLM 445  £915.00 205.6 AABRECK-MYRES\,SHAPINSAY 472  £950.00 201.3 AA Heifers averaged  £1149 and topped at  £1400 for a Charolais scaling 610 kilos from Garson Farms\, Sandwick. OTHER HEIFERS PER HEAD SEATTERSQUOY\,STENNESS 660  £1\,385.00 CHAR SEATTERSQUOY\,STENNESS 618  £1\,375.00 CHAR NISTAGAR\,HARRAY 605  £1\,375.00 LIM NEW MOAN\,DOUNBY 600  £1\,375.00 LIM HOLLAND\,FIRTH 620  £1\,370.00 LIM NESSBRECK\,HARRAY 620  £1\,365.00 CHAR WEST BROUGH\,SANDAY 595  £1\,340.00 CHAR GARSON\,SANDWICK 603  £1\,330.00 CHAR LOPNESS\,SANDAY 625  £1\,330.00 SIM SOUTH BRECK\,FIRTH 590  £1\,325.00 LIM BLINKBONNY\,STRONSAY 635  £1\,305.00 AA NETHERSKAILL\,BIRSAY 590  £1\,300.00 CHAR NORTH SKAILL\,SANDAY 591  £1\,270.00 CHAR HEWAN\,SHAPINSAY 505  £1\,245.00 LIM HOUSEBAY\,STRONSAY 555  £1\,240.00 SIM SKAILL\,ORPHIR 585  £1\,240.00 CHAR MILLBRAE\,SANDAY 512  £1\,230.00 LIM INGSAY\,SWANNAY 575  £1\,230.00 CHAR KNOWE\,SANDAY 550  £1\,215.00 CHAR EAST HOWE\,BIRSAY 545  £1\,215.00 LIM LOWER CORNQUOY\,HOLM 585  £1\,200.00 SIM ODINESS\,STRONSAY 525  £1\,180.00 LIM NETHERHILL\,TANKERNESS 510  £1\,160.00 CHAR HOLLAND\,SOUTH RONALDSAY 502  £1\,095.00 SIM EASTABIST\,DOUNBY 500  £1\,090.00 SIM BRECK-MYRES\,SHAPINSAY 543  £1\,060.00 AA NORTHFIELD\,BURRAY 495  £1\,060.00 AA ONZIEBUST\,EGILSAY 550  £1\,025.00 AA NEARHOUSE\,TANKERNESS 530  £1\,010.00 OTH OTM Cattle averaged 130.5 p/kg and topped at 189.5 p/kg for an Angus scaling 570 kilos from R & M Leslie\, Chaplebrae\, Westray realising  £1080. OTHER OTM PER KILO CARRICK\,EDAY 600  £1\,080.00 180 SALCARRICK\,EDAY 835  £1\,360.00 162.9 OTHBRAEHEAD\,STROMNESS 770  £1\,220.00 158.4 SALFLOSS\,WESTRAY 790  £1\,200.00 151.9 SIMFLOSS\,WESTRAY 630  £940.00 149.2 AAEASTHOUSE\,SHAPINSAY 690  £980.00 142 AAEASTHOUSE\,SHAPINSAY 680  £910.00 133.8 AADALVENNA\,ST OLA 680  £950.00 139.7 LIMCHAPELBRAE\,WESTRAY 610  £830.00 136.1 AAODINESS\,STRONSAY 705  £950.00 134.8 AAODINESS\,STRONSAY 700  £900.00 128.6 SIMSOUTH BRECK\,FIRTH 710  £950.00 133.8 LIMNORTHFIELD\,BURRAY 690  £910.00 131.9 AALOPNESS\,SANDAY 700  £900.00 128.6 AALOPNESS\,SANDAY 740  £950.00 128.4 LIM Top price per head was  £1360 for a Shorthorn Cow scaling 835 kilos from Carrick Farm\, Eday.
URL:https://orkneymart.com/event/cattle-sale-59/
CATEGORIES:Sales Report
END:VEVENT
BEGIN:VEVENT
DTSTART;TZID=Europe/London:20211220T000000
DTEND;TZID=Europe/London:20211220T000000
DTSTAMP:20260420T074224
CREATED:20231020T092824Z
LAST-MODIFIED:20231027T105555Z
UID:10000740-1639958400-1639958400@orkneymart.com
SUMMARY:Cattle & Sheep Sales
DESCRIPTION:Forward for sale on Monday were 22 OTM Cattle & 424 Prime\, Store & Cast Sheep. OTM Cattle averaged 132.3 p/kg and topped at 198.1 p/kg for a Simmental scaling 515 kilos from M & W Holland\, Hunton\, Stronsay realising  £1020. OTHER OTM PER KILO HUNTON\,STRONSAY 690  £1\,245.00 180.4 OTHHUNTON\,STRONSAY 565  £950.00 168.1 AAHUNTON\,STRONSAY 735  £1\,040.00 141.5 LIMHUNTON\,STRONSAY 840  £1\,180.00 140.5 AAHUNTON\,STRONSAY 770  £1\,080.00 140.3 AANORTHFIELD\,BURRAY 770  £1\,130.00 146.8 AANORTHFIELD\,BURRAY 990  £1\,360.00 137.4 AANORTHFIELD\,BURRAY 845  £1\,160.00 137.3 AAGREENTOFT\,EDAY 750  £1\,080.00 144 SIMGREENTOFT\,EDAY 630  £865.00 137.3 SALFRUSTIGARTH\,SHAPINSAY 825  £1\,060.00 128.5 AABIGGINGS\,HOLM 635  £800.00 126 BBBIGGINGS\,HOLM 715  £840.00 117.5 AABIGGINGS\,HOLM 725  £850.00 117.2 SIMEASTABIST\,DOUNBY 570  £710.00 124.6 AAEASTABIST\,DOUNBY 615  £755.00 122.8 SIM Prime Lambs averaged 250 p/kg (-5.5p) SQQ Lambs averaged 254.4 p/kg (-1.1p) Lambs per head averaged  £115.28 (+ £0.58) Prime Lambs topped at 269.2 p/kg for a Texel scaling 52 kilos from J L Brodie\, Sunnybank\, St Ola realising  £140 which was top price per head. OTHER LAMBS PER KILO LENAHOWE\,SANDWICK 44  £116.00 263.6 TEXLENAHOWE\,SANDWICK 44  £115.00 261.4 TEXLENAHOWE\,SANDWICK 46  £120.00 260.9 TEXMOA\,STENNESS 48  £126.00 262.5 TEXROADSIDE\,ST OLA 45  £118.00 262.2 TEXROADSIDE\,ST OLA 44  £114.00 259.1 TEXFEA\,HOLM 50  £130.00 260 TEXFEA\,HOLM 42  £108.00 257.1 OTHERHUNTON\,STRONSAY 47  £122.00 259.6 TEXHUNTON\,STRONSAY 42.5  £106.50 250.6 TEXHOLLAND\,PAPA WESTRAY 43  £111.50 259.3 TEXHOLLAND\,PAPA WESTRAY 43  £111.00 258.1 SUFHOLLAND\,PAPA WESTRAY 44  £113.00 256.8 SUFHOLLAND\,SOUTH RONALDSAY 48  £124.00 258.3 SUFCHARLESTON\,PAPA WESTRAY 42  £108.50 258.3 TEXCHARLESTON\,PAPA WESTRAY 42  £108.50 258.3 TEXCHARLESTON\,PAPA WESTRAY 43  £107.50 250 TEXWESTSHORE\,RENDALL 44  £112.50 255.7 CHEVWESTSHORE\,RENDALL 45  £115.00 255.6 CHEVWESTSHORE\,RENDALL 48  £122.50 255 CHEVSUNNYBANK\,ST OLA 40  £102.00 255 TEXCOTLAND\,ST OLA 40  £102.00 255 TEXCOTLAND\,ST OLA 43  £108.00 251.2 CHARHOBBISTER\,ORPHIR 45  £113.50 252.2 SUFHOBBISTER\,ORPHIR 45.5  £114.50 251.6 LLEYNHOBBISTER\,ORPHIR 46.5  £116.50 250.5 SUF OTHER LAMBS PER HEAD HOLLAND\,SOUTH RONALDSAY 68  £135.00 SUF HOLLAND\,SOUTH RONALDSAY 75  £135.00 SUF MOA\,STENNESS 55  £135.00 TEX MOA\,STENNESS 60  £134.00 TEX ROADSIDE\,ST OLA 52  £131.00 TEX FEA\,HOLM 52  £131.00 WHITE FEA\,HOLM 50  £130.00 TEX WESTSHORE\,RENDALL 48  £122.50 CHEV HUNTON\,STRONSAY 47  £122.00 TEX LENAHOWE\,SANDWICK 46  £120.00 TEX HOBBISTER\,ORPHIR 46.5  £116.50 SUF HOBBISTER\,ORPHIR 46.5  £115.00 LLEYN HOLLAND\,PAPA WESTRAY 44  £113.00 SUF CHARLESTON\,PAPA WESTRAY 42  £108.50 TEX COTLAND\,ST OLA 43  £108.00 CHAR SUNNYBANK\,ST OLA 40  £102.00 TEX Store Lambs averaged  £86.34 (+ £5.59) and topped at  £99 for 31 Cheviots from K & K Morgan\, Swannay Farm. OTHER STORE LAMBS SUNNYBANK\,ST OLA  £96.00 TEX SUNNYBANK\,ST OLA  £94.50 TEX SUNNYBANK\,ST OLA  £90.00 TEX SWANNAY FARM\,BY EVIE  £96.00 CHEV SWANNAY FARM\,BY EVIE  £93.00 SUF LITTLE WARDS\,LONGHOPE  £82.00 LLEYN LITTLE WARDS\,LONGHOPE  £80.00 SUF HUNTON\,STRONSAY  £75.00 CHEV Cast Sheep topped at  £166 for a Texel Ewe from J L Brodie\, Sunnybank\, St Ola. OTHER CAST SHEEP SUNNYBANK\,ST OLA  £157.00 TEX SUNNYBANK\,ST OLA  £146.00 CHAR SUNNYBANK\,ST OLA  £129.00 TEX SUNNYBANK\,ST OLA  £120.00 CHAR BRECK COTTAGE\,BIRSAY  £130.00 TEX DALE\,EDAY  £115.00 CHEV HUNTON\,STRONSAY  £111.00 CHEV GREENTOFT\,EDAY  £111.00 CHEV GREENTOFT\,EDAY  £102.00 CHEV BURGAR\,HOY  £79.00 WHITE HOLLAND\,PAPA WESTRAY  £76.00 SHET We would like to thank all our customers from near and far for their continued support and custom over the past year. We wish you all a Merry Christmas and a happy\, healthy and prosperous new year.
URL:https://orkneymart.com/event/cattle-sheep-sales-39/
CATEGORIES:Sales Report
END:VEVENT
END:VCALENDAR