BEGIN:VCALENDAR
VERSION:2.0
PRODID:-//Orkney Auction Mart - ECPv6.15.17.1//NONSGML v1.0//EN
CALSCALE:GREGORIAN
METHOD:PUBLISH
X-WR-CALNAME:Orkney Auction Mart
X-ORIGINAL-URL:https://orkneymart.com
X-WR-CALDESC:Events for Orkney Auction Mart
REFRESH-INTERVAL;VALUE=DURATION:PT1H
X-Robots-Tag:noindex
X-PUBLISHED-TTL:PT1H
BEGIN:VTIMEZONE
TZID:Europe/London
BEGIN:DAYLIGHT
TZOFFSETFROM:+0000
TZOFFSETTO:+0100
TZNAME:BST
DTSTART:20200329T010000
END:DAYLIGHT
BEGIN:STANDARD
TZOFFSETFROM:+0100
TZOFFSETTO:+0000
TZNAME:GMT
DTSTART:20201025T010000
END:STANDARD
BEGIN:DAYLIGHT
TZOFFSETFROM:+0000
TZOFFSETTO:+0100
TZNAME:BST
DTSTART:20210328T010000
END:DAYLIGHT
BEGIN:STANDARD
TZOFFSETFROM:+0100
TZOFFSETTO:+0000
TZNAME:GMT
DTSTART:20211031T010000
END:STANDARD
BEGIN:DAYLIGHT
TZOFFSETFROM:+0000
TZOFFSETTO:+0100
TZNAME:BST
DTSTART:20220327T010000
END:DAYLIGHT
BEGIN:STANDARD
TZOFFSETFROM:+0100
TZOFFSETTO:+0000
TZNAME:GMT
DTSTART:20221030T010000
END:STANDARD
END:VTIMEZONE
BEGIN:VEVENT
DTSTART;TZID=Europe/London:20210705T000000
DTEND;TZID=Europe/London:20210705T000000
DTSTAMP:20260420T141542
CREATED:20231020T093137Z
LAST-MODIFIED:20231027T105555Z
UID:10000784-1625443200-1625443200@orkneymart.com
SUMMARY:Cattle Sale
DESCRIPTION:Sale Report – Monday\, 5th July\, 2021 – 10 Prime cattle and 1 Breeding bull were sold on Monday\, 5th July.Prime cattle sold to 248p/kg for a 565kg Charolais heifer\, from J & R Stanger\, South Seatter\, Sandwick\, which realised  £1401.20 to local butchers\, Donaldsons of Orkney.Other leading prime heifer prices –South Seatter\, Sandwick (570kg) 247p ( £1407.90); Stembister\, Toab (545kg) 246p ( £1340.70)\, (595kg) 236p ( £1404.20)\, (720kg) 228p ( £1641.60)\, (660kg) 223p ( £1471.80); Laga\, Evie (630kg) 220p ( £1386); Hillquoy\, Birsay (620kg) 214p ( £1326.80)Prime steers sold to 222p/kg\, firstly for a 720kg Limousin\, from AJ & EJ Stanger\, Hillquoy\, Birsay\, which realised  £1598.40 to Kirkwall butchers Williamsons\, and for a 655kg Charolais\, also from Hillquoy\, Birsay\, which realised  £1454.10\, to E Flett Butcher Ltd\, Stromness.An eight year old Limousin bull\, from J Foulis\, Upperfield\, St Ola\, scaled 1010kg\, and realised  £1650.
URL:https://orkneymart.com/event/cattle-sale-73/
CATEGORIES:Sales Report
END:VEVENT
BEGIN:VEVENT
DTSTART;TZID=Europe/London:20210712T000000
DTEND;TZID=Europe/London:20210712T000000
DTSTAMP:20260420T141542
CREATED:20231020T093137Z
LAST-MODIFIED:20231027T105555Z
UID:10000783-1626048000-1626048000@orkneymart.com
SUMMARY:Cattle & Sheep Sales
DESCRIPTION:Forward for sale on Monday were 10 Prime\, 10 Store & 8 OTM Cattle. Prime Heifers sold to 254 p/kg for a Limousin scaling 565 kilos from D & G Tait\, Campston\, Toab realising  £1435 purchased by Rendalls Buthcers. OTHER PRIME HEIFERS FEAVAL\,BIRSAY 525  £1\,328.25 253 LIMFEAVAL\,BIRSAY 505  £1\,242.30 246 LIMSOUTH SEATTER\,SANDWICK 565  £1\,412.50 250 CHARMELSETTER FARM\,LONGHOPE 475  £1\,040.25 219 SAL Prime Steers topped at 250 p/kg for a Limousin scaling 540 kilos from D & G Tait\, Campston\, Toab realising  £1350 purchased by E Flett. OTHER PRIME STEERS HUAN\,SANDWICK 630  £1\,549.80 246 CHARHUAN\,SANDWICK 645  £1\,560.90 242 CHARSOUTH SEATTER\,SANDWICK 670  £1\,594.60 238 CHAR Store Steers averaged an impressive 247.9 p/kg and topped at 258.2 p/kg for a pen of 3 Simmentals scaling 426 kilos from R J & L J Gaudie\, Netherskaill\, Birsay realising  £1100. OTHER STORE STEERS PER KILO NETHERSKAILL\,BIRSAY 432  £1\,060.00 245.4 SIMNETHERSKAILL\,BIRSAY 428  £1\,050.00 245.3 SIMNETHERSKAILL\,BIRSAY 500  £1\,200.00 240 SIMNETHERSKAILL\,BIRSAY 430  £1\,030.00 239.5 AA Top price per head was  £1200 for a Simmental scaling 500 kilos from Netherskaill\, Birsay. OTM Cattle were a mixed show but still averaged 146 p/kg and topped at 170.9 p/kg for a Charolais scaling 550 kilos from J L Brodie\, Sunnybank\, St Ola realising  £940. Top price per head was  £1090 for an Angus scaling 735 kilos from J C Eunson\, Corse\, St Ola. OTHER OTM COWS LINGRO\,ST OLA 550  £860.00 156.4 SIMSUNNYBANK\,ST OLA 530  £790.00 149.1 CHARCORSE\,ST OLA 735  £1\,090.00 148.3 AACORSE\,ST OLA 640  £890.00 139.1 SHCORSE\,ST OLA 625  £850.00 136 AA OTM BULLS MILLBRAE\,SANDAY 780  £1\,010.00 129.5 SAL Following the Cattle were 104 Sheep of all classes. A small number of Breeding sheep were forward with Ewes with Lambs at foot averaging  £89.21 per life and topping at  £97 a life for a pen of Texel x Ewes with Texel x Lambs at Foot from J Moar\, Rosebank\, Deerness. Prime Lambs followed the trend and were slightly cheaper again. Mostly smaller types forward and not enough heavy fleshed butcher types. Prime Lambs averaged 251.5 p/kg (-6.5p) SQQ Lambs averaged 229.46 p/kg Lambs per head averaged  £114.05 (- £12.15) Prime Lambs topped at 293.5 p/kg for 3 Texels scaling 46 kilos from T Harvey\, Hillcrest\, Quoyloo realising  £135 purchased by Williamsons. OTHER LAMBS PER KILO NETHER OUSENESS\,WESTRAY 47.5  £128.00 269.5 TEXNETHER OUSENESS\,WESTRAY 55  £140.00 254.5 TEXDAWN COTTAGE\,HOLM 48  £125.00 260.4 TEXVOAN\,STENNESS 43  £104.00 241.9 TEX Top price per head was  £140 for a Texel scaling 55 kilos from T & G Thomson\, Nether Ouseness\, Westray purchased by Craigies Butchers. Store Lambs averaged  £82 and topped at  £84 for a pair of Texels from T & G Thomson\, Nether Ouseness\, Westray. OTHER STORE LAMBS VOAN\,STENNESS  £82.00 DUTCH NETHER OUSENESS\,WESTRAY  £78.00 TEX Cast Ewes were cheaper this week averaging  £83.74. Cast Sheep topped at  £136 for a Texel Ewe from W S Garson\, Huan\, Sandwick. OTHER CAST SHEEP HUAN\,SANDWICK  £132.00 TEX HUAN\,SANDWICK  £108.00 CHAR HUAN\,SANDWICK  £107.00 MULE HUAN\,SANDWICK  £104.00 CHAR EASTSIDE\,TWATT  £130.00 TEX EASTSIDE\,TWATT  £120.00 TEX ROSEBANK\,DEERNESS  £110.00 TEX NETHER OUSENESS\,WESTRAY  £90.00 TEX NETHER OUSENESS\,WESTRAY  £85.00 TEX SUNNYBANK\,WESTRAY  £87.00 TEX SUNNYBANK\,WESTRAY  £85.00 TEX COTT\,ROUSAY  £87.00 LLYEN COTT\,ROUSAY  £85.00 LLYEN LOCHSIDE\,WESTRAY  £52.00 CHEV
URL:https://orkneymart.com/event/cattle-sheep-sales-49/
CATEGORIES:Sales Report
END:VEVENT
BEGIN:VEVENT
DTSTART;TZID=Europe/London:20210719T000000
DTEND;TZID=Europe/London:20210719T000000
DTSTAMP:20260420T141542
CREATED:20231020T093122Z
LAST-MODIFIED:20231027T105555Z
UID:10000782-1626652800-1626652800@orkneymart.com
SUMMARY:Cattle Sale
DESCRIPTION:Forward for sale on Monday were 10 Prime Cattle\, 5 Store Cattle & 6 OTM Cattle. Prime Heifers topped at 251 p/kg for a Charolais scaling 600 kilos from J & R Stanger\, South Seatter\, Sandwick realising  £1506 purchased by Donaldsons. OTHER PRIME HEIFERS QUOYMORHOUSE\,SHAPINSAY 680  £1\,632.00 240 LIMST CLAIR\,HOLM 565  £1\,293.00 229 SIMWHITEHALL\,STRONSAY 650  £1\,443.00 222 LIM Prime Steers topped at 244 p/kg for a Charolais scaling 660 kilos from J & R Stanger\, South Seatter\, Sandwick realising  £1610 purchased by Williamsons. OTHER PRIME STEERS HUAN\,SANDWICK 625  £1\,500.00 240 LIM Store Steers averaged  £1550 and topped at  £1560 for an Aberdeen Angus scaling 945 kilos from J I Deyell\, Vincoin\, North Ronaldsay. Store Heifers averaged  £1316 and topped at  £1370 for an Aberdeen Angus scaling 780 kilos from J I Deyell\, Vincoin\, North Ronaldsay. OTM Cows averaged 159.6 p/kg (+13.6p) and  £1185 per head. Cows topped at 168.5 p/kg for a Simmental scaling 730 kilos from Spence\, Mucklepow\, Evie realising  £1230. OTHER COWS PER KILO LINGRO\,ST OLA 750  £1\,200.00 160 AANORTHBIGGING\,DOUNBY 850  £1\,390.00 163.5 SIMNORTHBIGGING\,DOUNBY 620  £980.00 158.1 STABNORTHBIGGING\,DOUNBY 845  £1\,300.00 153.8 AANORTHBIGGING\,DOUNBY 660  £1\,010.00 153 STAB Top price per head was  £1390 for a Simmental Cow scaling 850 kilos from J Corrigall\, Northbigging\, Dounby.
URL:https://orkneymart.com/event/cattle-sale-72/
CATEGORIES:Sales Report
END:VEVENT
BEGIN:VEVENT
DTSTART;TZID=Europe/London:20210726T000000
DTEND;TZID=Europe/London:20210726T000000
DTSTAMP:20260420T141542
CREATED:20231020T093122Z
LAST-MODIFIED:20231027T105555Z
UID:10000781-1627257600-1627257600@orkneymart.com
SUMMARY:Cattle & Sheep Sales
DESCRIPTION:Forward for sale on Monday were 9 Prime\, 6 Store & 15 OTM Cattle. Prime Steers sold to 251 p/kg for a Charolais scaling 675 kilos from J & R Stanger\, South Seatter\, Sandwick realising  £1694 purchased by Craigies. OTHER PRIME STEERS SOUTH SEATTER\,SANDWICK 610  £1\,525.00 250 CHARGLEN ORKNEY\,ST OLA 615  £1\,525.20 248 LIMGLEN ORKNEY\,ST OLA 665  £1\,596.00 240 CONTNETHERHILL\,TANKERNESS 555  £1\,298.70 234 AAHOWE FARM\,HARRAY 545  £1\,237.15 227 CONT Prime Heifers topped at 240 p/kg for a Charolais scaling 560 kilos from G Henry\, Howe\, Harray realising  £1344 purchased by E Flett. OTHER PRIME HEIFERS NETHERHILL\,TANKERNESS 530  £1\,234.90 233 AA Store Steers averaged 246 p/kg and  £1320 per head. Steers topped at 246.3 p/kg for a pen of three Charolais scaling 536 kilos from J & M Smith\, Lower Cornquoy\, Holm realising  £1320 OTHER STORE STEERS LOWER CORNQUOY\,HOLM 537  £1\,320.00 245.8 CHAR Store Heifers averaged and topped at 233.7 p/kg for an Angus scaling 445 kilos from Holland\, Papay realising  £1040. OTM Cattle averaged 146.57 p/kg and topped at 178.3 p/kg for a Saler Cow scaling 645 kilos from Trenabie Farms\, Westray realising  £1150. OTHER OTM PER KILO HOLLAND\,PAPA WESTRAY 730  £1\,270.00 174 AAHOLLAND\,PAPA WESTRAY 640  £1\,100.00 171.9 AAHOLLAND\,PAPA WESTRAY 790  £1\,265.00 160.1 AAHOLLAND\,PAPA WESTRAY 700  £1\,070.00 152.9 AATRENABIE\,WESTRAY 675  £1\,090.00 161.5 SIMTRENABIE\,WESTRAY 705  £1\,060.00 150.4 SIMSEATTERSQUOY\,STENNESS 595  £900.00 151.3 SIMWHITECLEAT\,TANKERNESS 585  £840.00 143.6 SIM Top price per head was  £1270 for an Angus Cow scaling 730 kilos from Holland Farms\, Papay. OTM BULLS NETHERSKAILL\,BIRSAY 1145  £1\,170.00 102.2 CHAR Following the Cattle were 54 Prime Lambs & 37 Cast Sheep. Prime Lambs averaged 231.4 p/kg SQQ Lambs averaged 244.7 p/kg Lambs per head averaged  £114.24 Lambs topped at 266.7 p/kg for 4 Beltex scaling 45 kilos from J V & E Linklater\, Little Crofty\, Tankerness realising  £120. OTHER LAMBS PER KILO LITTLE CROFTY\,TANKERNESS 49  £130.00 265.3 BELTEXLITTLE CROFTY\,TANKERNESS 46  £115.00 250 BELTEXLENAHOWE\,SANDWICK 44  £114.00 259.1 BLUESOUTH WALD\,FIRTH 44  £109.00 247.7 TEXSOUTH WALD\,FIRTH 44  £103.00 234.1 TEXHOWEQUOY\,HOLM 49  £116.00 236.7 TEXHOWEQUOY\,HOLM 44  £102.00 231.8 TEXCOTLAND\,ST OLA 51  £119.00 233.3 TEXCOTLAND\,ST OLA 52  £121.00 233 TEXQUANTERNESS\,ST OLA 51  £119.00 233.3 TEXQUANTERNESS\,ST OLA 50  £116.00 232 TEXOLD VOY\,TOAB 50  £100.00 200 SUF Top price per head was  £130 for 3 Beltex scaling 49 kilos from J V & E Linklater\, Little Crofty\, Tankerness. OTHER LAMBS PER HEAD COTLAND\,ST OLA 52  £121.00 TEX LITTLE CROFTY\,TANKERNESS 45  £120.00 BELTEX QUANTERNESS\,ST OLA 51  £119.00 TEX HOWEQUOY\,HOLM 49  £116.00 TEX SOUTH WALD\,FIRTH 50  £115.00 TEX LENAHOWE\,SANDWICK 44  £114.00 BLUE OLD VOY\,TOAB 65  £114.00 SUF Cast Ewes averaged  £102.83\, Cast Rams averaged  £100. Cast Sheep topped at  £143 for a Texel Ewe from E Whyte\, Flaws\, Holm. OTHER CAST SHEEP FLAWS\,HOLM  £134.00 TEX FLAWS\,HOLM  £130.00 TEX LITTLE CROFTY\,TANKERNESS  £130.00 BLEU LITTLE CROFTY\,TANKERNESS  £129.00 BLEU COTLAND\,ST OLA  £129.00 TEX SUNNYBANK\,ST OLA  £128.00 TEX SUNNYBANK\,ST OLA  £118.00 TEX EASTHOUSE\,TOAB  £126.00 SUF UPPER CORNQUOY\,HOLM  £118.00 CHEV UPPER CORNQUOY\,HOLM  £117.00 CHEV UPPER CORNQUOY\,HOLM  £110.00 CHEV MOAN\,HARRAY  £100.00 TEX SOUTH WALD\,FIRTH  £81.00 TEX UPPER GARSON\,SANDWICK  £79.00 EASY BIGGINGS\,STENNESS  £78.00 SUF
URL:https://orkneymart.com/event/cattle-sheep-sales-48/
CATEGORIES:Sales Report
END:VEVENT
END:VCALENDAR