BEGIN:VCALENDAR
VERSION:2.0
PRODID:-//Orkney Auction Mart - ECPv6.15.17.1//NONSGML v1.0//EN
CALSCALE:GREGORIAN
METHOD:PUBLISH
X-ORIGINAL-URL:https://orkneymart.com
X-WR-CALDESC:Events for Orkney Auction Mart
REFRESH-INTERVAL;VALUE=DURATION:PT1H
X-Robots-Tag:noindex
X-PUBLISHED-TTL:PT1H
BEGIN:VTIMEZONE
TZID:Europe/London
BEGIN:DAYLIGHT
TZOFFSETFROM:+0000
TZOFFSETTO:+0100
TZNAME:BST
DTSTART:20200329T010000
END:DAYLIGHT
BEGIN:STANDARD
TZOFFSETFROM:+0100
TZOFFSETTO:+0000
TZNAME:GMT
DTSTART:20201025T010000
END:STANDARD
BEGIN:DAYLIGHT
TZOFFSETFROM:+0000
TZOFFSETTO:+0100
TZNAME:BST
DTSTART:20210328T010000
END:DAYLIGHT
BEGIN:STANDARD
TZOFFSETFROM:+0100
TZOFFSETTO:+0000
TZNAME:GMT
DTSTART:20211031T010000
END:STANDARD
BEGIN:DAYLIGHT
TZOFFSETFROM:+0000
TZOFFSETTO:+0100
TZNAME:BST
DTSTART:20220327T010000
END:DAYLIGHT
BEGIN:STANDARD
TZOFFSETFROM:+0100
TZOFFSETTO:+0000
TZNAME:GMT
DTSTART:20221030T010000
END:STANDARD
END:VTIMEZONE
BEGIN:VEVENT
DTSTART;TZID=Europe/London:20210607T000000
DTEND;TZID=Europe/London:20210607T000000
DTSTAMP:20260420T154033
CREATED:20231020T093153Z
LAST-MODIFIED:20231027T105554Z
UID:10000788-1623024000-1623024000@orkneymart.com
SUMMARY:Cattle Sale
DESCRIPTION:Forward for sale on Monday were 10 Prime\, 2 Store & 12 OTM Cattle. Prime Heifers topped at 255 p/kg for a Limousin scaling 540 kilos from Glen Orkney Farms\, St Ola realising  £1377 purchased by E Flett. Prime Steers topped at 254 p/kg for a Limousin scaling 585 kilos from Glen Orkney Farms\, St Ola realising  £1485 purchased by Rendalls. OTHER PRIME STEERS HEWAN\,SHAPINSAY 600  £1\,506.00 251 LIMHEWAN\,SHAPINSAY 630  £1\,556.10 247 LIMGLEN ORKNEY\,ST OLA 685  £1\,698.80 248 LIMHALL OF CLESTRAIN\,ORPHIR 645  £1\,593.15 247 BBMIDHOUSE\,EVIE 600  £1\,410.00 235 CHAR Store Cattle topped at  £1010 for an Angus Heifer from PS & MH Johnston\, Brockan\, Stromness. OTM Cattle averaged 139 p/kg and topped at 187p for a Shorthorn scaling 540 kilos from TAD & JD Hourie\, Heathfield\, St Ola realising  £1010. OTHER OTM PER KILO HEATHFIELD\,ST OLA 555  £1\,030.00 186 SHCASTLE\,STROMNESS 600  £900.00 150 LIMUPPER BERRYHILL\,ST OLA 675  £1\,000.00 148 LIMLINGRO\,ST OLA 675  £980.00 145 SIMBROCKAN\,STROMNESS 680  £980.00 144 AABROCKAN\,STROMNESS 645  £930.00 144 SHBROCKAN\,STROMNESS 830  £1\,190.00 143 AABROCKAN\,STROMNESS 725  £1\,020.00 141 AABACKALAND\,EDAY 755  £1\,010.00 134 AA Top price per head was  £1190 for an Angus Cow scaling 830 kilos from PS & MH Johnston\, Brockan\, Stromness.
URL:https://orkneymart.com/event/cattle-sale-75/
CATEGORIES:Sales Report
END:VEVENT
BEGIN:VEVENT
DTSTART;TZID=Europe/London:20210614T000000
DTEND;TZID=Europe/London:20210614T000000
DTSTAMP:20260420T154033
CREATED:20231020T093137Z
LAST-MODIFIED:20231027T105555Z
UID:10000787-1623628800-1623628800@orkneymart.com
SUMMARY:Cattle & Sheep Sales
DESCRIPTION:Forward for sale on Monday were 10 Prime\, 9 Store\, 7 OTM Cattle and 159 Prime\, Store & Cast Sheep. Prime Heifers sold to 257 p/kg for a Charolais scaling 590 kilos from J & R Stanger\, South Seatter\, Sandwick realising  £1516 purchased by Craigies. OTHER PRIME HEIFERS HALL OF HERSTON\, SOUTH RONALDSAY 585  £1\,450.00 248 BBGARTH\, SOUTH RONALDSAY 575  £1\,357.00 236 AA Prime Steers topped at 255 p/kg for a Charolais scaling 565 kilos from J & R Stanger\, South Seatter\, Sandwick realising  £1440 purchased by Williamsons\, and also for a Limousin scaling 635 kilos from W S Garson\, Huan\, Sandwick realising  £1619 purchased by E Flett. OTHER PRIME STEERS HUAN\,SANDWICK 650  £1\,651.00 254 LIMHUAN\,SANDWICK 685  £1\,698.00 248 SALSOUTH SEATTER\, SANDWICK 685  £1\,712.00 250 CH Store Steers averaged  £1183 and topped at  £1260 for an Aberdeen Angus scaling 580 kilos from T L I Miller\, Briarlea\, Stronsay. Store Heifers averaged  £1025 and topped at  £1140 for a Charolais scaling 540 kilos from P & E M Dennison\, Odiness\, Stronsay. OTM Cattle averaged 132.2 p/kg and topped at 160 p/kg for a Shorthorn scaling 600 kilos from TAD & JD Hourie\, Heathfield\, St Ola realising  £900. OTHER OTM PER KILO HEATHFIELD\,ST OLA 510  £800.00 156.9 SHODINESS\,STRONSAY 785  £1\,200.00 152.9 BBODINESS\,STRONSAY 690  £1\,050.00 152.2 SIMROSEBANK\,DEERNESS 640  £790.00 123.4 SIM OTM BULLS GRANDON\,FINSTOWN 865  £950.00 109.8 LIM Prime Lambs averaged 303.48 p/kg (-14.52p) Prime Lambs averaged  £152.50 (+ £3.00) Another great consignment of New Season Lambs forward from RE & RF Scott\, Dawn Cottage\, Holm topping at 309.8 p/kg for 3 Texels scaling 51 kilos realising top price per head of  £158 purchased by E Flett. Prime Hoggs averaged 199.54 p/kg (-16.66p) SQQ Hoggs averaged 205.13 p/kg (-13.67p) Hoggs per head averaged  £98.94 (- £13.06) Mature Sheep averaged  £92.50 (- £25.50) Prime Hoggs a poorer show and a lot cheaper following the national trend.Prime Hoggs topped at 211.1 p/kg for a bunch of 8 scaling 45 kilos from DB & MF Moar\, Walkerhouse\, Birsay realising  £95. OTHER HOGGS PER KILO SOUTH SEATTER\,SANDWICK 41  £85.00 207.3 TEXSOUTH SEATTER\,SANDWICK 60  £110.00 183.3 TEXQUOYS\,GRAEMSAY 49  £99.00 202 LLEYNQUOYS\,GRAEMSAY 54  £100.00 185.2 TEXQUOYS\,GRAEMSAY 54  £99.00 183.3 TEXWALKERHOUSE\,BIRSAY 47  £92.00 195.7 WHITEHOBBISTER\,ORPHIR 44  £86.00 195.5 LLEYNVELTIGAR\,TANKERNESS 54  £103.00 190.7 TEXVELTIGAR\,TANKERNESS 58  £109.00 187.9 TEX Top price per head was  £112 for 4 Texels scaling 55 kilos from Glen Orkney Farms\, St Ola. Store Hoggs averaged  £73.64 (+ £0.64) and topped at  £88 for a Suffolk from T Harcus\, Branstane\, Westray. Cast Ewes averaged  £92.92 and topped at  £141 for a Texel from J & M Dearness\, Knowe\, Sanday. OTHER CAST SHEEP DAWN COTTAGE\,HOLM  £138.00 TEX DAWN COTTAGE\,HOLM  £135.00 TEX ODINESS\,STRONSAY  £136.00 TEX ODINESS\,STRONSAY  £105.00 TEX KNOCKHALL\,SOUTH RONALDSAY  £134.00 SUF KNOCKHALL\,SOUTH RONALDSAY  £124.00 SUF THE KNOWE\,SANDAY  £130.00 SUF THE KNOWE\,SANDAY  £118.00 SUF THE KNOWE\,SANDAY  £115.00 TEX THE KNOWE\,SANDAY  £114.00 TEX ROSEBANK\,DEERNESS  £129.00 TEX ROSEBANK\,DEERNESS  £126.00 TEX SOUTH SEATTER\,SANDWICK  £118.00 TEX SOUTH SEATTER\,SANDWICK  £106.00 MULE BIGGINGS\,STENNESS  £117.00 SUF QUOYS\,GRAEMSAY  £117.00 TEX QUOYS\,GRAEMSAY  £109.00 BLACK QUOYS\,GRAEMSAY  £107.00 TEX EAST THORN\,WESTRAY  £110.00 CHAR QUANTERNESS\,ST OLA  £110.00 CHEV QUANTERNESS\,ST OLA  £101.00 CHEV QUANTERNESS\,ST OLA  £99.00 CHEV QUANTERNESS\,ST OLA  £98.00 CHEV WALKERHOUSE\,BIRSAY  £109.00 TEX GRETNA GREEN\,WESTRAY  £96.00 TEX BRANSTANE\,WESTRAY  £78.00 SUF HOBBISTER\,ORPHIR  £59.00 LLEYN
URL:https://orkneymart.com/event/cattle-sheep-sales-51/
CATEGORIES:Sales Report
END:VEVENT
BEGIN:VEVENT
DTSTART;TZID=Europe/London:20210621T000000
DTEND;TZID=Europe/London:20210621T000000
DTSTAMP:20260420T154033
CREATED:20231020T093137Z
LAST-MODIFIED:20231027T105555Z
UID:10000786-1624233600-1624233600@orkneymart.com
SUMMARY:Cattle Sale
DESCRIPTION:Forward for sale on Monday were 10 Prime\, 11 Stores & 9 OTM Cattle. Prime Heifers topped at 256 p/kg for a Charolais scaling 565 kilos from J & R Stanger\, South Seatter\, Sandwick realising  £1446 purchased by Craigies. OTHER PRIME HEIFERS SOUTH SEATTER\,SANDWICK 515  £1\,261.00 245 CHARGLEN ORKNEY\,ST OLA 565  £1\,356.00 240 LIM Prime Steers sold to 254 p/kg on three occasions. A Charolais scaling 660 kilos realising  £1676 and a Charolais scaling 625 kilos realising  £1587 both from J & R Stanger\, South Seatter\, Sandwick\, and both purchased by Craigies. Thirdly for a Charolais scaling 590 kilos from W S Garson\, Huan\, Sandwick realising  £1498 purchased by E Flett. OTHER PRIME STEERS HUAN\,SANDWICK 665  £1\,662.00 250 CHARHUAN\,SANDWICK 675  £1\,680.00 249 LIMBRAEFOOT\,SHAPINSAY 650  £1\,586.00 244 LIM Top price per head was  £1762 for a Simmental scaling 750 kilos from W S Garson\, Huan\, Sandwick purchased by Williamsons. Store Steers averaged 243 p/kg and topped at 252 p/kg for a pair of Aberdeen Angus scaling 377 kilos from M & W Holland\, Hunton\, Stronsay realising  £950. OTHER STORE STEERS HUNTON\,STRONSAY 376  £930.00 247.3 SHHUNTON\,STRONSAY 385  £950.00 246.8 AAHUNTON\,STRONSAY 427  £1\,000.00 234.2 AA OTM Cows averaged 143.7 p/kg for feeding type cows and topped at 154.8 p/kg for a Shorthorn scaling 620 kilos from Hobbister Farms\, Orphir realising  £960. OTHER COWS PER KILO BURGAR\,HOY 840  £1\,290.00 153.6 SIMHUIP\,STRONSAY 665  £1\,020.00 153.4 SIMHUIP\,STRONSAY 690  £960.00 139.1 CHARHOBBISTER\,ORPHIR 555  £835.00 150.5 SHHOBBISTER\,ORPHIR 675  £970.00 143.7 AA Top price per head was  £1290 for a Simmental scaling 840 kilos from A Clark\, Burgar\, Hoy.
URL:https://orkneymart.com/event/cattle-sale-74/
CATEGORIES:Sales Report
END:VEVENT
BEGIN:VEVENT
DTSTART;TZID=Europe/London:20210628T000000
DTEND;TZID=Europe/London:20210628T000000
DTSTAMP:20260420T154033
CREATED:20231020T093137Z
LAST-MODIFIED:20231027T105555Z
UID:10000785-1624838400-1624838400@orkneymart.com
SUMMARY:Cattle & Sheep Sales
DESCRIPTION:Forward for sale on Monday was 6 Prime & 2 OTM Cattle\, and 28 Prime & 71 Cast Sheep. Prime Steers topped at 252 p/kg twice\, both from Glen Orkney\, St Ola. A Limousin scaling 580 kilos realising  £1461 purchased by Donaldsons. Secondly a Limousin scaling 610 kilos realising  £1537 purchased by Williamsons. OTHER PRIME STEERS GLEN ORKNEY\, ST OLA 600  £1\,506.00 251 BBCAMPSTON\,TOAB 605  £1\,433.00 237 AA Prime Heifers topped at 228 p/kg for a Simmental scaling 640 kilos from I Craigie\, Hall of Clestrain\, Orphir realising  £1459 purchased by Donaldsons. OTM Cows averaged 155.9 p/kg and topped at 156.8p for a Limousin scaling 740 kilos from E J Sinclair\, Holland\, Firth realising the top price per head of  £1160. OTHER OTM COWS HOLLAND\, FIRTH 645  £1\,000.00 155 LIM Prime Lambs followed the National trend being cheaper on the week. Lambs averaged 258 p/kg (-45.5p) Lambs per head averaged  £126.20 (- £26.30) Lambs topped at 272.2 p/kg for 3 Texels scaling 48.5 kilos from R E & R Scott\, Dawn Cottage\, Holm realising  £132 purchased by Craigies Butchers. OTHER LAMBS PER KILO VESTRAFIOLD\,SANDWICK 45.5  £120.00 263.7 TEXBIGGINGS\, STENNESS 44  £100.00 227.3 SUFFWESTFIELD\, STROMNESS 55  £124.00 225.5 SUFF Top price per head was  £134 for 3 Texels scaling 51 kilos from R E & R Scott\, Dawn Cottage\, Holm purchased by E Flett. Prime Hoggs averaged 169.7 p/kg (-29.8p) Hoggs per head averaged  £76.11 (- £22.83) Mature Sheep averaged  £84 (- £8.50) Prime Hoggs topped at 194.1 p/kg for a Suffolk scaling 51 kilos from Carrick Farms\, Eday realising top price per head of  £99. OTHER PRIME HOGGS GREENTOFT\,EDAY 46  £86.00 187 TEXSOUTH FEA\,ORPHIR 40  £71.00 177.5 TEXSKAILL\,ORPHIR 50  £85.00 170 TEXOAKLEA\,ST OLA 46  £76.00 165.2 TEXDRYDALE\,STROMNESS 60  £90.00 150 BLACKDRYDALE\,STROMNESS 64  £90.00 140.6 WHITEDALE\,EDAY 52  £70.00 134.6 TEX Cast Ewes averaged  £87.19\, Cast Rams averaged  £90.50. Cast Sheep topped at  £121 for a Texel Ewe from T A D & J D Hourie\, Heathfield\, St Ola. OTHER CAST SHEEP NETHERHILL\,TANKERNESS  £120.00 TEX OAKLEA\,ST OLA  £117.00 TEX GREENTOFT\,EDAY  £116.00 SUF GREENTOFT\,EDAY  £109.00 TEX UPPER WORK\,ST OLA  £114.00 TEX UPPER WORK\,ST OLA  £94.00 TEX HEATHFIELD\,ST OLA  £110.00 TEX HEATHFIELD\,ST OLA  £97.00 TEX HEATHFIELD\,ST OLA  £93.00 WHITE ODINESS\,STRONSAY  £106.00 TEX ODINESS\,STRONSAY  £103.00 TEX ODINESS\,STRONSAY  £100.00 OTHER DALE\,EDAY  £105.00 CHEV DALE\,EDAY  £91.00 CHEV PURTABRECK\,TOAB  £102.00 TEX BIGGINGS\,STENNESS  £101.00 OTHER VESTRAFIOLD\,SANDWICK  £99.00 CHEV VESTRAFIOLD\,SANDWICK  £90.00 CHEV SKAILL\,ORPHIR  £95.00 TEX FEA\,ORPHIR  £87.00 TEX
URL:https://orkneymart.com/event/cattle-sheep-sales-50/
CATEGORIES:Sales Report
END:VEVENT
END:VCALENDAR