BEGIN:VCALENDAR
VERSION:2.0
PRODID:-//Orkney Auction Mart - ECPv6.15.17.1//NONSGML v1.0//EN
CALSCALE:GREGORIAN
METHOD:PUBLISH
X-ORIGINAL-URL:https://orkneymart.com
X-WR-CALDESC:Events for Orkney Auction Mart
REFRESH-INTERVAL;VALUE=DURATION:PT1H
X-Robots-Tag:noindex
X-PUBLISHED-TTL:PT1H
BEGIN:VTIMEZONE
TZID:Europe/London
BEGIN:DAYLIGHT
TZOFFSETFROM:+0000
TZOFFSETTO:+0100
TZNAME:BST
DTSTART:20200329T010000
END:DAYLIGHT
BEGIN:STANDARD
TZOFFSETFROM:+0100
TZOFFSETTO:+0000
TZNAME:GMT
DTSTART:20201025T010000
END:STANDARD
BEGIN:DAYLIGHT
TZOFFSETFROM:+0000
TZOFFSETTO:+0100
TZNAME:BST
DTSTART:20210328T010000
END:DAYLIGHT
BEGIN:STANDARD
TZOFFSETFROM:+0100
TZOFFSETTO:+0000
TZNAME:GMT
DTSTART:20211031T010000
END:STANDARD
BEGIN:DAYLIGHT
TZOFFSETFROM:+0000
TZOFFSETTO:+0100
TZNAME:BST
DTSTART:20220327T010000
END:DAYLIGHT
BEGIN:STANDARD
TZOFFSETFROM:+0100
TZOFFSETTO:+0000
TZNAME:GMT
DTSTART:20221030T010000
END:STANDARD
END:VTIMEZONE
BEGIN:VEVENT
DTSTART;TZID=Europe/London:20210503T000000
DTEND;TZID=Europe/London:20210503T000000
DTSTAMP:20260420T170109
CREATED:20231020T093207Z
LAST-MODIFIED:20231027T105554Z
UID:10000793-1620000000-1620000000@orkneymart.com
SUMMARY:Cattle & Sheep Sales
DESCRIPTION:Forward for sale on Monday were 4 Prime Cattle\, 6 OTM Cattle & 278 Prime\, Store & Cast Sheep. Prime Steers sold to 253 p/kg for a Limousin scaling 590 kilos from J & R Stanger\, South Seatter\, Sandwick realising  £1492.70 purchased by Donaldsons. Prime Heifers topped at 246 p/kg for a Limousin scaling 535 kilos from S M S Bain\, Quoyholmslie\, Stromness realising  £1316.10 purchased by Rendalls. OTHER PRIME HEIFERS QUOYHOLMSLIE\,STROMNESS 605  £240.00 1452 CHQUOYHOLMSLIE\,STROMNESS 535  £235.00 1257 LIM OTM Cattle topped at 152 p/kg for an Aberdeen Angus cow scaling 625 kilos from J Sincalir\, Midhouse\, Harray realising  £950. Top price per head was  £1170 for an Aberdeen Angus cow scaling 790 kilos from Nicolson\, Gitterpitten\, Rendall. OTHER OTM COWS INNISTER\,ROUSAY 790  £146.80 1160 SHINNISTER\,ROUSAY 775  £143.20 1110 SH Prime Hoggs a sound trade with bigger well fleshed hoggs in high demand. Hoggs Averaged 267.9 p/kg (-4.4p) SQQ Averaged 272.8 p/kg (-3p) Per head Averaged  £127.75 (+ £0.12) Prime Hoggs topped at 296 p/kg for 4 Texels scaling 50 kilos from T H C Pottinger\, Tuquoy\, Westray realising  £148 purchased by Craigies. This was top price per head. OTHER HOGGS PER KILO VESTRAFIOLD\,SANDWICK 44  £125.00 284.1 TEXDIAMONDS\,DEERNESS 45  £127.00 282.2 TEXTUQUOY\,WESTRAY 44  £124.00 281.8 TEXTUQUOY\,WESTRAY 50  £140.00 280 TEXTUQUOY\,WESTRAY 49  £137.00 279.6 TEXMIDLAND\,RENDALL 45  £126.00 280 TEXMIDLAND\,RENDALL 45  £124.00 275.6 SUFBENLAW\,EVIE 48  £134.00 279.2 CHARSWANNAY FARM\,BY EVIE 39  £108.00 276.9 CHEVSWANNAY FARM\,BY EVIE 43  £118.00 274.4 CHEVTOFTS\,ST OLA 47  £129.00 274.5 TEXHOWAN\,DOUNBY 41  £112.00 273.2 TEXCRISMO\,EVIE 40  £106.00 265 TEXNORTHBANK\,ST OLA 55  £136.00 247.3 ZWAR OTHER HOGGS PER HEAD TUQUOY\,WESTRAY 56  £145.00 TEX TUQUOY\,WESTRAY 50  £140.00 TEX DIAMONDS\,DEERNESS 58  £144.00 SUF DIAMONDS\,DEERNESS 58  £141.00 TEX DIAMONDS\,DEERNESS 51  £139.00 TEX DIAMONDS\,DEERNESS 56  £138.00 SUF NORTHBANK\,ST OLA 55  £136.00 ZWAR BENLAW\,EVIE 48  £134.00 CHAR MIDLAND\,RENDALL 49  £134.00 TEX TOFTS\,ST OLA 47  £129.00 TEX HOWAN\,DOUNBY 49  £127.00 TEX VESTRAFIOLD\,SANDWICK 44  £125.00 TEX SWANNAY FARM\,BY EVIE 43  £118.00 CHEV CRISMO\,EVIE 41.5  £108.00 TEX Store Hoggs were in high demand this week selling to dearer rates. Store Hoggs averaged  £89.78 (+ £3.20) and topped at  £117 for a Texel from Vestrafiold Farms\, Sandwick. OTHER STORE HOGGS MIRKADY\,DEERNESS  £116.00 TEX TUQUOY\,WESTRAY  £110.00 CHEV HOWAN\,DOUNBY  £109.00 BELTEX VESTRAFIOLD\,SANDWICK  £108.00 SUF VESTRAFIOLD\,SANDWICK  £104.00 TEX THE ROY\,HOLM  £106.00 TEX NORTHBANK\,ST OLA  £98.00 ZWAR NORTHBANK\,ST OLA  £96.00 ZWAR A leaner show of ewes sold well accordingly with fewer stronger types forward. Ewes averaged  £74.34 and topped at  £150 for a Texel from J & E Linklater\, Little Crofty\, Tankerness. OTHER CAST EWES TUQUOY\,WESTRAY  £145.00 TEX TUQUOY\,WESTRAY  £110.00 TEX HILLCREST\,QUOYLOO  £137.00 TEX HILLCREST\,QUOYLOO  £109.00 TEX RENNIBISTER\,KIRKWALL  £128.00 TEX VETQUOY\,TWATT  £121.00 TEX VETQUOY\,TWATT  £107.00 CHEV NORTHBIGGING\,DOUNBY  £119.00 TEX NORTHBIGGING\,DOUNBY  £100.00 TEX THE ROY\,HOLM  £117.00 TEX NIGLEY\,TOAB  £108.00 TEX LOWER BU\,HOLM  £100.00 MULE DIAMONDS\,DEERNESS  £94.00 CHEV DIAMONDS\,DEERNESS  £87.00 TEX KNOCKHALL\,SOUTH RONALDSAY  £89.00 CHEV MIDLAND\,RENDALL  £89.00 TEX TOFTS\,ST OLA  £88.00 LEIC BINSCARTH\,FINSTOWN  £80.00 CHEV UPPER WORK\,ST OLA  £69.00 LLEYN SWANNAY FARM\,BY EVIE  £69.00 CHEV
URL:https://orkneymart.com/event/cattle-sheep-sales-54/
CATEGORIES:Sales Report
END:VEVENT
BEGIN:VEVENT
DTSTART;TZID=Europe/London:20210510T000000
DTEND;TZID=Europe/London:20210510T000000
DTSTAMP:20260420T170109
CREATED:20231020T093154Z
LAST-MODIFIED:20231027T105554Z
UID:10000792-1620604800-1620604800@orkneymart.com
SUMMARY:Cattle Sale
DESCRIPTION:Forward for sale on Monday were 8 Prime Cattle\, 432 Store Cattle & 14 OTMs. Prime Steers topped at 239 p/kg twice for a Limousin scaling 635 kilos realising  £1517 purchased by Donaldsons and a Limousin scaling 595 kilos realising  £1422 purchased by Rendalls Butchers. Both from B & B Omand\, Stembister\, Toab. Prime Heifers topped at 236 p/kg for a Limousin scaling 630 kilos from B & B Omand\, Stembister\, Toab realising  £1486 purchased by Donaldsons. Store Cattle a fantastic trade given the more mixed show forward and lack of grass. Store Steers averaged 253 p/kg (-1.3p) (+33p on the year) and topped at 299.7 p/kg for a pair of Limousins scaling 347 kilos from Laga Farms\, Evie realising  £1040. OTHER STOTS PER KILO LAGA\,EVIE 395 296.2 1170 LIMLAGA\,EVIE 360 294.4 1060 LIMLAGA\,EVIE 360 291.7 1050 LIMLAGA\,EVIE 395 286.1 1130 LIMLAITHE\,SANDWICK 345 293 1010 LIMLAITHE\,SANDWICK 340 279.4 950 LIMLAITHE\,SANDWICK 450 260 1170 LIMROSEBANK\,DEERNESS 357 292.7 1045 CHARROSEBANK\,DEERNESS 400 272.5 1090 CHARKIRBUSTER\,LONGHOPE 385 283.1 1090 CHARKIRBUSTER\,LONGHOPE 380 278.9 1060 CHARKIRBUSTER\,LONGHOPE 412 274.3 1130 CHARHYVAL\,SANDWICK 412 282.8 1165 LIMSTRATHEAST\,HOLM 380 280.3 1065 SIMSTRATHEAST\,HOLM 460 258.7 1190 SIMSTRATHEAST\,HOLM 430 253.5 1090 LIMLITTLE WARDS\,LONGHOPE 365 279.5 1020 CHARSWANNAY FARM\,BY EVIE 468 278.8 1305 CHARSWANNAY FARM\,BY EVIE 442 262.4 1160 CHARLOPNESS\,SANDAY 425 276.5 1175 SIMLOPNESS\,SANDAY 442 269.2 1190 SIMLOPNESS\,SANDAY 465 262.4 1220 LIMRENNIBISTER\,KIRKWALL 405 271.6 1100 CHARRENNIBISTER\,KIRKWALL 435 250.6 1090 CHARWINDYWALLS\,WESTRAY 387 270 1045 CHARBRYAMEADOW\,TWATT 405 269.1 1090 CHARBRYAMEADOW\,TWATT 415 260.2 1080 CHARBRYAMEADOW\,TWATT 412 257.3 1060 SIMREDLAND\,FIRTH 388 268 1040 CHARREDLAND\,FIRTH 400 266.3 1065 LIMBU\,ORPHIR 400 267.5 1070 CHARBU\,ORPHIR 305 265.6 810 LIMBU\,ORPHIR 395 253.2 1000 LIMLANGSKAILL\,BIRSAY 445 267.4 1190 LIMLANGSKAILL\,BIRSAY 460 265.2 1220 CHARLANGSKAILL\,BIRSAY 456 261 1190 CHARLANGSKAILL\,BIRSAY 472 258.5 1220 CHARHOUSEBAY\,STRONSAY 410 265.9 1090 CHARHOLLAND\,STRONSAY 380 265.8 1010 SIMHOLLAND\,STRONSAY 427 262.3 1120 LIMHOLLAND\,STRONSAY 460 260.9 1200 SIMBIGGINGS\,STENNESS 380 265.8 1010 LIMBIGGINGS\,STENNESS 380 260.5 990 SIMHERMISGARTH\,SANDAY 520 265.4 1380 CHARHERMISGARTH\,SANDAY 485 259.8 1260 CHARHERMISGARTH\,SANDAY 465 258.1 1200 CHARBACHYLIS\,ORPHIR 402 264.9 1065 CHARVEDDERTOWNMAIL\,TANKERNESS 380 260.5 990 LIMLANGSKAILL\,ROUSAY 382 259.2 990 SALMOONESS\,HOLM 415 257.8 1070 LIMMOONESS\,HOLM 480 256.3 1230 LIMMOONESS\,HOLM 450 255.6 1150 LIMTUQUOY\,WESTRAY 453 253.9 1150 CHARWHITEHALL\,STRONSAY 497 253.5 1260 CHARQUANTERNESS\,ST OLA 402 248.8 1000 OTHINKERMAN\,SANDAY 480 241.7 1160 SIMINKERMAN\,SANDAY 425 235.3 1000 SIMDALVENNA\,ST OLA 435 240.2 1045 BBLOWER BRECKQUOY\,HOLM 356 232 825 LIMHOOLS\,SOUTH RONALDSAY 525 230.5 1210 LIMSKELDAY\,DOUNBY 465 230.1 1070 SALMILLHOUSE\,DEERNESS 567 228.4 1295 SIMMILLHOUSE\,DEERNESS 595 225.2 1340 SIM Steers averaged  £1095 per head (+ £18) and topped at  £1390 for a Charolais scaling 595 kilos from J S Firth\, Langskaill\, Rousay. OTHER STEERS PER HEAD HERMISGARTH\,SANDAY 520 265.4 1380 CHARHERMISGARTH\,SANDAY 485 259.8 1260 CHARMILLHOUSE\,DEERNESS 595 225.2 1340 SIMMILLHOUSE\,DEERNESS 567 228.4 1295 SIMLANGSKAILL\,BIRSAY 535 244.9 1310 LIMLANGSKAILL\,BIRSAY 460 265.2 1220 CHARSWANNAY FARM\,BY EVIE 468 278.8 1305 CHARHOLLAND\,STRONSAY 505 254.5 1285 SIMMOONESS\,HOLM 570 224.6 1280 LIMWHITEHALL\,STRONSAY 497 253.5 1260 CHARMOONESS\,HOLM 515 242.7 1250 LIMLAGA\,EVIE 450 272.2 1225 LIMLOPNESS\,SANDAY 465 262.4 1220 LIMHOOLS\,SOUTH RONALDSAY 525 230.5 1210 LIMSTRATHEAST\,HOLM 460 258.7 1190 SIMLAITHE\,SANDWICK 450 260 1170 LIMLAITHE\,SANDWICK 450 257.8 1160 LIMHYVAL\,SANDWICK 412 282.8 1165 LIMINKERMAN\,SANDAY 480 241.7 1160 SIMTUQUOY\,WESTRAY 453 253.9 1150 CHARREDLAND\,FIRTH 480 237.5 1140 LIMVEDDERTOWNMAIL\,TANKERNESS 470 240.4 1130 AAKIRBUSTER\,LONGHOPE 412 274.3 1130 CHARKIRBUSTER\,LONGHOPE 425 263.5 1120 CHARBRYAMEADOW\,TWATT 465 237.6 1105 BBRENNIBISTER\,KIRKWALL 405 271.6 1100 CHARHOUSEBAY\,STRONSAY 445 247.2 1100 SIMWINDYWALLS\,WESTRAY 425 257.6 1095 CHARROSEBANK\,DEERNESS 400 272.5 1090 CHARSKELDAY\,DOUNBY 465 230.1 1070 SALBU\,ORPHIR 400 267.5 1070 CHARBACHYLIS\,ORPHIR 402 264.9 1065 CHARLITTLE WARDS\,LONGHOPE 365 279.5 1020 CHARBIGGINGS\,STENNESS 380 265.8 1010 LIMQUANTERNESS\,ST OLA 402 248.8 1000 OTH Store Heifers averaged 249.1 p/kg (+1p) (+44.1p on the year) and topped at 321 p/kg for a Simmental scaling 405 kilos from Housebay Farms\, Stronsay realising  £1300. OTHER HEIFERS PER KILO HOUSEBAY\,STRONSAY 432 307.9 1330 SIMHOUSEBAY\,STRONSAY 397 297.2 1180 BBHOUSEBAY\,STRONSAY 390 282.1 1100 SIMHOUSEBAY\,STRONSAY 415 277.1 1150 BBEAST GARTH\,HARRAY 440 304.5 1340 SIMEAST GARTH\,HARRAY 445 303.4 1350 SIMEAST GARTH\,HARRAY 455 287.9 1310 SIMEAST GARTH\,HARRAY 435 285.1 1240 SIMEAST GARTH\,HARRAY 472 283.9 1340 SIMLAITHE\,SANDWICK 340 300 1020 LIMLAGA\,EVIE 370 297.3 1100 LIMLAGA\,EVIE 370 270.3 1000 LIMLAGA\,EVIE 400 265 1060 LIMQUOY-I-DALE\,HOY 450 293.3 1320 SIMQUOY-I-DALE\,HOY 485 278.4 1350 SIMKNOCKHALL\,SOUTH RONALDSAY 445 287.6 1280 SIMKNOCKHALL\,SOUTH RONALDSAY 438 283.1 1240 SIMKNOCKHALL\,SOUTH RONALDSAY 410 278 1140 SIMLANGSKAILL\,ROUSAY 375 285.3 1070 CHARSEBAY VIEW\,TANKERNESS 385 284.4 1095 LIMSEBAY VIEW\,TANKERNESS 395 277.2 1095 LIMROSEBANK\,DEERNESS 300 276.7 830 CHARBACHYLIS\,ORPHIR 337 276 930 CHARMOONESS\,HOLM 535 274.8 1470 LIMWHITEHOW\,PAPA WESTRAY 400 272.5 1090 CHARWHITEHOW\,PAPA WESTRAY 405 259.3 1050 CHARBURGAR\,HOY 460 271.7 1250 SIMWHITEHALL\,STRONSAY 425 269.4 1145 CHARWHITEHALL\,STRONSAY 495 256.6 1270 CHARWHITEHALL\,STRONSAY 471 247.3 1165 CHARBU\,ORPHIR 405 261.7 1060 CHARDALVENNA\,ST OLA 405 259.3 1050 LIMSKELDAY\,DOUNBY 451 257.2 1160 SALBIGGINGS\,STENNESS 385 257.1 990 CHARBIGGINGS\,STENNESS 420 250 1050 CHARLOWER BRECKQUOY\,HOLM 375 256 960 CHARKIRBUSTER\,LONGHOPE 410 256 1050 CHARKIRBUSTER\,LONGHOPE 375 253.3 950 CHARCHARLESTON\,PAPA WESTRAY 450 253.3 1140 CHARCHARLESTON\,PAPA WESTRAY 440 247.7 1090 CHARTUQUOY\,WESTRAY 470 253.2 1190 CHARTUQUOY\,WESTRAY 457 250.5 1145 CHARHERMISGARTH\,SANDAY 490 253.1 1240 CHARHERMISGARTH\,SANDAY 490 249 1220 CHARHERMISGARTH\,SANDAY 517 239.8 1240 CHARREDLAND\,FIRTH 415 251.8 1045 LIMREDLAND\,FIRTH 380 250 950 CHARSWANNAY FARM\,BY EVIE 505 247.5 1250 CHARSWANNAY FARM\,BY EVIE 455 241.8 1100 CHARBURNESS\,FIRTH 383 242.8 930 AABURNESS\,FIRTH 422 237 1000 AANORTHFIELD\,BURRAY 530 241.5 1280 AAWINDYWALLS\,WESTRAY 360 238.9 860 CHARLOPNESS\,SANDAY 510 235.3 1200 CHARINKERMAN\,SANDAY 400 232.5 930 SIMGREENHALL\,DEERNESS 490 230.6 1130 OTHMILLHOUSE\,DEERNESS 435 229.9 1000 SIMMILLHOUSE\,DEERNESS 530 228.3 1210 SIMRENNIBISTER\,KIRKWALL 410 226.8 930 AARENNIBISTER\,KIRKWALL 480 226 1085 AAVEDDERTOWNMAIL\,TANKERNESS 375 226.7 850 LIM Heifers averaged  £1084 per head (+ £28) and topped at  £1470 for a Limousin scaling 535 kilos from J F Gaddie\, Mooness\, Holm. OTHER HEIFERS PER HEAD CHARLESTON\,PAPA WESTRAY 610 223 1360 CHARQUOY-I-DALE\,HOY 485 278.4 1350 SIMQUOY-I-DALE\,HOY 450 293.3 1320 SIMEAST GARTH\,HARRAY 445 303.4 1350 SIMEAST GARTH\,HARRAY 472 283.9 1340 SIMEAST GARTH\,HARRAY 440 304.5 1340 SIMEAST GARTH\,HARRAY 455 287.9 1310 SIMSWANNAY FARM\,BY EVIE 570 236.8 1350 CHARSWANNAY FARM\,BY EVIE 550 236.4 1300 CHARNORTHFIELD\,BURRAY 610 219.7 1340 AANORTHFIELD\,BURRAY 575 224.3 1290 AANORTHFIELD\,BURRAY 558 229.4 1280 AAHOUSEBAY\,STRONSAY 432 307.9 1330 SIMHOUSEBAY\,STRONSAY 405 321 1300 BBHOUSEBAY\,STRONSAY 525 247.6 1300 SIMKNOCKHALL\,SOUTH RONALDSAY 445 287.6 1280 SIMKNOCKHALL\,SOUTH RONALDSAY 438 283.1 1240 SIMTUQUOY\,WESTRAY 545 233 1270 SIMWHITEHALL\,STRONSAY 495 256.6 1270 CHARWHITEHALL\,STRONSAY 505 242.6 1225 CHARBURGAR\,HOY 460 271.7 1250 SIMHERMISGARTH\,SANDAY 517 239.8 1240 CHARHERMISGARTH\,SANDAY 490 253.1 1240 CHARHERMISGARTH\,SANDAY 490 249 1220 CHARMILLHOUSE\,DEERNESS 530 228.3 1210 SIMSEBAY\,TANKERNESS 535 224.3 1200 AALOPNESS\,SANDAY 510 235.3 1200 CHARSKELDAY\,DOUNBY 451 257.2 1160 SALGREENHALL\,DEERNESS 515 225.2 1160 OTHWHITEHOW\,PAPA WESTRAY 485 233 1130 CHARLAGA\,EVIE 370 297.3 1100 LIMKIRBUSTER\,LONGHOPE 450 242.2 1090 CHARRENNIBISTER\,KIRKWALL 480 226 1085 AAWINDYWALLS\,WESTRAY 480 225 1080 SIMLANGSKAILL\,ROUSAY 375 285.3 1070 CHARBU\,ORPHIR 405 261.7 1060 CHARBIGGINGS\,STENNESS 420 250 1050 CHARDALVENNA\,ST OLA 405 259.3 1050 LIMREDLAND\,FIRTH 415 251.8 1045 LIMLAITHE\,SANDWICK 340 300 1020 LIMBURNESS\,FIRTH 422 237 1000 AALOWER BRECKQUOY\,HOLM 375 256 960 CHARINKERMAN\,SANDAY 400 232.5 930 SIM OTM Cattle were an impressive show and a trade to match it averaging 151.9 p/kg (+10.2p) topping at 174.5 p/kg for an Angus Cow scaling 825 kilos from Fraser\, Westshore\, Rendall realising  £1440. OTHER OTM PER KILO LINGRO\,ST OLA 700 165.7 1160 SIMWESTSHORE\,RENDALL 820 158.5 1300 AAMIDHOUSE\,EVIE 805 155.3 1250 CHARMIDHOUSE\,EVIE 730 154.8 1130 AASKELDAY\,DOUNBY 750 154.7 1160 AAKIRBISTER\,STRONSAY 660 153 1010 SIMWHITEHALL\,STRONSAY 780 152.6 1190 SIMWHITEHALL\,STRONSAY 710 152.1 1080 SIMSTEMBISTER\,TOAB 965 150.3 1450 LIMTWATT FARM\,BIRSAY 725 146.2 1060 OTHTWATT FARM\,BIRSAY 815 146 1190 OTH Top price per head was  £1450 for a Limousin Cows scaling 965 kilos from B & B Omand\, Stembister\, Toab.
URL:https://orkneymart.com/event/cattle-sale-77/
CATEGORIES:Sales Report
END:VEVENT
BEGIN:VEVENT
DTSTART;TZID=Europe/London:20210517T000000
DTEND;TZID=Europe/London:20210517T000000
DTSTAMP:20260420T170109
CREATED:20231020T093154Z
LAST-MODIFIED:20231027T105554Z
UID:10000791-1621209600-1621209600@orkneymart.com
SUMMARY:Cattle & Sheep Sales
DESCRIPTION:Forward for sale on Monday were 7 Prime Cattle\, 5 OTM Cattle & 259 Prime\, Store and Cast Sheep. Prime Heifers topped at 252 p/kg for a Limousin scaling 620 kilos from B & B Omand\, Stembister\, Toab realising  £1562 purchased by Rendalls Butchers. OTHER PRIME HEIFERS STEMBISTER\,TOAB 615  £1\,531.00 249 LIMGLEN ORKNEY\, ST OLA 550  £1\,347.00 245 SIM Prime Steers topped at 248 p/kg for a British Blue scaling 570 kilos from Glen Orkney Farms\, St Ola realising  £1413 purchased by Williamsons. OTM Cattle again a sound trade for a more mixed show this week. OTMs averaged 151.6 p/kg and  £1023 per head. Cows topped at 164.4 p/kg for a Limousin scaling 745 kilos from W Norquoy\, Braehead\, South Ronaldsay realising  £1225 which was top gross price. OTHER OTM COWS STEMBISTER\,TOAB 720  £1\,180.00 163.8 AAMOAN\,FIRTH 705  £1\,040.00 147.5 BAHOOKING\,NORTH RONALDSAY 615  £900.00 146.3 AA Prime Hoggs selling well for the mixed show forward selling  £2-5 cheaper. Prime Hoggs averaged 259.8 p/kg (-8.1p) SQQ Hoggs averaged 264.1 p/kg (-8.7p) Per head averaged  £125.21 (- £2.54) Hoggs topped at 280.4 p/kg for a pen of 11 Texels scaling 46 kilos from DB & FM Moar\, Walkerhouse\, Birsay realising  £129. OTHER HOGGS PER KILO SOUTH FEA\,ORPHIR 41  £113.00 275.6 TEXSEATTERSQUOY\,STENNESS 49  £134.00 273.5 TEXSEATTERSQUOY\,STENNESS 41  £106.00 258.5 TEXSUNNYBANK\,ST OLA 48  £131.00 272.9 TEXSUNNYBANK\,ST OLA 48  £129.00 268.8 SUFSUNNYBANK\,ST OLA 44  £111.00 252.3 TEXSOUTH WALD\,FIRTH 50  £136.00 272 TEXBRUNTHOUSE\,FLOTTA 39  £106.00 271.8 TEXBRUNTHOUSE\,FLOTTA 43  £110.00 255.8 TEXWALKERHOUSE\,BIRSAY 44  £119.00 270.5 TEXWALKERHOUSE\,BIRSAY 44  £116.00 263.6 WHITEBRYAMEADOW\,TWATT 40  £108.00 270 TEXWITHAQUOY\,HOLM 49  £128.00 261.2 TEXKNOCKHALL\,SOUTH RONALDSAY 48  £119.00 247.9 SUFKNOCKHALL\,SOUTH RONALDSAY 53  £131.00 247.2 SUFVIRGINIA\,STENNESS 52  £128.00 246.2 TEX Hoggs topped at  £148 per head for 4 Texels scaling 55 kilos from Glen Orkney Farms\, St Ola. OTHER HOGGS PER HEAD SOUTH WALD\,FIRTH 50  £136.00 TEX SUNNYBANK\,ST OLA 58  £136.00 SUF SUNNYBANK\,ST OLA 48  £131.00 TEX SUNNYBANK\,ST OLA 55  £131.00 TEX SEATTERSQUOY\,STENNESS 49  £134.00 TEX KNOCKHALL\,SOUTH RONALDSAY 53  £131.00 SUF WALKERHOUSE\,BIRSAY 46  £129.00 TEX WITHAQUOY\,HOLM 49  £128.00 TEX VIRGINIA\,STENNESS 52  £128.00 TEX SOUTH FEA\,ORPHIR 41  £113.00 TEX BRUNTHOUSE\,FLOTTA 43  £110.00 TEX BRYAMEADOW\,TWATT 40  £108.00 TEX Store hoggs selling to great rates despite the poorer\, leaner show forward. Stores averaged  £77.49 (- £12.29) and topped at  £95 for a Texel from DB & FM Moar\, Walkerhouse\, Birsay. OTHER STORES SUNNYBANK\,ST OLA  £94.00 SUF SUNNYBANK\,ST OLA  £93.00 TEX DALE\,STRONSAY  £94.00 WHITE DALE\,STRONSAY  £90.00 WHITE DALE\,STRONSAY  £89.00 BLACK DALE\,STRONSAY  £88.00 WHITE Cast Sheep were a better show and a better trade this week averaging  £88.52 for ewes (+ £14.18) and  £112.17 for Rams. Ewes topped at  £143 for a pair of Texels from J & C Scott\, Virginia\, Stenness. OTHER CAST SHEEP BRYAMEADOW\,TWATT  £140.00 TEX WITHAQUOY\,HOLM  £140.00 TEX WITHAQUOY\,HOLM  £129.00 TEX QUOYDANDY\,ST OLA  £138.00 TEX QUOYDANDY\,ST OLA  £136.00 TEX QUOYDANDY\,ST OLA  £135.00 TEX QUOYDANDY\,ST OLA  £120.00 TEX KNOCKHALL\,SOUTH RONALDSAY  £136.00 SUF BIGGINGS\,STENNESS  £128.00 BELTEX BIGGINGS\,STENNESS  £120.00 TEX BIGGINGS\,STENNESS  £117.00 TEX BIGGINGS\,STENNESS  £110.00 TEX UPPER SCAPA\,ST OLA  £123.00 CH BRAEHEAD\,ST MARGARET’S HOPE  £118.00 TEX BRUNTHOUSE\,FLOTTA  £118.00 TEX HOWE\,HARRAY  £116.00 TEX SEATTERSQUOY\,STENNESS  £108.00 TEX SEATTERSQUOY\,STENNESS  £101.00 TEX SOUTH WALD\,FIRTH  £105.00 LLEYN CROOK\,RENDALL  £101.00 TEX NEWBIGGING\,DOUNBY  £101.00 CHEV LOWER COTTISCARTH\,RENDALL  £91.00 TEX SOUTH FEA\,ORPHIR  £88.00 TEX HOBBISTER\,ORPHIR  £88.00 LLEYN DENWICK\,DEERNESS  £85.00 CHAR DALE\,STRONSAY  £56.00 OTHER
URL:https://orkneymart.com/event/cattle-sheep-sales-53/
CATEGORIES:Sales Report
END:VEVENT
BEGIN:VEVENT
DTSTART;TZID=Europe/London:20210524T000000
DTEND;TZID=Europe/London:20210524T000000
DTSTAMP:20260420T170109
CREATED:20231020T093154Z
LAST-MODIFIED:20231027T105554Z
UID:10000790-1621814400-1621814400@orkneymart.com
SUMMARY:Cattle Sale
DESCRIPTION:Forward for sale on Monday were 9 Prime\, 164 Store & 19 OTM Cattle. Prime Heifers topped at 255 p/kg for a Limousin scaling 600 kilos from R & J Johnston\, Hewan\, Shapinsay realising  £1530 purchased by Craigies. OTHER PRIME HEIFERS VELTIGAR\,TANKERNESS 610  £1\,543.30 253 CHARVELTIGAR\,TANKERNESS 575  £1\,437.50 250 CHARHUAN\,SANDWICK 665  £1\,635.90 246 CHAR Prime Steers topped at 250 p/kg for a Simmental scaling 615 kilos from W S Garson\, Huan\, Sandwick realising  £1537 purchased by Donaldsons. OTHER PRIME STEERS HUAN\,SANDWICK 610  £1\,525.00 250 CHARHUAN\,SANDWICK 580  £1\,432.60 247 CHARHEWAN\,SHAPINSAY 670  £1\,608.00 240 AA Store Cattle cheaper this week but still a great trade despite the mixture of Types\, Ages and Breeds on offer as well as the lack of grass and wet weather. 82 Store Steers averaged 243.6 p/kg (-9.4p)and topped at 291.7 p/kg for 3 Charolais scaling 336 kilos from RBS Heard\, Huip\, Stronsay realising  £980. OTHER STEERS PER KILO HUIP\,STRONSAY 350  £1\,000.00 285.7 CHARHUIP\,STRONSAY 350  £950.00 271.4 SIMHUIP\,STRONSAY 325  £870.00 267.7 AAHUIP\,STRONSAY 370  £980.00 264.9 SIMNEWHALL\,STROMNESS 330  £900.00 272.7 SIMNEWHALL\,STROMNESS 350  £940.00 268.6 CHARLEARY\,BIRSAY 255  £690.00 270.6 LIMLEARY\,BIRSAY 265  £710.00 267.9 LIMLEARY\,BIRSAY 340  £900.00 264.7 LIMBURNHOUSE\,LONGHOPE 390  £1\,040.00 266.7 AABURNHOUSE\,LONGHOPE 430  £1\,070.00 248.8 AACLAYBRAES\,SOUTH RONALDSAY 437  £1\,130.00 258.6 CHARCLAYBRAES\,SOUTH RONALDSAY 462  £1\,095.00 237 LIMNISTAGAR\,HARRAY 420  £1\,080.00 257.1 LIMNISTAGAR\,HARRAY 445  £1\,120.00 251.7 CHARNISTAGAR\,HARRAY 427  £1\,050.00 245.9 LIMHOWE\,HARRAY 390  £1\,000.00 256.4 CHARHOWE\,HARRAY 425  £1\,030.00 242.4 CHARGRUTHA\,SOUTH RONALDSAY 392  £990.00 252.6 SIMGRUTHA\,SOUTH RONALDSAY 425  £1\,070.00 251.8 BLNDNETHERHILL\,TANKERNESS 445  £1\,120.00 251.7 LIMLANGSKAILL\,WESTRAY 360  £900.00 250 AARENNIBISTER\,KIRKWALL 415  £1\,030.00 248.2 SIMRENNIBISTER\,KIRKWALL 420  £1\,010.00 240.5 SIMRENNIBISTER\,KIRKWALL 380  £910.00 239.5 BBRENNIBISTER\,KIRKWALL 425  £1\,010.00 237.6 BBKIRBISTER\,STRONSAY 405  £1\,000.00 246.9 LIMKIRBISTER\,STRONSAY 380  £900.00 236.8 SIMSTRATHEAST\,HOLM 382  £920.00 240.8 SIMGREENHALL\,DEERNESS 285  £675.00 236.8 OTHHAYBRAKE\,LYNESS 380  £900.00 236.8 AAPURTABRECK\,NORTH RONALDSAY 590  £1\,370.00 232.2 AAGRINDIGAR\,DEERNESS 432  £990.00 229.2 LIMGRINDIGAR\,DEERNESS 475  £1\,030.00 216.8 LIM Steers averaged  £975 per head and topped at  £1370 for an Aberdeen Angus scaling 590 kilos from J W Tulloch\, Purtabreck\, North Ronaldsay. OTHER STEERS PER HEAD NISTAGAR\,HARRAY 480  £1\,175.00 LIM NISTAGAR\,HARRAY 445  £1\,120.00 CHAR CLAYBRAES\,SOUTH RONALDSAY 437  £1\,130.00 CHAR CLAYBRAES\,SOUTH RONALDSAY 462  £1\,095.00 SIM BURNHOUSE\,LONGHOPE 480  £1\,125.00 AA NETHERHILL\,TANKERNESS 445  £1\,120.00 LIM RENNIBISTER\,KIRKWALL 470  £1\,100.00 AA GRUTHA\,SOUTH RONALDSAY 425  £1\,070.00 BLND GRUTHA\,SOUTH RONALDSAY 427  £1\,040.00 SIM KIRBISTER\,STRONSAY 475  £1\,060.00 AA GRINDIGAR\,DEERNESS 475  £1\,030.00 LIM HOWE\,HARRAY 425  £1\,030.00 CHAR HOWE\,HARRAY 390  £1\,000.00 CHAR HUIP\,STRONSAY 350  £1\,000.00 CHAR NEWHALL\,STROMNESS 350  £940.00 CHAR STRATHEAST\,HOLM 382  £920.00 SIM HAYBRAKE\,LYNESS 380  £900.00 AA LEARY\,BIRSAY 340  £900.00 LIM LANGSKAILL\,WESTRAY 360  £900.00 AA 82 Store Heifers averaged 224.2 p/kg (-24.9p) and topped at 252.2 p/kg for a Charolais scaling 345 kilos from RBS Heard\, Huip\, Stronsay realising  £870. OTHER HEIFERS PER KILO CLAYBRAES\,SOUTH RONALDSAY 435  £1\,090.00 250.6 CHARNEWHALL\,STROMNESS 360  £880.00 244.4 LIMHUIP\,STRONSAY 317  £770.00 242.9 SIMHUIP\,STRONSAY 358  £840.00 234.6 CHARHUIP\,STRONSAY 360  £840.00 233.3 SIMGRUTHA\,SOUTH RONALDSAY 410  £990.00 241.5 BBGRUTHA\,SOUTH RONALDSAY 395  £940.00 238 SIMGRUTHA\,SOUTH RONALDSAY 445  £1\,040.00 233.7 AAHOWE\,HARRAY 420  £1\,000.00 238.1 CHARHOWE\,HARRAY 400  £930.00 232.5 CHARLANGSKAILL\,WESTRAY 345  £815.00 236.2 AALANGSKAILL\,WESTRAY 370  £835.00 225.7 AALANGSKAILL\,WESTRAY 362  £815.00 225.1 AASTRATHEAST\,HOLM 450  £1\,060.00 235.6 SIMBRYAMEADOW\,TWATT 400  £935.00 233.8 CHARBRYAMEADOW\,TWATT 415  £965.00 232.5 BBBRYAMEADOW\,TWATT 400  £920.00 230 CHARHAYBRAKE\,LYNESS 491  £1\,140.00 232.2 AAHAYBRAKE\,LYNESS 547  £1\,210.00 221.2 AAPURTABRECK\,NORTH RONALDSAY 500  £1\,160.00 232 AAPURTABRECK\,NORTH RONALDSAY 525  £1\,210.00 230.5 AAGRINDIGAR\,DEERNESS 455  £1\,055.00 231.9 LIMGRINDIGAR\,DEERNESS 426  £950.00 223 LIMHUNTON\,STRONSAY 555  £1\,285.00 231.5 AAMIDHOUSE\,HARRAY 472  £1\,080.00 228.8 AAMIDHOUSE\,HARRAY 447  £1\,020.00 228.2 SIMMIDHOUSE\,HARRAY 630  £1\,425.00 226.2 SIMEAST HOWE\,BIRSAY 540  £1\,200.00 222.2 SAL Heifers averaged  £951 per head and topped at  £1425 for a Simmental scaling 630 kilos from J Sinclair\, Midhouse\, Harray. OTHER HEIFERS PER HEAD HUNTON\,STRONSAY 555  £1\,285.00 AA PURTABRECK\,NORTH RONALDSAY 575  £1\,260.00 AA PURTABRECK\,NORTH RONALDSAY 525  £1\,210.00 AA HAYBRAKE\,LYNESS 547  £1\,210.00 AA HAYBRAKE\,LYNESS 491  £1\,140.00 AA EAST HOWE\,BIRSAY 540  £1\,200.00 SAL EAST HOWE\,BIRSAY 540  £1\,140.00 CONT CLAYBRAES\,SOUTH RONALDSAY 435  £1\,090.00 CHAR MIDHOUSE\,HARRAY 472  £1\,080.00 AA STRATHEAST\,HOLM 450  £1\,060.00 SIM GRINDIGAR\,DEERNESS 455  £1\,055.00 LIM GRUTHA\,SOUTH RONALDSAY 445  £1\,040.00 AA HOWE\,HARRAY 420  £1\,000.00 CHAR BRYAMEADOW\,TWATT 445  £985.00 CHAR NEWHALL\,STROMNESS 360  £880.00 LIM HUIP\,STRONSAY 345  £870.00 CHAR LANGSKAILL\,WESTRAY 370  £835.00 AA OTM Cattle sold to similar rates as last week averaging 149.3 p/kg (-2.3p) and topped at 202.3 p/kg for a Limousin scaling 430 kilos from K Foubister\, Grindigar\, Deerness realising  £870. OTHER OTM CATTLE GRINDIGAR\,DEERNESS 420  £830.00 197.6 LIMGRINDIGAR\,DEERNESS 380  £640.00 168.4 LIMLANGSKAILL\,WESTRAY 565  £890.00 157.5 SIMSEATTER\,STROMNESS 780  £1\,210.00 155.1 SIMSEATTER\,STROMNESS 775  £1\,190.00 153.5 LIMSEATTER\,STROMNESS 860  £1\,205.00 140.1 LIMGREENTOFT\,EDAY 665  £980.00 147.4 AAGREENTOFT\,EDAY 660  £950.00 143.9 OTHMIDHOUSE\,HARRAY 615  £880.00 143.1 SIMFEA\,HOLM 765  £1\,060.00 139 SIMHUNTON\,STRONSAY 600  £800.00 133.3 AAWINDYWALLS\,WESTRAY 690  £910.00 131.9 SIMNEWBIGGING\,WESTRAY 565  £745.00 131.9 AABLACKHALL\,ST OLA 610  £770.00 126.2 BB Cows averaged  £932 and topped at  £1210 for a Simmental scaling 780 kilos from B & A Harvey\, Seatter\, Stromness. OTM BULLS HUNTON\,STRONSAY 975  £1\,075.00 110.3 SH
URL:https://orkneymart.com/event/cattle-sale-76/
CATEGORIES:Sales Report
END:VEVENT
BEGIN:VEVENT
DTSTART;TZID=Europe/London:20210531T000000
DTEND;TZID=Europe/London:20210531T000000
DTSTAMP:20260420T170109
CREATED:20231020T093154Z
LAST-MODIFIED:20231027T105554Z
UID:10000789-1622419200-1622419200@orkneymart.com
SUMMARY:Cattle & Sheep Sales
DESCRIPTION:Forward for sale on Monday were 8 Prime\, 6 Store & 3 OTM Cattle. Prime Steers sold to 251 p/kg for a Limousin scaling 605 kilos from W S Garson\, Huan\, Sandwick realising  £1518 purchased by Craigies Butchers. OTHER PRIME STEERS HEWAN\,SHAPINSAY 590  £1\,475.00 250 LIMHUAN\,SANDWICK 660  £1\,603.80 243 CHARHUAN\,SANDWICK 630  £1\,530.90 243 SIMCAMPSTON\,TOAB 655  £1\,539.25 235 AA Prime Heifers sold to 249 p/kg for a Limousin scaling 570 kilos from R & J Johnston\, Hewan\, Shapinsay realising  £1419 purchased by Donaldsons. OTHER PRIME HEIFERS VELTIGAR\,TANKERNESS 665  £1\,596.00 240 CHARVELTIGAR\,TANKERNESS 650  £1\,547.00 238 CHAR Store Heifers sold to  £1100 for a Simmental scaling 550 kilos from W & N Scott\, Pickletillum\, Deerness. OTM Cows averaged 137.9 p/kg and topped at 143.5p for a Simmental scaling 655 kilos from J & M Dearness\, Knowe\, Sanday realising  £940. OTM BULLS KNOWE\,SANDAY 1205  £1\,280.00 106 CHAR Following the Cattle were 198 Prime\, Store & Cast Sheep. Monday saw the first New Season Lambs being sold this year from Robbie Scott\, Dawn Cottage\, Holm. Lambs averaged 318 p/kg and  £149.50 per head. Lambs topped at 329.8 p/kg for 3 Texels scaling 47 kilos realising  £155 to E Flett. Prime Hoggs averaged 215.2 p/kg (-44.6p) SQQ Hoggs averaged 218.8 p/kg (-45.3p) Hoggs per head averaged  £112 (- £13.21) Mature Sheep averaged 171.4 p/kg or  £118 per head. Prime Hoggs topped at 260 p/kg for a pair of Texels scaling 50 kilos from J & R Stanger\, South Seatter\, Sandwick realising  £130 purchased by E Flett. OTHER HOGGS PER KILO LITTLE CROFTY\,TANKERNESS 50  £127.00 254 BLUESOUTH GREENIGOE\,ORPHIR 42  £104.00 247.6 TEXSOUTH GREENIGOE\,ORPHIR 50  £120.00 240 TEXSOUTH SEATTER\,SANDWICK 40  £99.00 247.5 CHARSOUTH SEATTER\,SANDWICK 41  £99.00 241.5 CHARBENLAW\,EVIE 45  £103.00 228.9 CHARCRISMO\,EVIE 43.5  £96.00 220.7 BELTEXCRISMO\,EVIE 42.5  £89.00 209.4 BELTEXTOFTS\,ST OLA 43  £92.00 214 CHEVTHORKELLHALL\,DEERNESS 55  £108.00 196.4 RYLHOLLAND\,PAPA WESTRAY 50  £98.00 196 TEXAIRY\,STRONSAY 70  £130.00 185.7 CHEVPERTH\,WESTRAY 45  £82.00 182 SUFVELTIGAR\,TANKERNESS 46  £83.00 180.4 MULE Top price per head was  £136 for a pair of Texels scaling 60 kilos from Glen Orkney Farms\, St Ola purchased by Craigies Butchers. OTHER HOGGS PER HEAD AIRY\,STRONSAY 81  £130.00 TEX AIRY\,STRONSAY 70  £130.00 CHEV SOUTH SEATTER\,SANDWICK 50  £130.00 TEX LITTLE CROFTY\,TANKERNESS 50  £127.00 BLUE SOUTH GREENIGOE\,ORPHIR 50  £120.00 TEX THORKELLHALL\,DEERNESS 55  £108.00 RYL BENLAW\,EVIE 45  £103.00 CHAR Store Hoggs topped at  £73 for a Texel from I & I Brown\, Millbrae\, Sanday. Cast Sheep topped at  £140 for 2 Texels from JD & MM Leitch\, Feolquoy\, Evie. OTHER CAST SHEEP CASTLE\,STROMNESS  £135.00 TEX AIRY\,STRONSAY  £131.00 OTHER AIRY\,STRONSAY  £128.00 TEX MILLBRAE\,SANDAY  £130.00 TEX MILLBRAE\,SANDAY  £129.00 SUF MILLBRAE\,SANDAY  £121.00 SUF FEOLQUOY\,STROMNESS  £130.00 BELTEX FEOLQUOY\,STROMNESS  £126.00 TEX HOLLAND\,PAPA WESTRAY  £128.00 TEX BINSCARTH\,FINSTOWN  £127.00 SUF BINSCARTH\,FINSTOWN  £118.00 CHEV PERTH\,WESTRAY  £125.00 SUF PERTH\,WESTRAY  £125.00 TEX WARTHILL\,HOLM  £125.00 TEX BEAFIELD\,SANDAY  £123.00 TEX BEAFIELD\,SANDAY  £114.00 BLACK MOUSELAND\,STROMNESS  £120.00 CHEV FEOLQUOY\,EVIE  £118.00 TEX CRISMO\,EVIE  £118.00 TEX APPIETOWN\,RENDALL  £114.00 TEX THORKELLHALL\,DEERNESS  £94.00 WHITE THORKELLHALL\,DEERNESS  £90.00 BLACK PURTABRECK\,TOAB  £87.00 TEX PURTABRECK\,TOAB  £80.00 TEX STENAQUOY\,EDAY  £86.00 OTHER 1 BOGIE HOUSES\,EVIE  £70.00 BLACK TRUMLAND\,ROUSAY  £64.00 WHITE
URL:https://orkneymart.com/event/cattle-sheep-sales-52/
CATEGORIES:Sales Report
END:VEVENT
END:VCALENDAR