BEGIN:VCALENDAR
VERSION:2.0
PRODID:-//Orkney Auction Mart - ECPv6.15.17.1//NONSGML v1.0//EN
CALSCALE:GREGORIAN
METHOD:PUBLISH
X-WR-CALNAME:Orkney Auction Mart
X-ORIGINAL-URL:https://orkneymart.com
X-WR-CALDESC:Events for Orkney Auction Mart
REFRESH-INTERVAL;VALUE=DURATION:PT1H
X-Robots-Tag:noindex
X-PUBLISHED-TTL:PT1H
BEGIN:VTIMEZONE
TZID:Europe/London
BEGIN:DAYLIGHT
TZOFFSETFROM:+0000
TZOFFSETTO:+0100
TZNAME:BST
DTSTART:20190331T010000
END:DAYLIGHT
BEGIN:STANDARD
TZOFFSETFROM:+0100
TZOFFSETTO:+0000
TZNAME:GMT
DTSTART:20191027T010000
END:STANDARD
BEGIN:DAYLIGHT
TZOFFSETFROM:+0000
TZOFFSETTO:+0100
TZNAME:BST
DTSTART:20200329T010000
END:DAYLIGHT
BEGIN:STANDARD
TZOFFSETFROM:+0100
TZOFFSETTO:+0000
TZNAME:GMT
DTSTART:20201025T010000
END:STANDARD
BEGIN:DAYLIGHT
TZOFFSETFROM:+0000
TZOFFSETTO:+0100
TZNAME:BST
DTSTART:20210328T010000
END:DAYLIGHT
BEGIN:STANDARD
TZOFFSETFROM:+0100
TZOFFSETTO:+0000
TZNAME:GMT
DTSTART:20211031T010000
END:STANDARD
END:VTIMEZONE
BEGIN:VEVENT
DTSTART;TZID=Europe/London:20201102T000000
DTEND;TZID=Europe/London:20201102T000000
DTSTAMP:20260421T004205
CREATED:20231020T094022Z
LAST-MODIFIED:20231027T105554Z
UID:10000829-1604275200-1604275200@orkneymart.com
SUMMARY:Cattle Sale
DESCRIPTION:Forward for sale on Monday were 5 Prime Cattle\, 27 Stores & 19 OTM Cattle. Prime Cattle topped at 221 p/kg for a Charolais Heifer scaling 560 kilos from J Stevenson\, Midhouse\, Evie realising  £1237 purchased by Donaldsons\, and also for a Saler Heifer scaling 575 kilos from E Tait\, Skelday\, Dounby realising  £1270 purchased by E Flett Butchers. Store Steers averaged 213.3 p/kg with Non Assured Steers averaging 173.6 p/kg. Store Steers topped at  £1110 for a Limousin scaling 535 kilos from W I & D A Shearer\, Airy\, Stronsay. Store Heifers averaged 207.7 p/kg with Non-Assured Heifers averaging 180 p/kg.Store Heifers topped at  £1030 for a pair of Aberdeen Angus scaling 495 kilos from W I & D A Shearer\, Airy\, Stronsay. OTM Cattle were slightly cheaper this week with a mixed show of feeding types forward. OTM’s topped at 151.2 p/kg for an Aberdeen Angus scaling 615 kilos from R Rendall\, Floss\, Westray realising  £930. OTHER OTM CATTLE PER KILO RUSSAMYRE\,ORPHIR 835  £1\,005.00 120.4 AARUSSAMYRE\,ORPHIR 775  £905.00 116.8 AABACKALAND\,EDAY 740  £880.00 118.9 AABACKALAND\,EDAY 655  £730.00 111.5 AAMIDHOUSE\,EVIE 770  £905.00 117.5 AAMIDHOUSE\,EVIE 715  £820.00 114.7 SIMHUIP\,STRONSAY 720  £820.00 113.9 AABROCKAN\,STROMNESS 765  £850.00 111.1 SIMBROCKAN\,STROMNESS 725  £805.00 111 AA
URL:https://orkneymart.com/event/cattle-sale-93/
CATEGORIES:Sales Report
END:VEVENT
BEGIN:VEVENT
DTSTART;TZID=Europe/London:20201109T000000
DTEND;TZID=Europe/London:20201109T000000
DTSTAMP:20260421T004205
CREATED:20231020T094008Z
LAST-MODIFIED:20231027T105554Z
UID:10000827-1604880000-1604880000@orkneymart.com
SUMMARY:Cattle Sale
DESCRIPTION:Forward for sale on Monday were 9 Prime Cattle\, 18 Store Cattle & 33 OTM Cattle. Prime Cattle sold to 214 p/kg for a Charolais scaling 565 kilos from P & F Ross\, Lenahowe\, Sandwick realising  £1209 purchased by Donaldsons. OTHER PRIME HEIFERS LENAHOWE\,SANDWICK 640  £1\,363.20 213 CHARSKELDAY\,DOUNBY 530  £1\,097.10 207 SAL Prime Steers sold to 213 p/kg for a Stabaliser scaling 560 kilos from G Henry\, Howe\, Harray realising  £1192 purchased by E Flett. Store Cattle sold to 230.2 p/kg for a British Blue Steer scaling 430 kilos from A W Sinclair\, Crowtaing\, Longhope realising  £990. Top price per head was  £1180 for a Simmental scaling 575 kilos from Tormiston Farms\, Stenness. A mixed show of OTMs followed the national trend and were harder to cash. OTM Cattle topped at 150.8 p/kg for a Simmental scaling 630 kilos from J Sinclair\, Midhouse\, Harray realising  £950. OTHER OTMS PER KILO DOGTOO\,WESTRAY 605  £900.00 148.8 AADOGTOO\,WESTRAY 530  £720.00 135.8 AAAPPIETOWN\,RENDALL 585  £750.00 128.2 SHOHYVAL\,SANDWICK 760  £940.00 123.7 LIMHYVAL\,SANDWICK 835  £970.00 116.2 SIMHYVAL\,SANDWICK 735  £845.00 115 SIMHOLLAND\,PAPA WESTRAY 840  £1\,030.00 122.6 AAHOLLAND\,PAPA WESTRAY 670  £770.00 114.9 AAHOLLAND\,PAPA WESTRAY 785  £890.00 113.4 AAKNOCKHALL\,SOUTH RONALDSAY 670  £790.00 117.9 SIMMIDHOUSE\,HARRAY 680  £790.00 116.2 SIMCROWTAING\,LONGHOPE 600  £685.00 114.2 SIMNEWBIGGING\,DOUNBY 770  £830.00 107.8 AABROCKAN\,STROMNESS 650  £700.00 107.7 AAHONEYSGOE\,SOUTH RONALDSAY 705  £750.00 106.4 AAHEATHERHOUSE\,TANKERNESS 915  £920.00 100.5 LUIN Top price per head was  £1030 for an Angus cow scaling 840 kilos from Holland Farms\, Papay.
URL:https://orkneymart.com/event/cattle-sale-92/
CATEGORIES:Sales Report
END:VEVENT
BEGIN:VEVENT
DTSTART;TZID=Europe/London:20201116T000000
DTEND;TZID=Europe/London:20201116T000000
DTSTAMP:20260421T004205
CREATED:20231020T094008Z
LAST-MODIFIED:20231027T105554Z
UID:10000825-1605484800-1605484800@orkneymart.com
SUMMARY:Cattle Sale
DESCRIPTION:Forward for sale on Monday were 5 Prime Cattle\, 308 Store Cattle & 41 OTM Cattle. Prime Heifers sold to 223 p/kg for a Charolais scaling 620 kilos from W S Garson\, Huan\, Sandwick realising  £1382 purchased by Donaldsons. Prime Steers sold to 216 p/kg for a Saler scaling 635 kilos from Groat\, Cloke\, Dounby realising  £1371 purchased by E Flett. A mixed show of Cattle sold very well in comparison to southern Markets\, with Cattle showing plenty live-weight. Younger Cattle were a great trade. 216 Store Steers averaged 213.2 p/kg (-0.1p on 2 weeks) and topped at 243.9 p/kg for a pair of Shorthorns scaling 287 kilos from R L & K S Jones\, Denwick\, Deerness realising  £700. OTHER STEERS PER KILO HERMISGARTH\,SANDAY 380  £920.00 242.1 AAHERMISGARTH\,SANDAY 390  £930.00 238.5 LIMHERMISGARTH\,SANDAY 475  £1\,055.00 222.1 CHARDENWICK\,DEERNESS 275  £650.00 236.4 SIMUPPER LINKLATER\,TWATT 490  £1\,135.00 231.6 CHARBALFOUR ESTATES\,SHAPINSAY 425  £970.00 228.2 CHARMILLBRAE\,SANDAY 435  £990.00 227.6 CHARMILLBRAE\,SANDAY 495  £1\,115.00 225.3 LIMMILLBRAE\,SANDAY 486  £1\,090.00 224.3 CHARBARNS OF AYRE\,DEERNESS 447  £1\,015.00 227.1 CHARBARNS OF AYRE\,DEERNESS 520  £1\,160.00 223.1 CHARWHITEHALL\,STRONSAY 538  £1\,200.00 223 CHARWHITEHALL\,STRONSAY 500  £1\,105.00 221 LIMWHITEHALL\,STRONSAY 555  £1\,220.00 219.8 LIMWHITEHALL\,STRONSAY 497  £1\,090.00 219.3 SIMRENNIBISTER\,KIRKWALL 495  £1\,100.00 222.2 AARENNIBISTER\,KIRKWALL 441  £980.00 222.2 AARENNIBISTER\,KIRKWALL 450  £995.00 221.1 AAHUNTON\,STRONSAY 450  £1\,000.00 222.2 AAHUNTON\,STRONSAY 488  £1\,065.00 218.2 AAHUNTON\,STRONSAY 487  £1\,060.00 217.7 AANETHERSKAILL\,BIRSAY 567  £1\,255.00 221.3 CHARNETHERSKAILL\,BIRSAY 578  £1\,250.00 216.3 CHARSWANNAY FARM\,BY EVIE 520  £1\,145.00 220.2 CHARSWANNAY FARM\,BY EVIE 540  £1\,175.00 217.6 SIMORGIL\,HOY 270  £590.00 218.5 SIMORGIL\,HOY 365  £780.00 213.7 SIMODINESS\,STRONSAY 380  £830.00 218.4 LIMODINESS\,STRONSAY 505  £1\,090.00 215.8 CHAREASTSIDE\,TWATT 456  £995.00 218.2 LIMTHE KNOWE\,SANDAY 550  £1\,200.00 218.2 AATHE KNOWE\,SANDAY 562  £1\,220.00 217.1 AATHE KNOWE\,SANDAY 543  £1\,170.00 215.5 SIMHEATHER-COW-ROOT\,FLOTTA 530  £1\,160.00 218.9 LIMHEATHER-COW-ROOT\,FLOTTA 555  £1\,205.00 217.1 LIMBIGGINGS\,HOLM 485  £1\,055.00 217.5 LIMBIGGINGS\,HOLM 493  £1\,070.00 217 SIMBINSCARTH\,FINSTOWN 562  £1\,220.00 217.1 CHARBINSCARTH\,FINSTOWN 551  £1\,195.00 216.9 CHARGARBO\,SANDAY 505  £1\,090.00 215.8 AAGARBO\,SANDAY 523  £1\,100.00 210.3 AAQUOYS\,SOUTH RONALDSAY 421  £905.00 215 CHARQUOYS\,SOUTH RONALDSAY 440  £940.00 213.6 CHAREASTAQUOY\,HARRAY 557  £1\,195.00 214.5 SALCANADA\,TWATT 500  £1\,070.00 214 AAFOLSETTER\,TWATT 481  £1\,025.00 213.1 AAFOLSETTER\,TWATT 515  £1\,080.00 209.7 AAWHITECLEAT\,TANKERNESS 485  £1\,020.00 210.3 CHARNETHERHILL\,TANKERNESS 505  £1\,050.00 207.9 AAGREENHALL\,DEERNESS 385  £785.00 203.9 OTH Top price per head was  £1255 for a pair of Charolais scaling 567 kilos from R J & J L Gaudie\, Netherskaill\, Birsay. OTHER STEERS PER HEAD NETHERSKAILL\,BIRSAY 578  £1\,250.00 CHAR NETHERSKAILL\,BIRSAY 585  £1\,245.00 CHAR BINSCARTH\,FINSTOWN 562  £1\,220.00 CHAR THE KNOWE\,SANDAY 562  £1\,220.00 AA THE KNOWE\,SANDAY 550  £1\,200.00 AA WHITEHALL\,STRONSAY 555  £1\,220.00 LIM WHITEHALL\,STRONSAY 538  £1\,200.00 CHAR HEATHER-COW-ROOT\,FLOTTA 555  £1\,205.00 LIM SWANNAY FARM\,BY EVIE 585  £1\,200.00 CHAR ODINESS\,STRONSAY 572  £1\,200.00 AA EASTAQUOY\,HARRAY 557  £1\,195.00 SAL FOLSETTER\,TWATT 557  £1\,165.00 AA BARNS OF AYRE\,DEERNESS 520  £1\,160.00 CHAR RENNIBISTER\,KIRKWALL 545  £1\,145.00 AA UPPER LINKLATER\,TWATT 490  £1\,135.00 CHAR MILLBRAE\,SANDAY 495  £1\,115.00 LIM GARBO\,SANDAY 523  £1\,100.00 AA BALFOUR ESTATES\,SHAPINSAY 507  £1\,090.00 CHAR HERMISGARTH\,SANDAY 500  £1\,090.00 LIM BIGGINGS\,HOLM 555  £1\,080.00 SIM NETHERHILL\,TANKERNESS 545  £1\,080.00 LIM HUNTON\,STRONSAY 520  £1\,075.00 AA CANADA\,TWATT 500  £1\,070.00 AA WHITECLEAT\,TANKERNESS 485  £1\,020.00 CHAR 92 Store Heifers averaged 210.2 p/kg (+2.5p on 2 weeks) and topped at 240 p/kg for a pen of 4 Charolais scaling 375 kilos from J C Sinclair\, Appieteen\, Sandwick Realising  £900. OTHER HEIFERS PER KILO APPIETEEN\,SANDWICK 397  £950.00 239 CHARHEATHER-COW-ROOT\,FLOTTA 490  £1\,135.00 231.6 LIMWHITEHALL\,STRONSAY 493  £1\,120.00 227.2 LIMEASTSIDE\,TWATT 487  £1\,095.00 224.8 LIMNETHERHILL\,TANKERNESS 415  £930.00 224.1 LIMORGIL\,HOY 290  £650.00 224.1 SIMHYVAL\,SANDWICK 470  £1\,030.00 219.1 LIMHYVAL\,SANDWICK 542  £1\,145.00 211.3 LIMHUNTON\,STRONSAY 515  £1\,120.00 217.5 AAHUNTON\,STRONSAY 480  £1\,025.00 213.5 BBHERMISGARTH\,SANDAY 460  £990.00 215.2 LIMHERMISGARTH\,SANDAY 515  £1\,105.00 214.6 SALHERMISGARTH\,SANDAY 510  £1\,090.00 213.7 SALBALFOUR ESTATES\,SHAPINSAY 465  £1\,000.00 215.1 CHARBINSCARTH\,FINSTOWN 570  £1\,210.00 212.3 CHARTHE KNOWE\,SANDAY 515  £1\,090.00 211.7 CHARTHE KNOWE\,SANDAY 506  £1\,065.00 210.5 CHARODINESS\,STRONSAY 473  £1\,000.00 211.4 CHAREASTAQUOY\,HARRAY 530  £1\,120.00 211.3 CHARSWANNAY FARM\,BY EVIE 580  £1\,200.00 206.9 CHARMILLBRAE\,SANDAY 455  £940.00 206.6 CHARSWARTLAND\,DOUNBY 635  £1\,305.00 205.5 LIMBARSWICK\,SOUTH RONALDSAY 335  £660.00 197 CHAR Top price per head was  £1305 for a Limousin scaling 635 kilos from G T Wylie\, Swartland\, Dounby. OTHER HEIFERS PER HEAD BINSCARTH\,FINSTOWN 570  £1\,210.00 CHAR BINSCARTH\,FINSTOWN 565  £1\,180.00 CHAR SWANNAY FARM\,BY EVIE 580  £1\,200.00 CHAR HYVAL\,SANDWICK 595  £1\,190.00 LIM REDLAND\,STROMNESS 575  £1\,150.00 SAL HEATHER-COW-ROOT\,FLOTTA 490  £1\,135.00 LIM HUNTON\,STRONSAY 515  £1\,120.00 AA EASTAQUOY\,HARRAY 530  £1\,120.00 CHAR WHITEHALL\,STRONSAY 493  £1\,120.00 LIM HERMISGARTH\,SANDAY 515  £1\,105.00 SAL EASTSIDE\,TWATT 520  £1\,100.00 AA EASTSIDE\,TWATT 487  £1\,095.00 LIM THE KNOWE\,SANDAY 515  £1\,090.00 CHAR MILLBRAE\,SANDAY 510  £1\,040.00 OTH BALFOUR ESTATES\,SHAPINSAY 465  £1\,000.00 CHAR ODINESS\,STRONSAY 473  £1\,000.00 CHAR OTM Cattle were harder to cash this week as dead-weight trade decreases further. OTM Cattle topped at 167 p/kg for an Aberdeen Angus scaling 575 kilos from M & W Holland\, Hunton\, Stronsay realising  £960. OTHER OTMs PER KILO SWARTLAND\,DOUNBY 745  £980.00 131.5 LIMWHITEHALL\,STRONSAY 705  £870.00 123.4 SIMWHITEHALL\,STRONSAY 690  £810.00 117.4 SIMWHITEHALL\,STRONSAY 700  £800.00 114.3 SIMWHITEHALL\,STRONSAY 650  £720.00 110.8 LIMODINESS\,STRONSAY 550  £660.00 120 SIMODINESS\,STRONSAY 715  £820.00 114.7 AAMILLBRAE\,SANDAY 675  £740.00 109.6 LIMTHE BURN\,SOUTH RONALDSAY 780  £850.00 109 CHARHUNTON\,STRONSAY 765  £805.00 105.2 AAHUNTON\,STRONSAY 780  £820.00 105.1 AAFARACLETT\,ROUSAY 660  £660.00 100 SIM Top price per head was  £1060 for an Aberdeen Angus scaling 995 kilos from G T Wylie\, Swartland\, Dounby.
URL:https://orkneymart.com/event/cattle-sale-91/
CATEGORIES:Sales Report
END:VEVENT
BEGIN:VEVENT
DTSTART;TZID=Europe/London:20201123T000000
DTEND;TZID=Europe/London:20201123T000000
DTSTAMP:20260421T004205
CREATED:20231020T094007Z
LAST-MODIFIED:20231027T105554Z
UID:10000823-1606089600-1606089600@orkneymart.com
SUMMARY:Cattle Sale
DESCRIPTION:Forward for sale on Monday were 9 Prime Cattle\, 9 OTM Cattle & 110 Breeding Cattle. Prime Cattle sold to 234 p/kg for a Limousin Heifer scaling 570 kilos from Drydale Farms\, Stromness realising  £1333 purchased by Donaldsons. OTHER PRIME HEIFERS NETHERSKAILL\,BIRSAY 585  £1\,240.20 212 AALENAHOWE\,SNADWICK 570  £1\,208.40 212 CHARKIRKHOUSE\,SOUTH RONALDSAY 525  £1\,065.75 203 SIM Prime Steers sold to 215 p/kg for a Saler scaling 625 kilos from Groat\, Cloke\, Dounby realising  £1343 purchased by E Flett. OTHER PRIME STEERS DRYDALE\,STROMNESS 665  £1\,403.15 211 SIM OTM Cattle were sharper this week on average for a mixed show of older\, feeding type cows. Cows topped at 124.6 p/kg for an Aberdeen Angus scaling 570 kilos from W I & D Shearer\, Airy\, Stronsay realising  £710. OTHER OTM COWS AIRY\,STRONSAY\,ORKNEY\, 660  £790.00 119.7 LIMFLOSS\,WESTRAY\,ORKNEY\, 665  £770.00 115.8 SIMINKERMAN\,SANDAY\,ORKNEY\, 695  £770.00 110.8 SALKIRKHOUSE\,SOUTH RONALDSAY\,ORKNEY\, 615  £680.00 110.6 LIMMOUSELAND\,STROMNESS\,ORKNEY\, 630  £660.00 104.8 SIM Also forward were 110 Breeding Cattle from E M Flett\, Hurtiso\, Holm. A mixture of breeds and sizes suited the variety of local buyers with all types selling very well. 3 In-Calf Heifers averaged  £1675 and sold to  £1780 for a Limousin Heifer. OTHER HEIFERS  £1\,750.00 AA  £1\,500.00 SIM 102 Cows averaged  £1540 and topped at  £2150 for a 5 year old Limousin cow scanned In Calf to Limousin Bull. OTHER COWS  £1\,880.00 BLND  £1\,850.00 SIM  £1\,820.00 SIM  £1\,800.00 SH  £1\,800.00 SIM  £1\,800.00 AA  £1\,800.00 LIM  £1\,800.00 CHAR  £1\,780.00 LIM  £1\,780.00 SIM  £1\,750.00 LIM  £1\,750.00 SIM  £1\,720.00 SIM  £1\,700.00 LIM  £1\,700.00 SIM 5 Breeding Bulls averaged  £3400 and sold to  £4000 for a 3 year old Shorthorn. OTHER BULLS  £3\,800.00 LIM  £3\,500.00 LIM  £3\,600.00 AA
URL:https://orkneymart.com/event/cattle-sale-90/
CATEGORIES:Sales Report
END:VEVENT
BEGIN:VEVENT
DTSTART;TZID=Europe/London:20201130T000000
DTEND;TZID=Europe/London:20201130T000000
DTSTAMP:20260421T004205
CREATED:20231020T093952Z
LAST-MODIFIED:20231027T105554Z
UID:10000821-1606694400-1606694400@orkneymart.com
SUMMARY:Cattle Sale
DESCRIPTION:Forward for sale on Monday were 8 Prime\, 4 Store & 11 OTM Cattle. Prime Heifers sold to 220 p/kg for a Limousin scaling 645 kilos from W S Garson\, Huan\, Sandwick realising  £1419 purchased by Craigies. OTHER PRIME HEIFERS FEOLQUOY\,STROMNESS 605  £1\,324.00 219 CHNETHERHILL\,TANKERNESS 600  £1\,308.00 218 CHOLD HALL\,STROMNESS 605  £1\,318.00 218 SIM Prime Steers sold to 219 p/kg for a Saler scaling 595 kilos from W S Garson\, Huan\, Sandwick realising  £1303 purchased by E Flett. A handful of stores sold to  £1160 for a Stabaliser Steers scaling 570 kilos from P & E M Dennison\, Odiness\, Stronsay. OTM Cattle were sharper this week averaging 122p and topping at 162 p/kg for a Saler scaling 500 kilos from J Boyd\, Hanover\, Sanday realising  £810. OTHER OTM CATTLE HANOVER\,SANDAY 432  £580.00 134.3 SALODINESS\,STRONSAY 465  £600.00 129 SIMODINESS\,STRONSAY 705  £860.00 122 SIM OTM Bulls sold to 112.9 p/kg for a Limousin scaling 1045 kilos from D & F Stevenson\, Bu\, Orphir realising  £1180.
URL:https://orkneymart.com/event/cattle-sale-89/
CATEGORIES:Sales Report
END:VEVENT
END:VCALENDAR