BEGIN:VCALENDAR
VERSION:2.0
PRODID:-//Orkney Auction Mart - ECPv6.15.17.1//NONSGML v1.0//EN
CALSCALE:GREGORIAN
METHOD:PUBLISH
X-WR-CALNAME:Orkney Auction Mart
X-ORIGINAL-URL:https://orkneymart.com
X-WR-CALDESC:Events for Orkney Auction Mart
REFRESH-INTERVAL;VALUE=DURATION:PT1H
X-Robots-Tag:noindex
X-PUBLISHED-TTL:PT1H
BEGIN:VTIMEZONE
TZID:Europe/London
BEGIN:DAYLIGHT
TZOFFSETFROM:+0000
TZOFFSETTO:+0100
TZNAME:BST
DTSTART:20190331T010000
END:DAYLIGHT
BEGIN:STANDARD
TZOFFSETFROM:+0100
TZOFFSETTO:+0000
TZNAME:GMT
DTSTART:20191027T010000
END:STANDARD
BEGIN:DAYLIGHT
TZOFFSETFROM:+0000
TZOFFSETTO:+0100
TZNAME:BST
DTSTART:20200329T010000
END:DAYLIGHT
BEGIN:STANDARD
TZOFFSETFROM:+0100
TZOFFSETTO:+0000
TZNAME:GMT
DTSTART:20201025T010000
END:STANDARD
BEGIN:DAYLIGHT
TZOFFSETFROM:+0000
TZOFFSETTO:+0100
TZNAME:BST
DTSTART:20210328T010000
END:DAYLIGHT
BEGIN:STANDARD
TZOFFSETFROM:+0100
TZOFFSETTO:+0000
TZNAME:GMT
DTSTART:20211031T010000
END:STANDARD
END:VTIMEZONE
BEGIN:VEVENT
DTSTART;TZID=Europe/London:20200504T000000
DTEND;TZID=Europe/London:20200504T000000
DTSTAMP:20260421T080012
CREATED:20231020T094613Z
LAST-MODIFIED:20231027T105553Z
UID:10000872-1588550400-1588550400@orkneymart.com
SUMMARY:Cattle Sale
DESCRIPTION:Forward for sale on Monday were 8 Prime Cattle\, 177 Store Cattle & 11 OTMs. \nPrime Heifers sold to 212 p/kg for a Limousin scaling 575 kilos from B & B Omand\, Stembister\, Toab realising  £1219 purchased by Donaldsons. \nPrime Steers sold to 199 p/kg for a Stabaliser scaling 610 kilos from G Henry\, Howe\, Harray realising  £1213 purchased by E Flett. \nA mixed show of store cattle held their weight well in Kirkwall and sold to excellent rates with plenty of local and south demand keen for cattle. More grazers could have easily been sold to sellers advantage. \n98 Store Steers averaged 216 p/kg and sold to a top of 240.3 p/kg for a pair of Simmentals scaling 362 kilos from R K & E M Johnston\, East Garth\, Harray realising  £870. \nTop price per head was  £1100 for a Charolais scaling 495 kilos from J I & W N Stout\, Whitehall\, Stronsay. \nOTHER STORE STEERS PER KILO \nEAST GARTH\,HARRAY 350  £835.00 238.6 SIM \nNISTAGAR\,HARRAY 435  £1\,005.00 231 LIM \nWHITEHALL\,STRONSAY 440  £1\,005.00 228.4 CHAR \nWHITEHALL\,STRONSAY 460  £1\,050.00 228.3 CHAR \nWHITEHALL\,STRONSAY 433  £985.00 227.5 CHAR \nKIRBUSTER\,LONGHOPE 382  £860.00 225.1 CHAR \nKIRBUSTER\,LONGHOPE 395  £885.00 224.1 CHAR \nSWANNAY FARM\,BY EVIE 445  £1\,000.00 224.7 LIM \nSWANNAY FARM\,BY EVIE 467  £1\,030.00 220.6 SIM \nHEADS\,ST MARGARETS HOPE 405  £900.00 222.2 SIM \nHEADS\,ST MARGARETS HOPE 475  £1\,040.00 218.9 SIM \nRENNIBISTER\,KIRKWALL 465  £1\,005.00 216.1 BB \nSEATTERSQUOY\,STENNESS 480  £1\,025.00 213.5 SIM \nRUSSAMYRE\,ORPHIR 428  £910.00 212.6 AA \nOTHER STEER PRICES PER HEAD \nWHITEHALL\,STRONSAY 520  £1\,100.00 CHAR \nWHITEHALL\,STRONSAY 490  £1\,075.00 CHAR \nRENNIBISTER\,KIRKWALL 530  £1\,090.00 AA \nRENNIBISTER\,KIRKWALL 522  £1\,075.00 AA \nSEATTERSQUOY\,STENNESS 540  £1\,085.00 AA \nSEATTERSQUOY\,STENNESS 480  £1\,025.00 SIM \nHEADS\,ST MARGARETS HOPE 535  £1\,075.00 SAL \nHEADS\,ST MARGARETS HOPE 475  £1\,040.00 SIM \nNISTAGAR\,HARRAY 490  £1\,060.00 LIM \nNISTAGAR\,HARRAY 487  £1\,045.00 LIM \nRUSSAMYRE\,ORPHIR 505  £1\,055.00 AA \nSWANNAY FARM\,BY EVIE 467  £1\,030.00 CHAR \nStore Heifers averaged 205 p/kg and sold to 235 p/kg for a Limousin scaling 400 kilos from Backakelday Farm\, Holm realising  £940. \nTop price per head was  £1130 for an Aberdeen Angus heifer from V H Spence\, Mucklepow\, Evie. \nOTHER STORE HEIFERS PER KILO \nBACKAKELDAY\,HOLM 415  £950.00 228.9 SIM \nBACKAKELDAY\,HOLM 370  £840.00 227 CHAR \nBURNESS\,FIRTH 445  £1\,000.00 224.7 LIM \nBURNESS\,FIRTH 406  £900.00 221.7 LIM \nSWANNAY FARM\,BY EVIE 445  £970.00 218 CHAR \nRENNIBISTER\,KIRKWALL 450  £950.00 211.1 BB \nSEATTERSQUOY\,STENNESS 470  £990.00 210.6 CHAR \nHOW\,SANDAY 465  £980.00 210.8 CHAR \nHOW\,SANDAY 471  £990.00 210.2 CHAR \nOTHER STORE HEIFERS PER HEAD \nHOW\,SANDAY 580  £1\,100.00 CHAR \nHOW\,SANDAY 545  £1\,070.00 AA \nMUCKLE POW\,EVIE 530  £1\,080.00 SIM \nBRAELAND\,SOUTH RONALDSAY 535  £1\,065.00 CHAR \nBRAELAND\,SOUTH RONALDSAY 570  £1\,040.00 CHAR \nSWANNAY FARM\,BY EVIE 492  £1\,040.00 CHAR \nSWANNAY FARM\,BY EVIE 502  £1\,030.00 CHAR \nBACKAKELDAY\,HOLM 470  £1\,030.00 SIM \nBACKAKELDAY\,HOLM 465  £1\,015.00 SIM \nHOBBISTER\,ORPHIR 560  £1\,050.00 SH \nHOBBISTER\,ORPHIR 590  £1\,040.00 SH \nBURNESS\,FIRTH 445  £1\,000.00 LIM \nOTM Cattle were much sharper this week selling to 150 p/kg for a Charolais scaling 460 kilos from J L Brodie\, Sunnybank\, St Ola realising  £690. \nTop price per head was  £1095 for a Saler Cow scaling 850 kilos from R K & E M Johnston\, East Garth\, Harray. \nOTHER OTM COWS \nEAST GARTH\,HARRAY 860  £1\,055.00 122.7 CHAR \nEAST GARTH\,HARRAY 805  £1\,010.00 125.5 SIM \nGARTH\,STROMNESS 815  £970.00 119 STAB \nWHITEHOW\,PAPA WESTRAY 690  £850.00 123.2 AA \nSUNNYBANK\,ST OLA 690  £835.00 121 CHAR \nHEADS\,ST MARGARETS HOPE 625  £720.00 115.2 SIM \nOTM BULLS \nWHITEHOW\,PAPA WESTRAY 1050  £1\,080.00 102.9 CHAR
URL:https://orkneymart.com/event/cattle-sale-109/
CATEGORIES:Sales Report
END:VEVENT
BEGIN:VEVENT
DTSTART;TZID=Europe/London:20200511T000000
DTEND;TZID=Europe/London:20200511T000000
DTSTAMP:20260421T080012
CREATED:20231020T094613Z
LAST-MODIFIED:20231027T105553Z
UID:10000871-1589155200-1589155200@orkneymart.com
SUMMARY:Cattle Sale
DESCRIPTION:Forward for sale on Monday were 8 Prime Cattle\, 273 Store Cattle & 4 OTM Cattle. \nSHOW REPORT 11 MAY 2020 \nOrkney Livestock Association usually have a show prior to their annual sale of grazing cattle however this year it was decided not to go ahead with this due to current Covid19 restrictions.  It was therefore decided to offer cash prizes of  £50 each to the top pence per kilo price attained by a BVD accredited stot and heifer purchased by a local buyer.  The local buyers of these two top price animals will also be awarded with cash prizes of  £25 each.  All prizes are sponsored by Biobest Laboratories Ltd. \nThe top price pence per kilo for a BVD accredited grazing stot sold to a local buyer was attained by Messrs Robertson\, Little Wards\, Longhope for a pair of Charolais crosses scaling 325kgs selling for  £865 per head (266.1p) to Mr Low\, Craighaven\, Toab. \nThe top price pence per kilo for a BVD accredited grazing heifer sold to a local buyer was attained by Messrs Wishart of Knockhall in South Ronaldsay with a Simmental cross scaling 295kgs that sold for  £690 (233.9p) to Mr Moar of Vinbrake in Birsay. \nPrime Heifers sold to 211 p/kg for an Aberdeen Angus scaling 595 kilos from J & G Smith\, Cauldhame\, Stromness realising  £1255.45 purchased by Williamsons. \nPrime Steers sold to 203 p/kg for a Stabiliser scaling 635 kilos from G Henry\, Howe\, Harray realising  £1289.05 purchased by E Flett. \nA mixed show of store cattle was forward for sale today but all showed good live-weight. All grazing types sold to increased rates and were keenly bid for by 31 different buyers. Smaller native heifers proved harder to cash this week but sold accordingly to southern markets. Heavier cattle turning 2 years old were averaging over 200p which compares very well to current dead-weight price. \n165 Store Steers averaged 220 p/kg and sold to a top of 266.2 p/kg for a pair of Charolais scaling 325 kilos from Robertson\, Littlewards\, Longhope realising  £865. \nTop price per head was  £1210 for a Charolais scaling 610 kilos from J Stevenson\, Midhouse\, Evie. \nOTHER STEERS PER KILONEWHALL\,STROMNESS 341  £895.00 262.5 CHARNEWHALL\,STROMNESS 350  £855.00 244.3 LIMKIRBUSTER\,LONGHOPE 362  £875.00 241.7 CHARWARTHILL\,HOLM 397  £950.00 239.3 LIMBACHYLIS\,ORPHIR 370  £885.00 239.2 CHARKIERFIOLD\,SANDWICK 415  £985.00 237.3 CHARKIERFIOLD\,SANDWICK 435  £1\,005.00 231 CHARSTONEHALL\,DEERNESS 395  £935.00 236.7 CHARSTONEHALL\,DEERNESS 365  £845.00 231.5 CHARSTRATHEAST\,HOLM 388  £915.00 235.8 SIMCLAYBRAES\,SOUTH RONALDSAY 435  £1\,015.00 233.3 CHARCLAYBRAES\,SOUTH RONALDSAY 450  £1\,040.00 231.1 CHARHEATHFIELD\,ST OLA 365  £850.00 232.9 BBLOWER BRECKQUOY\,HOLM 346  £805.00 232.7 LIMGARSON\,SANDWICK 440  £1\,020.00 231.8 CHARSOUTH FEA\,ORPHIR 300  £695.00 231.7 AAKARINYA\,DOUNBY 455  £1\,060.00 233 CHARKARINYA\,DOUNBY 448  £1\,030.00 229.9 CHARLITTLE WARDS\,LONGHOPE 350  £800.00 228.6 AANESS\,WESTRAY 435  £990.00 227.6 CHARTUQUOY\,WESTRAY 461  £1\,050.00 227.8 CHARTUQUOY\,WESTRAY 460  £1\,045.00 227.2 CHARLINKSNESS\,STRONSAY 427  £970.00 227.2 CHARFEA\,ORPHIR 340  £765.00 225 AAWHITEHALL\,STRONSAY 442  £990.00 224 LIMRAMSQUOY\,STENNESS 415  £925.00 222.9 CHARRAMSQUOY\,STENNESS 452  £1\,000.00 221.2 CHARINKERMAN\,SANDAY 392  £870.00 221.9 SIMCOLLIGARTH\,SANDAY 460  £1\,000.00 217.4 LIMKNOCKHALL\,SOUTH RONALDSAY 382  £830.00 217.3 SIMHOWEQUOY\,HOLM 395  £850.00 215.2 SIMLANGSKAILL\,WESTRAY 390  £835.00 214.1 AASELWICK\,HOY 315  £665.00 211.1 SIMRUSSAMYRE\,ORPHIR 325  £695.00 213.8 AAVEDDER\,TANKERNESS 405  £850.00 209.9 AA \nOTHER STEERS PER HEADNORTHFIELD\,BURRAY 586  £1\,175.00 AACOLLIGARTH\,SANDAY 595  £1\,130.00 BBTUQUOY\,WESTRAY 525  £1\,125.00 CHARTUQUOY\,WESTRAY 505  £1\,115.00 CHARGARSON\,SANDWICK 482  £1\,100.00 CHARKARINYA\,DOUNBY 485  £1\,100.00 CHARKARINYA\,DOUNBY 481  £1\,090.00 CHARNESS\,WESTRAY 495  £1\,100.00 CHARNESS\,WESTRAY 485  £1\,080.00 CHARCLAYBRAES\,SOUTH RONALDSAY 450  £1\,040.00 CHARKIERFIOLD\,SANDWICK 450  £1\,030.00 CHARKIERFIOLD\,SANDWICK 445  £1\,020.00 CHARWARTHILL\,HOLM 445  £1\,020.00 LIMSTONEHALL\,DEERNESS 450  £1\,010.00 CHARRAMSQUOY\,STENNESS 452  £1\,000.00 CHARHOWEQUOY\,HOLM 480  £1\,005.00 SIMSTRATHEAST\,HOLM 455  £990.00 SIMWHITEHALL\,STRONSAY 442  £990.00 SIMLINKSNESS\,STRONSAY 427  £970.00 CHAR \n108 Store Heifers averaged 205 p/kg and sold to 245.6 p/kg for a Limousin scaling 340 kilos from J & C Gray\, Dalvena\, St Ola realising  £835. \nTop price per head was  £1080 for a Charolais scaling 495 kilos from Garson\, Sandwick. \nOTHER HEIFERS PER KILOKNOCKHALL\,SOUTH RONALDSAY 295  £690.00 233.9 SIMDALVENNA\,ST OLA 395  £920.00 232.9 LIMLINKSNESS\,STRONSAY 422  £970.00 229.9 CHARLINKSNESS\,STRONSAY 405  £920.00 227.2 CHARGARSON\,SANDWICK 430  £980.00 227.9 CHARCLAYBRAES\,SOUTH RONALDSAY 415  £940.00 226.5 CHARWHITEHALL\,STRONSAY 443  £1\,000.00 225.7 CHARWHITEHALL\,STRONSAY 455  £1\,020.00 224.2 CHARBACHYLIS\,ORPHIR 420  £940.00 223.8 LIMNEWHALL\,STROMNESS 395  £880.00 222.8 CHARLOWER BRECKQUOY\,HOLM 400  £880.00 220 LIMKIERFIOLD\,SANDWICK 385  £850.00 220.8 CHARKIERFIOLD\,SANDWICK 425  £920.00 216.5 CHARKARINYA\,DOUNBY 402  £880.00 218.9 CHARKARINYA\,DOUNBY 455  £980.00 215.4 CHARHEATHFIELD\,ST OLA 345  £755.00 218.8 BBHEATHFIELD\,ST OLA 370  £800.00 216.2 BBWARTHILL\,HOLM 395  £860.00 217.7 LIMSANDWICK HOUSE\,SOUTH RONALDSAY 440  £940.00 213.6 CHAREAST HOWE\,BIRSAY 415  £880.00 212 CHAREAST HOWE\,BIRSAY 475  £1\,000.00 211 CHARVEDDER\,TANKERNESS 440  £900.00 204.5 AAMIDHOUSE\,EVIE 480  £980.00 204.2 CHARSTRATHKELDA\,TOAB 465  £950.00 204.3 CHARMELSETTER\,LONGHOPE 455  £925.00 203.3 LIMCOLLIGARTH\,SANDAY 515  £1\,050.00 203.9 CHARRUSSAMYRE\,ORPHIR 450  £905.00 201.1 AARUSSAMYRE\,ORPHIR 470  £940.00 200 AAFEA\,ORPHIR 295  £590.00 200 AACLEAT\,STRONSAY 455  £900.00 197.8 AALANGSKAILL\,WESTRAY 405  £800.00 197.5 AA \nOTHER HEIFERS PER HEADCOLLIGARTH\,SANDAY 515  £1\,050.00 CHARWHITEHALL\,STRONSAY 455  £1\,020.00 CHARWHITEHALL\,STRONSAY 443  £1\,000.00 CHARLINKSNESS\,STRONSAY 460  £1\,010.00 CHAREAST HOWE\,BIRSAY 475  £1\,000.00 CHARGARSON\,SANDWICK 462  £1\,000.00 CHARGARSON\,SANDWICK 430  £980.00 CHARMELSETTER\,LONGHOPE 495  £990.00 LIMKARINYA\,DOUNBY 455  £980.00 CHARMIDHOUSE\,EVIE 480  £980.00 CHARSTRATHKELDA\,TOAB 465  £950.00 CHARSANDWICK HOUSE\,SOUTH RONALDSAY 485  £950.00 SIMCLAYBRAES\,SOUTH RONALDSAY 415  £940.00 CHARBACHYLIS\,ORPHIR 420  £940.00 LIMRUSSAMYRE\,ORPHIR 470  £940.00 AA \nOTM Cows sold to 132.9 p/kg for an Aberdeen Angus Scaling 425 kilos from M J & S Cooper\, Cleat\, Stronsay realising  £565.
URL:https://orkneymart.com/event/cattle-sale-108/
CATEGORIES:Sales Report
END:VEVENT
BEGIN:VEVENT
DTSTART;TZID=Europe/London:20200518T000000
DTEND;TZID=Europe/London:20200518T000000
DTSTAMP:20260421T080012
CREATED:20231020T094613Z
LAST-MODIFIED:20231027T105553Z
UID:10000869-1589760000-1589760000@orkneymart.com
SUMMARY:Cattle Sale
DESCRIPTION:Forward for sale on Monday were 6 Prime Cattle\, 47 Store Cattle\, 40 Breeding Cattle & 7 OTM Cattle. Prime Heifers sold to 206 p/kg for a Limousin scaling 575 kilos from B & B Omand\, Stembister\, Toab realising  £1184.50 purchased by E Flett. Prime Steers sold to 200 p/kg for a Charolais scaling 700 kilos from P & F Ross\, Lenahowe\, Sandwick realising  £1400 purchased by Williamsons. Store Cattle once again saw a sharp trade with 31 different buyers left still needing cattle. Store Steers averaged 221 p/kg and sold to 249 p/kg for a pair of Limousins scaling 390 kilos from DD & JA Scott\, Grutha\, South Ronaldsay realising  £970. Top price per head was  £1050 for a pair of Charolais scaling 472 kilos from S W Sinclair\, South Breck\, Firth. OTHER STEERS PER KILO DENWICK\,DEERNESS 315  £720.00 229 LIMSTRATHEAST\,HOLM 405  £920.00 227 SIMSTRATHEAST\,HOLM 395  £895.00 227 LIMNETHERSKAILL\,BIRSAY 425  £955.00 225 BBSOUTH BRECK\,FIRTH 472  £1\,050.00 222 CHARTUQUOY\,WESTRAY 450  £1\,000.00 222.2 CHARTUQUOY\,WESTRAY 475  £1\,035.00 217.9 CHAR OTHER STEERS PER HEAD TUQUOY\,WESTRAY 495  £1\,045.00 CHAR TUQUOY\,WESTRAY 475  £1\,035.00 CHAR TUQUOY\,WESTRAY 450  £1\,000.00 CHAR SOUTH BRECK\,FIRTH 480  £1\,015.00 SAL GRUTHA\,SOUTH RONALDSAY 390  £970.00 LIM NETHERSKAILL\,BIRSAY 425  £955.00 BB STRATHEAST\,HOLM 435  £945.00 SIM Store Heifers averaged 216 p/kg and sold to 238 p/kg for a pair of Charolais scaling 387 kilos from D & K Morgan\, Bryameadow\, Twatt realising  £920. Top price per head was  £1165 for a Simmental scaling 620 kilos from R J & L J Gaudie\, Netherskaill\, Birsay. OTHER HEIFERS PER KILO BRYAMEADOW\,TWATT 385  £905.00 235 CHARBRYAMEADOW\,TWATT 371  £860.00 232 CHARBRYAMEADOW\,TWATT 375  £865.00 231 CHAREAST GARTH\,HARRAY 407  £910.00 224 SIMEAST GARTH\,HARRAY 390  £870.00 223 SIMEAST GARTH\,HARRAY 405  £885.00 219 SIMSOUTH BRECK\,FIRTH 435  £930.00 214 CHARSOUTH BRECK\,FIRTH 437  £920.00 211 CHARNETHERSKAILL\,BIRSAY 465  £975.00 210 LIM OTHER HEIFERS PER HEAD NETHERSKAILL\,BIRSAY 540  £1\,050.00 SIM NETHERSKAILL\,BIRSAY 510  £1\,040.00 CHAR EAST GARTH\,HARRAY 505  £1\,040.00 SIM SOUTH BRECK\,FIRTH 485  £1\,010.00 CHAR BRYAMEADOW\,TWATT 387  £920.00 CHAR Bulling Heifers sold to 259 p/kg for a Simmental scaling 390 kilos from A & D Clark\, Stratheast\, Holm realising  £1010. Top price per head was  £1200 for a Simmental scaling 465 kilos from A & D Clark\, Stratheast\, Holm and also for a pair of Aberdeen Angus Heifers from Northfield Farms\, Burray. OTHER BULLING HEIFERS PER KILO STRATHEAST\,HOLM 390  £1\,010.00 259 SIMSTRATHEAST\,HOLM 465  £1\,200.00 258.1 SIMSTRATHEAST\,HOLM 380  £970.00 255.3 SIMSTRATHEAST\,HOLM 465  £1\,120.00 240.9 SIMKNOCKHALL\,SOUTH RONALDSAY 380  £970.00 255.3 SIMKNOCKHALL\,SOUTH RONALDSAY 355  £900.00 253.5 SIMKNOCKHALL\,SOUTH RONALDSAY 380  £950.00 250 SIMGRUTHA\,SOUTH RONALDSAY 385  £920.00 239 SIMGRUTHA\,SOUTH RONALDSAY 370  £870.00 235.1 BLNDGRUTHA\,SOUTH RONALDSAY 420  £950.00 226.2 LIMGRUTHA\,SOUTH RONALDSAY 440  £975.00 221.6 LIMBRECK-BY-SOUTH\,BIRSAY 495  £1\,060.00 214.1 LIMNORTHFIELD\,BURRAY 585  £1\,200.00 205.1 AA OTHER BULLING HEIFERS PER HEAD STRATHEAST\,HOLM 465  £1\,120.00 SIM STRATHEAST\,HOLM 450  £1\,010.00 LIM STRATHEAST\,HOLM 450  £1\,000.00 LIM NORTHFIELD\,BURRAY 550  £1\,110.00 AA NORTHFIELD\,BURRAY 555  £1\,070.00 AA BRECK-BY-SOUTH\,BIRSAY 495  £1\,060.00 LIM GRUTHA\,SOUTH RONALDSAY 440  £975.00 LIM GRUTHA\,SOUTH RONALDSAY 420  £950.00 LIM KNOCKHALL\,SOUTH RONALDSAY 380  £970.00 SIM KNOCKHALL\,SOUTH RONALDSAY 380  £950.00 SIM Cows with Calves at foot sold to  £1320 for a Shorthorn Cow with a Shorthorn Calf at foot from R L & K S Jones\, Denwick\, Deerness. OTHER COWS WITH CALVES DENWICK\,DEERNESS  £1\,280.00 SHO GERBO\,NORTH RONALDSAY  £1\,140.00 AA OTM Cattle were sharper this week selling to 145.1 p/kg for an Aberdeen Angus Cow scaling 565 kilos from M & W Holland\, Hunton\, Stronsay realising  £820. OTHER OTM PER KILO GRETNA GREEN\,WESTRAY 510  £690.00 135 SIMHUNTON\,STRONSAY 625  £820.00 129 AANETHERSKAILL\,BIRSAY 730  £940.00 129 AA Top price per head was  £1120 for a Limousin Cow scaling 890 kilos from M & W Holland\, Hunton\, Stronsay.
URL:https://orkneymart.com/event/cattle-sale-107/
CATEGORIES:Sales Report
END:VEVENT
BEGIN:VEVENT
DTSTART;TZID=Europe/London:20200525T000000
DTEND;TZID=Europe/London:20200525T000000
DTSTAMP:20260421T080012
CREATED:20231020T094613Z
LAST-MODIFIED:20231027T105553Z
UID:10000868-1590364800-1590364800@orkneymart.com
SUMMARY:Cattle & Sheep Sales
DESCRIPTION:Forward for sale on Monday were 9 Prime Cattle\, 64 Store Cattle & 16 OTMs. Prime Heifers sold to 225 p/kg for a Limousin scaling 560 kilos from B & B Omand\, Stembister\, Toab realising  £1260 purchased by E Flett. Prime Steers sold to 195 p/kg for a Limousin scaling 735 kilos from B & B Omand\, Stembister\, Toab realising  £1433.25 purchased by Williamsons. A small mixed show of store cattle again sold very well with plenty of demand from both local and south buyers leaving customers with averages over 234p/kg. Store Steers sold to 246.2 p/kg for a pair of Charolais scaling 325 kilos from R B S Heard\, Huip\, Stronsay realising  £800. Top price per head was  £1100 for a Charolais scaling 520 kilos from J L & E Inkster\, Upper Linklater\, Twatt. OTHER STEERS PER KILO GORN\,WESTRAY 372  £835.00 224.5 CHARHUIP\,STRONSAY 372  £900.00 241.9 CHARHUIP\,STRONSAY 365  £865.00 237 CHARHUIP\,STRONSAY 315  £740.00 234.9 SIMHUIP\,STRONSAY 345  £810.00 234.8 SIMBURNHOUSE\,LONGHOPE 361  £840.00 232.7 AABURNHOUSE\,LONGHOPE 387  £880.00 227.4 AALOPNESS\,SANDAY 435  £950.00 218.4 SIMLOPNESS\,SANDAY 460  £1\,000.00 217.4 SIMCLAYBRAES\,SOUTH RONALDSAY 467  £1\,000.00 214.1 SIMCLAYBRAES\,SOUTH RONALDSAY 477  £1\,000.00 209.6 SIM OTHER STEERS PER HEAD BRIARLEA\,STRONSAY 535  £1\,080.00 AA UPPER LINKLATER\,TWATT 565  £1\,070.00 CHAR SUNNYBANK\,ST OLA 510  £1\,035.00 CHAR LOPNESS\,SANDAY 460  £1\,000.00 SIM CLAYBRAES\,SOUTH RONALDSAY 467  £1\,000.00 SIM CLAYBRAES\,SOUTH RONALDSAY 477  £1\,000.00 SIM HUIP\,STRONSAY 372  £900.00 CHAR Store Heifers sold to 239.1 p/kg for a pair of Limousins scaling 322 kilos from J J H Scott\, Redland\, Firth realising  £770. Top price per head was  £1215 for a Charolais scaling 605 kilos from J L & E Inkster\, Upper Linklater\, Twatt. OTHER HEIFERS PER KILO REDLAND\,FIRTH 357  £800.00 224.1 LIMREDLAND\,FIRTH 365  £800.00 219.2 AAGORN\,WESTRAY 372  £820.00 220.4 CHARBURNHOUSE\,LONGHOPE 352  £770.00 218.8 AAUPPER LINKLATER\,TWATT 490  £1\,060.00 216.3 CHARCAMPSTON\,TOAB 460  £980.00 213 LIMLOPNESS\,SANDAY 485  £1\,030.00 212.4 LIMLOPNESS\,SANDAY 517  £1\,085.00 209.9 LIMMIDHOUSE\,HARRAY 460  £905.00 196.7 LIMMIDHOUSE\,HARRAY 460  £895.00 194.6 LIM OTHER HEIFERS PER HEAD BRIARLEA\,STRONSAY 540  £1\,090.00 AA LOPNESS\,SANDAY 517  £1\,085.00 LIM UPPER LINKLATER\,TWATT 490  £1\,060.00 CHAR LOPNESS\,SANDAY 485  £1\,030.00 LIM CAMPSTON\,TOAB 460  £980.00 LIM OTM Cattle were a sound trade selling to 162.9 p/kg for a Shorthorn from E M Flett\, Hurtiso\, Holm realising  £790. Top price per head was  £1095 for a Limousin Cow scaling 800 kilos from W I & D Shearer\, Airy\, Stronsay (137p) OTHER OTM COWS CRISMO\,EVIE 815  £1\,090.00 133.7 CHARCRISMO\,EVIE 795  £1\,045.00 131.4 CHARCLIFTON\,WESTRAY 680  £900.00 132.4 SIMCLIFTON\,WESTRAY 640  £815.00 127.3 AAAIRY\,STRONSAY 715  £920.00 129 LIMAIRY\,STRONSAY 605  £770.00 127 AANESS\,SANDWICK 735  £900.00 122.4 CHARHOBBISTER\,ORPHIR 580  £700.00 120.7 AAHUIP\,STRONSAY 690  £830.00 120.3 CHARGORN\,WESTRAY 635  £700.00 110.2 SIM Following the Cattle were 39 Prime Hoggs/Sheep\, 11 Store Hoggs & 50 Cast Sheep. Prime Hoggs sold to 198.2 p/kg for a pair of Texels scaling 55 kilos from J D & M M Leitch\, Feolquoy\, Evie realising  £109 purchased by Williamsons. This was also top price per head. OTHER PRIME HOGGS FEA\,ORPHIR 48  £94.00 195.8 TEXFEA\,ORPHIR 48  £88.50 184.4 TEXFEA\,ORPHIR 45  £83.00 184.4 TEXQUOYDANDY\,ST OLA 54  £100.00 185.2 TEXCRISMO\,EVIE 42.5  £77.50 182.4 TEXSWANNAY FARM\,BY EVIE 50  £90.00 180 SUFNEWHALL\,STROMNESS 45  £78.00 173.3 TEX OTHER PRIME SHEEP NISTHOUSE\,EVIE 49  £82.50 168.4 TEXNISTHOUSE\,EVIE 55  £84.00 152.7 TEXFEA\,ORPHIR 46  £76.50 166.3 TEXQUOYDANDY\,ST OLA 50  £80.00 160 TEXSWANNAY FARM\,BY EVIE 47  £74.00 157.4 TEXSWANNAY FARM\,BY EVIE 45  £70.00 155.6 TEX Store Hoggs sold to  £60 for 5 Black Hoggs from D H Stevenson\, Crismo\, Evie. Cast Sheep sold to  £110 for a Texel Ewes from W H Harvey\, Quoydandy\, St Ola. OTHER CAST EWES CASTLE\,STROMNESS  £106.00 TEX WITHAQUOY\,HOLM  £102.00 TEX QUOYDANDY\,ST OLA  £94.00 TEX QUOYDANDY\,ST OLA  £91.00 TEX APPIETOWN\,RENDALL  £79.00 TEX CAST RAMS QUOYDANDY\,ST OLA 99 TEX QUOYDANDY\,ST OLA 98 TEX
URL:https://orkneymart.com/event/cattle-sheep-sales-74/
CATEGORIES:Sales Report
END:VEVENT
END:VCALENDAR