BEGIN:VCALENDAR
VERSION:2.0
PRODID:-//Orkney Auction Mart - ECPv6.15.17.1//NONSGML v1.0//EN
CALSCALE:GREGORIAN
METHOD:PUBLISH
X-WR-CALNAME:Orkney Auction Mart
X-ORIGINAL-URL:https://orkneymart.com
X-WR-CALDESC:Events for Orkney Auction Mart
REFRESH-INTERVAL;VALUE=DURATION:PT1H
X-Robots-Tag:noindex
X-PUBLISHED-TTL:PT1H
BEGIN:VTIMEZONE
TZID:Europe/London
BEGIN:DAYLIGHT
TZOFFSETFROM:+0000
TZOFFSETTO:+0100
TZNAME:BST
DTSTART:20190331T010000
END:DAYLIGHT
BEGIN:STANDARD
TZOFFSETFROM:+0100
TZOFFSETTO:+0000
TZNAME:GMT
DTSTART:20191027T010000
END:STANDARD
BEGIN:DAYLIGHT
TZOFFSETFROM:+0000
TZOFFSETTO:+0100
TZNAME:BST
DTSTART:20200329T010000
END:DAYLIGHT
BEGIN:STANDARD
TZOFFSETFROM:+0100
TZOFFSETTO:+0000
TZNAME:GMT
DTSTART:20201025T010000
END:STANDARD
BEGIN:DAYLIGHT
TZOFFSETFROM:+0000
TZOFFSETTO:+0100
TZNAME:BST
DTSTART:20210328T010000
END:DAYLIGHT
BEGIN:STANDARD
TZOFFSETFROM:+0100
TZOFFSETTO:+0000
TZNAME:GMT
DTSTART:20211031T010000
END:STANDARD
END:VTIMEZONE
BEGIN:VEVENT
DTSTART;TZID=Europe/London:20200302T000000
DTEND;TZID=Europe/London:20200302T000000
DTSTAMP:20260421T105413
CREATED:20231020T094848Z
LAST-MODIFIED:20231027T105538Z
UID:10000881-1583107200-1583107200@orkneymart.com
SUMMARY:Cattle Sale
DESCRIPTION:Forward for sale on Monday were 9 Prime Cattle\, 581 Store Cattle & 22 OTM Cattle. Prime Heifers sold to 222 p/kg for a Limousin scaling 565 kilos from R & J Johnston\, Hewan\, Shapinsay realising  £1254.30 purchased by Donaldsons. OTHER PRIME HEIFERS WEST BURNSIDE\,TANKERNESS 635  £1\,365.25 215 LIMCAPSTON\,TOAB 545  £1\,160.85 213 LIM Prime Steers sold to 215 p/kg for a Limousin scaling 665 kilos from J & R Stanger\, South Seatter\, Sandwick realising  £1408.25 purchased by Craigies. OTHER PRIME STEERS WEST BURNSIDE\,TANKERNESS 560  £1\,181.60 211 LIMLAGA\,EVIE 705  £1\,466.40 208 LIM Store Cattle sold to tremendous rates with a large selection of yearling cattle on offer. Demand from local and south buyers were stronger on the week. 371 Store Steers averaged 226 p/kg and sold to 266.7 p/kg for a British Blue scaling 345 kilos from T A D & J D Hourie\, Heathfield\, St Ola realising  £920. Top price per head was  £1310 for a Limousin scaling 665 kilos from S & H Young\, Castle\, Stromness. OTHER PRICES PER KILO NEARHOUSE\,ROUSAY 338  £890.00 263.3 CHARNEARHOUSE\,ROUSAY 385  £955.00 248.1 CHARNEARHOUSE\,ROUSAY 385  £940.00 244.2 CHARKIRKBRAE\,WESTRAY 385  £990.00 257.1 CHARKIRKBRAE\,WESTRAY 387  £970.00 250.6 CHARKIRKBRAE\,WESTRAY 432  £1\,070.00 247.7 CHARLEARY\,BIRSAY 385  £980.00 254.5 LIMCHAPELBRAE\,WESTRAY 347  £900.00 259.4 CHARCHAPELBRAE\,WESTRAY 363  £900.00 247.9 CHARBALFOUR ESTATES\,SHAPINSAY 430  £1\,070.00 248.8 CHARAPPIETOWN\,RENDALL 393  £970.00 246.8 CHARAPPIETOWN\,RENDALL 395  £955.00 241.8 CHARMAESQUOY\,HARRAY 385  £950.00 246.8 BLNDMAESQUOY\,HARRAY 355  £855.00 240.8 BLNDMAESQUOY\,HARRAY 400  £960.00 240 CHARSKAILL\,WESTRAY 409  £1\,010.00 246.9 CHARSKAILL\,WESTRAY 390  £950.00 243.6 CHARHEATHFIELD\,ST OLA 347  £850.00 245 BBHEATHFIELD\,ST OLA 397  £960.00 241.8 BBBRAEFOOT\,SHAPINSAY 472  £1\,140.00 241.5 LIMKNOCKHALL\,SOUTH RONALDSAY 340  £820.00 241.2 SIMKNOCKHALL\,SOUTH RONALDSAY 380  £890.00 234.2 SIMNORTON\,DOUNBY 475  £1\,135.00 238.9 LIMNORTON\,DOUNBY 485  £1\,155.00 238.1 LIMNORTON\,DOUNBY 490  £1\,150.00 235 CHARFLOSS\,WESTRAY 365  £865.00 237 LIMFLOSS\,WESTRAY 381  £885.00 232.3 LIMLENAHOWE\,SANDWICK 442  £1\,045.00 236.4 CHARLENAHOWE\,SANDWICK 430  £1\,000.00 232.6 CHARBRANSTANE\,WESTRAY 455  £1\,075.00 236.3 CHARHALL OF CLESTRAIN\,ORPHIR 466  £1\,095.00 235 CHARHALL OF CLESTRAIN\,ORPHIR 497  £1\,150.00 231.4 CHARHALL OF CLESTRAIN\,ORPHIR 456  £1\,050.00 230.3 CHARMIDLAND\,RENDALL 420  £980.00 233.3 CHARNORTHBIGGING\,DOUNBY 441  £1\,020.00 231.3 CHARGORN\,WESTRAY 495  £1\,135.00 229.3 CHARRENNIBISTER\,KIRKWALL 435  £1\,000.00 229.9 BBRENNIBISTER\,KIRKWALL 470  £1\,045.00 222.3 CHARSEATTER\,STROMNESS 400  £915.00 228.8 SALSANDWICK HOUSE\,SOUTH RONALDSAY 465  £1\,055.00 226.9 AASANDWICK HOUSE\,SOUTH RONALDSAY 467  £1\,040.00 222.7 SIMUPPER BERRYHILL\,ST OLA 342  £770.00 225.1 SIMUPPER BERRYHILL\,ST OLA 390  £870.00 223.1 SIMBRAELAND\,SOUTH RONALDSAY 500  £1\,125.00 225 LIMLOPNESS\,SANDAY 500  £1\,125.00 225 AABIGGINGS\,STENNESS 423  £950.00 224.6 SIMCASTLE\,STROMNESS 527  £1\,180.00 223.9 LIMHINDATOON\,HARRAY 438  £980.00 223.7 SIMHINDATOON\,HARRAY 472  £1\,050.00 222.5 LIMHYVAL\,SANDWICK 450  £1\,000.00 222.2 CHARHUIP\,STRONSAY 438  £960.00 219.2 AABRYAMEADOW\,TWATT 505  £1\,110.00 219.8 SALBRYAMEADOW\,TWATT 516  £1\,115.00 216.1 CHARSOUTH BRECK\,FIRTH 505  £1\,105.00 218.8 CHARSOUTH BRECK\,FIRTH 510  £1\,110.00 217.6 CHAREAST HOWE\,BIRSAY 467  £1\,010.00 216.3 CHAREAST HOWE\,BIRSAY 490  £1\,050.00 214.3 CHARWEST BURNSIDE\,TANKERNESS 527  £1\,140.00 216.3 LIMWEST BURNSIDE\,TANKERNESS 512  £1\,090.00 212.9 LIMSUNNYBANK\,ST OLA 515  £1\,100.00 213.6 CHARCAMPSTON\,TOAB 567  £1\,180.00 208.1 LIMFEAVAL\,BIRSAY 505  £1\,050.00 207.9 LIMBRIARLEA\,STRONSAY 558  £1\,160.00 207.9 AALOWER STANGER\,BIRSAY 420  £870.00 207.1 AATUQUOY\,WESTRAY 510  £1\,040.00 203.9 SIM OTHER PRICES PER HEAD FEAVAL\,BIRSAY 615  £1\,250.00 CHAR SKAILL\,WESTRAY 610  £1\,240.00 SAL HALL OF CLESTRAIN\,ORPHIR 555  £1\,190.00 CHAR BRAELAND\,SOUTH RONALDSAY 570  £1\,190.00 CHAR CASTLE\,STROMNESS 527  £1\,180.00 LIM CAMPSTON\,TOAB 567  £1\,180.00 LIM BRIARLEA\,STRONSAY 558  £1\,160.00 AA NORTON\,DOUNBY 485  £1\,155.00 LIM NORTON\,DOUNBY 490  £1\,150.00 CHAR BRYAMEADOW\,TWATT 555  £1\,150.00 SAL WEST BURNSIDE\,TANKERNESS 527  £1\,140.00 LIM BRAEFOOT\,SHAPINSAY 472  £1\,140.00 LIM GORN\,WESTRAY 495  £1\,135.00 SIM LOPNESS\,SANDAY 500  £1\,125.00 AA APPIETOWN\,RENDALL 468  £1\,115.00 CHAR SOUTH BRECK\,FIRTH 510  £1\,110.00 CHAR SOUTH BRECK\,FIRTH 505  £1\,105.00 CHAR EAST HOWE\,BIRSAY 530  £1\,100.00 CHAR HINDATOON\,HARRAY 505  £1\,100.00 SIM SUNNYBANK\,ST OLA 515  £1\,100.00 CHAR CHAPELBRAE\,WESTRAY 527  £1\,090.00 OTH BRANSTANE\,WESTRAY 455  £1\,075.00 CHAR KIRKBRAE\,WESTRAY 432  £1\,070.00 CHAR BALFOUR ESTATES\,SHAPINSAY 430  £1\,070.00 CHAR NEARHOUSE\,ROUSAY 446  £1\,070.00 CHAR NEARHOUSE\,ROUSAY 475  £1\,070.00 LIM HUIP\,STRONSAY 510  £1\,060.00 AA SANDWICK HOUSE\,SOUTH RONALDSAY 465  £1\,055.00 AA RENNIBISTER\,KIRKWALL 472  £1\,050.00 SIM LENAHOWE\,SANDWICK 442  £1\,045.00 CHAR TUQUOY\,WESTRAY 510  £1\,040.00 SIM NORTHBIGGING\,DOUNBY 441  £1\,020.00 CHAR MIDLAND\,RENDALL 470  £1\,015.00 AA SEATTER\,STROMNESS 465  £1\,010.00 SAL MAESQUOY\,HARRAY 436  £1\,000.00 CHAR HYVAL\,SANDWICK 450  £1\,000.00 CHAR 210 Store Heifers averaged 217 p/kg and sold to 277.1 p/kg for a British Blue scaling 350 kilos from T A D & J D Hourie\, Heathfield\, St Ola realising  £970. Top price per head was  £1300 for a pair of British Blues scaling 645 kilos from S & H Young\, Castle\, Stromness. OTHER PRICES PER KILO MAESQUOY\,HARRAY 370  £910.00 245.9 BLNDBALFOUR ESTATES\,SHAPINSAY 365  £895.00 245.2 CHARBALFOUR ESTATES\,SHAPINSAY 438  £1\,045.00 238.6 CHARAPPIETOWN\,RENDALL 383  £905.00 236.3 CHARAPPIETOWN\,RENDALL 437  £1\,015.00 232.3 CHARAPPIETOWN\,RENDALL 406  £940.00 231.5 CHARKIRKBRAE\,WESTRAY 385  £905.00 235.1 CHARKIRKBRAE\,WESTRAY 460  £1\,080.00 234.8 CHARKIRKBRAE\,WESTRAY 406  £950.00 234 CHARSKAILL\,WESTRAY 389  £915.00 235.2 CHARSKAILL\,WESTRAY 392  £920.00 234.7 CHARBRAEFOOT\,SHAPINSAY 475  £1\,120.00 235.8 LIMBRAEFOOT\,SHAPINSAY 497  £1\,140.00 229.4 CHARLOPNESS\,SANDAY 465  £1\,070.00 230.1 LIMBRANSTANE\,WESTRAY 475  £1\,095.00 230.5 CHARBRANSTANE\,WESTRAY 450  £1\,030.00 228.9 CHARHEATHFIELD\,ST OLA 357  £820.00 229.7 BBHEATHFIELD\,ST OLA 353  £785.00 222.4 BBNORTON\,DOUNBY 470  £1\,080.00 229.8 CHARNORTON\,DOUNBY 460  £1\,050.00 228.3 CHARFLOSS\,WESTRAY 375  £855.00 228 CHARHALL OF CLESTRAIN\,ORPHIR 465  £1\,060.00 228 CHARHALL OF CLESTRAIN\,ORPHIR 470  £1\,065.00 226.6 CHARHUIP\,STRONSAY 458  £1\,040.00 227.1 CHARARWICK\,EVIE 455  £1\,020.00 224.2 LIMBRYAMEADOW\,TWATT 491  £1\,100.00 224 CHARNEARHOUSE\,ROUSAY 405  £900.00 222.2 CHARNORTHBIGGING\,DOUNBY 428  £950.00 222 CHARSEATTER\,STROMNESS 495  £1\,090.00 220.2 CHARHALL OF TANKERNESS\,TANKERNESS 570  £1\,140.00 200 BBWEST BURNSIDE\,TANKERNESS 485  £1\,060.00 218.6 LIMTUQUOY\,WESTRAY 450  £980.00 217.8 SIMSOUTH BRECK\,FIRTH 505  £1\,100.00 217.8 CHARGORN\,WESTRAY 522  £1\,130.00 216.5 CHARLENAHOWE\,SANDWICK 460  £990.00 215.2 CHARHYVAL\,SANDWICK 482  £1\,030.00 213.7 CHARUPPER LINKLATER\,TWATT 507  £1\,080.00 213 CHARNORTON\,DOUNBY 450  £955.00 212.2 LIMLOWER STANGER\,BIRSAY 457  £970.00 212.3 AALOWER STANGER\,BIRSAY 470  £990.00 210.6 CHARSUNNYBANK\,ST OLA 430  £900.00 209.3 CHARSANDWICK HOUSE\,SOUTH RONALDSAY 495  £1\,030.00 208.1 AACHAPELBRAE\,WESTRAY 465  £970.00 208.6 OTHCHAPELBRAE\,WESTRAY 505  £1\,050.00 207.9 AABIGGINGS\,STENNESS 445  £925.00 207.9 LIMCASTLE\,STROMNESS 568  £1\,170.00 206 LIM OTHER PRICES PER HEAD RUSSAMYRE\,ORPHIR 690  £1\,280.00 AA CASTLE\,STROMNESS 622  £1\,245.00 LIM HALL OF TANKERNESS\,TANKERNESS 605  £1\,175.00 AA HALL OF CLESTRAIN\,ORPHIR 525  £1\,150.00 CHAR BRAEFOOT\,SHAPINSAY 497  £1\,140.00 CHAR GORN\,WESTRAY 522  £1\,130.00 CHAR WEST BURNSIDE\,TANKERNESS 530  £1\,125.00 LIM UPPER LINKLATER\,TWATT 530  £1\,100.00 CHAR BRYAMEADOW\,TWATT 491  £1\,100.00 CHAR SOUTH BRECK\,FIRTH 505  £1\,100.00 CHAR BRANSTANE\,WESTRAY 475  £1\,095.00 CHAR APPIETOWN\,RENDALL 480  £1\,090.00 CHAR SANDWICK HOUSE\,SOUTH RONALDSAY 545  £1\,090.00 SIM SEATTER\,STROMNESS 495  £1\,090.00 CHAR NORTON\,DOUNBY 470  £1\,080.00 CHAR KIRKBRAE\,WESTRAY 460  £1\,080.00 CHAR TUQUOY\,WESTRAY 520  £1\,080.00 CHAR LOPNESS\,SANDAY 465  £1\,070.00 LIM LOWER STANGER\,BIRSAY 527  £1\,065.00 AA CHAPELBRAE\,WESTRAY 505  £1\,050.00 AA BALFOUR ESTATES\,SHAPINSAY 438  £1\,045.00 CHAR NORTHBIGGING\,DOUNBY 482  £1\,040.00 CHAR HUIP\,STRONSAY 458  £1\,040.00 CHAR HYVAL\,SANDWICK 482  £1\,030.00 CHAR ARWICK\,EVIE 455  £1\,020.00 LIM BRAELAND\,SOUTH RONALDSAY 515  £1\,020.00 CHAR LITTLE WARDS\,LONGHOPE 525  £1\,015.00 AA OTM Cows sold to 158.2 p/kg for a Charolais Cow scaling 550 kilos from Stephen & Co\, Sandwick House\, South Ronaldsay realsing  £870. Top price per head was  £1155 for a Shorthorn Cow scaling 945 kilos from J M Lennie\, Nearhouse\, Tankerness. OTHER OTM PRICES SANDWICK HOUSE\,SOUTH RONALDSAY 650  £910.00 140 CHARHALL OF GORN\,HOLM 685  £935.00 136.5 CHARNEARHOUSE\,TANKERNESS 695  £900.00 129.5 OTHGARSON\,SANDWICK 700  £870.00 124.3 CHARSTEMBISTER\,TOAB 860  £1\,060.00 123.3 BBTHE KNOWE\,SANDAY 520  £630.00 121.2 AAHARRABROUGH\,SOUTH RONALDSAY 860  £1\,030.00 119.8 SHLITTLE WARDS\,LONGHOPE 645  £685.00 106.2 AA
URL:https://orkneymart.com/event/cattle-sale-114/
CATEGORIES:Sales Report
END:VEVENT
BEGIN:VEVENT
DTSTART;TZID=Europe/London:20200309T000000
DTEND;TZID=Europe/London:20200309T000000
DTSTAMP:20260421T105413
CREATED:20231020T094847Z
LAST-MODIFIED:20231027T105538Z
UID:10000880-1583712000-1583712000@orkneymart.com
SUMMARY:Cattle & Sheep Sales
DESCRIPTION:Forward for sale on Monday were 9 Prime Cattle\, 1 Store Steer & 7 OTM Cattle. Prime Cattle sold to 222 p/kg for an Aberdeen Angus Heifer scaling 660 kilos from J & R Stanger\, South Seatter\, Sandwick realsing  £1465.20 purchased by Craigies. OTHER PRIME HEIFERS CAMPSTON\,TOAB 520  £1\,112.80 214 LIMHALL OF HERSTON\,SOUTH RONALDSAY 600  £1\,200.00 200 SIMCAULDHAME\,STROMNESS 710  £1\,420.00 200 AA Prime Steers sold to 219 p/kg for a Limousin scaling 640 kilos from J & R Stanger\, South Seatter\, Sandwick realising  £1401.60 purchased by Craigies. 1 Non-Assured Store Steers sold to 194.9 p/kg for a Charolais scaling 495 kilos from L & D Dearness\, Heatherlea\, Toab realising  £965. OTM Cattle sold to 159 p/kg for a Saler Cow scaling 610 kilos from G Fergus\, Clifton\, Westray realising  £970. Following the Cattle were 105 Breeding Sheep\, 293 Prime Hoggs\, 218 Store Hoggs & 183 Cast Sheep. In-Lamb Breeding Ewes sold to  £200 for a pen of 5 Texels from P & M Miller\, Haquoy\, Shapinsay. OTHER IN-LAMB EWES HAQUOY\,SHAPINSAY  £185.00 TEX GERBO\, NORTH RONALDSAY  £185.00 TEX SANDYBANK\,STRONSAY  £120.00 TEX COGAR\,ROUSAY  £75.00 SHET GORN\,WESTRAY  £65.00 TEX In-Lamb Breeding Gimmers sold to  £185 for a pen of 14 Texels from P & M Miller\, Haquoy\, Shapinsay. Prime Hoggs averaged 230 p/kg with Export Hoggs averaging 233.8 p/kg. Prime Hoggs sold to 274.5 p/kg for 3 Texels scaling 47 kilos from J Leslie\, Odinstone\, Shapinsay realising  £129. This was also top price per head. OTHER PRIME HOGGS PER KILO ODINSTONE\,SHAPINSAY 36  £93.00 258.3 TEXBURNSIDE\,ORPHIR 35  £89.50 255.7 TEXGRIND\,STRONSAY 38.5  £98.00 254.5 TEXNEARHOUSE\,TANKERNESS 39.5  £100.50 254.4 TEXHAQUOY\,SHAPINSAY 51  £128.00 251 TEXWARTHILL\,HOLM 40  £98.00 245 TEXWHITEHALL\,STRONSAY 42  £102.00 242.9 TEXDIAMONDS\,DEERNESS 40  £96.50 241.3 TEXCAULDHAME\,STROMNESS 41  £98.50 240.2 SUFHOUSEGARTH\,QUOYLOO 44  £105.50 239.8 SUFTUQUOY\,WESTRAY 43  £103.00 239.5 TEXBENLAW\,EVIE 42  £100.50 239.3 CHEVHOLLAND\,FIRTH 40  £95.50 238.8 TEXSALWICK\,LONGHOPE 37  £88.00 237.8 TEXVESTRAFIOLD\,SANDWICK 44  £104.50 237.5 SUFHEATHERCOW\,EDAY 44  £103.00 234.1 ZWARMIDLAND\,RENDALL 35.5  £83.00 233.8 TEXCLOKE\,DOUNBY 36  £84.00 233.3 SUFHOUSEBAY\,STRONSAY 46  £107.00 232.6 TEXHOUSEBAY\,STRONSAY 45  £104.00 231.1 TEXGRIND\,STRONSAY 47  £109.00 231.9 SUFGRETNA GREEN\,WESTRAY 40  £92.50 231.3 TEXHEWING\,FIRTH 45  £104.00 231.1 TEXCLIFTON\,WESTRAY 40  £92.00 230 SUFCASTLE\,STROMNESS 41  £94.00 229.3 TEXNORTHBANK\,ST OLA 50  £114.00 228 ZWARQUOYS\,DEERNESS 38  £86.50 227.6 TEXDRYDALE\,STROMNESS 45  £100.00 222.2 TEXONZIEBUST\,EGILSAY 38.5  £85.00 220.8 SUF OTHER PRIME HOGGS PER HEAD HAQUOY\,SHAPINSAY 51  £128.00 TEX NISTIGAR\,WESTRAY 67  £128.00 SUF ODINSTONE\,SHAPINSAY 48  £120.00 TEX BENLAW\,EVIE 49  £117.00 CHEV GRETNA GREEN\,WESTRAY 58  £116.00 SUF NORTHBANK\,ST OLA 50  £114.00 ZWAR DIAMONDS\,DEERNESS 56  £113.50 SUF DIAMONDS\,DEERNESS 48.5  £112.00 TEX MOAN\,HARRAY 50  £109.00 TEX GRIND\,STRONSAY 47  £109.00 SUF BURNSIDE\,ORPHIR 44.5  £108.00 TEX HOUSEBAY\,STRONSAY 46  £107.00 TEX HOUSEGARTH\,QUOYLOO 44  £105.50 SUF VESTRAFIOLD\,SANDWICK 44  £104.50 SUF HEWING\,FIRTH 45  £104.00 TEX TUQUOY\,WESTRAY 43  £103.00 TEX HEATHERCOW\,EDAY 44  £103.00 ZWAR WHITEHALL\,STRONSAY 42  £102.00 TEX NEARHOUSE\,TANKERNESS 39.5  £100.50 TEX DRYDALE\,STROMNESS 45  £100.00 TEX Store Hoggs sold to  £98.50 for a pen of 8 Suffolks from R Shearer\, Housegarth\, Quoyloo. OTHER STORE HOGGS KNOWE\,SANDAY 95 SUF KNOWE\,SANDAY 92 SUF NORTHBANK\,ST OLA 94.5 ZWAR HOUSEBAY\,STRONSAY 90.5 TEX HOUSEBAY\,STRONSAY 90 TEX MOAN\,HARRAY 90 TEX GORN\,WESTRAY 87 TEX HOUSEGARTH\,QUOYLOO 84.5 SUF TUQUOY\,WESTRAY 84 SUF HEATHERCOW\,EDAY 83.5 ZWAR ONZIEBUST\,EGILSAY 80 WHITE WHITEHALL\,STRONSAY 80 ZWAR VINKWIN\,EVIE 77 TEX SALWICK\,LONGHOPE 77 TEX CLIFTON\,WESTRAY 76 SUF LITTLE WARDS\,LONGHOPE 70.5 SUF BRECK COTTAGE\,BIRSAY 68 TEX CLAYPITS\,ORPHIR 58 CHEV GERBO\,NORTH RONALDSAY 58 BELTEX Cast Sheep sold to  £176 for a pen of 4 Texels from P & M Miller\, Haquoy\, Shapinsay. OTHER CAST EWES TUQUOY\,WESTRAY  £156.00 TEX QUEENAMUCKLE\,RENDALL  £150.00 TEX SOUTH BRECK\,FIRTH  £146.00 TEX ODINSTONE\,SHAPINSAY  £140.00 TEX HAQUOY\,SHAPINSAY  £140.00 TEX WARTHILL\,HOLM  £136.00 TEX SUNNYBANK\,WESTRAY  £136.00 TEX HEATHERCOW\,EDAY  £130.00 SUF BRECK COTTAGE\,BIRSAY  £130.00 TEX SOUTH SEATTER\,SANDWICK  £130.00 TEX VINKWIN\,EVIE  £130.00 TEX GLEBE\,FIRTH  £130.00 CHEV GLEBE\,FIRTH  £128.00 CHEV QUANTERNESS\,ST OLA  £120.00 TEX HEWING\,FIRTH  £120.00 TEX HOLLAND\,FIRTH  £119.00 TEX SALWICK\,LONGHOPE  £116.00 TEX STONELEA\,STENNESS  £114.00 BELTEX CRUMBRECKS\,ORPHIR  £112.00 LLEYN APPIETOWN\,RENDALL  £111.00 WHITE CLOKE\,DOUNBY  £111.00 WHITE HOWE\,HARRAY  £105.00 TEX GORN\,WESTRAY  £104.00 CHAR ONZIEBUST\,EGILSAY  £98.00 WHITE MOAN\,HARRAY  £98.00 TEX LITTLE WARDS\,LONGHOPE  £95.00 SUF POLE\,BURRAY  £94.00 MULE NEW HOLLAND\,HOLM  £92.00 LLEYN BINSCARTH\,FINSTOWN  £90.00 SUF MIDLAND\,RENDALL  £90.00 WHITE HONEYSGOE\,SOUTH RONALDSAY  £86.00 TEX WHITEHALL\,STRONSAY  £83.00 TEX DIAMONDS\,DEERNESS  £82.00 CHAR Cast Rams sold to  £120 for a Texel from P & M Miller\, Haquoy\, Shapinsay.
URL:https://orkneymart.com/event/cattle-sheep-sales-75/
CATEGORIES:Sales Report
END:VEVENT
BEGIN:VEVENT
DTSTART;TZID=Europe/London:20200316T000000
DTEND;TZID=Europe/London:20200316T000000
DTSTAMP:20260421T105413
CREATED:20231020T094847Z
LAST-MODIFIED:20231027T105538Z
UID:10000879-1584316800-1584316800@orkneymart.com
SUMMARY:Cattle Sale
DESCRIPTION:Forward for sale on Monday were 10 Prime Cattle\, 562 Store Cattle & 23 OTM’s. Prime Cattle sold to 212 p/kg for a Limousin scaling 605 kilos from F & T Moar\, Withaquoy\, Holm realising  £1282.60 purchased by Williamsons. OTHER PRIME HEIFERS HEWAN\,SHAPINSAY 575  £1\,213.25 211 LIMLYKING\,SANDWICK 585  £1\,222.65 209 LIM Prime Steers sold to 204 p/kg for a Limousin scaling 715 kilos from J & R Stanger\, South Seatter\, Sandwick realising  £1458.60 purchased by Williamsons. 252 Conventional Steers averaged 219.6 p/kg and sold to 268 p/kg for a Charolais scaling 380 kilos from Balfour Estates\, Shapinsay realising  £1020. Top price per head was  £ 1295 for a Charolais scaling 635 kilos from J & G Smith\, Cauldhame\, Stromness. OTHER STORE STEERS PER KILO BALFOUR ESTATES\,SHAPINSAY 360  £925.00 256.9 CHARQUOYBOND\,SOUTH RONALDSAY 370  £950.00 256.8 SIMMEADOWBANK\,WESTRAY 387  £990.00 255.8 CHARMEADOWBANK\,WESTRAY 400  £1\,020.00 255 CHARDALE\,STROMNESS 375  £940.00 250.7 CHARNEWHALL\,STROMNESS 405  £1\,005.00 248.1 CHARHOWAN\,DOUNBY 386  £950.00 246.1 CHARYARPHA\,ORPHIR 353  £865.00 245 CHARBU\,ORPHIR 395  £960.00 243 CHARHAQUOY\,SHAPINSAY 440  £1\,060.00 240.9 LIMHYVAL\,SANDWICK 455  £1\,095.00 240.7 CHARHOWE FARM\,HARRAY 450  £1\,080.00 240 CHARMESSIGATE\,TANKERNESS 420  £1\,005.00 239.3 CHARHEWAN\,SHAPINSAY 417  £990.00 237.4 SALQUOY-I-DALE\,HOY 405  £960.00 237 SIMBIGGINGS\,STENNESS 380  £900.00 236.8 CHARKARINYA\,DOUNBY 453  £1\,070.00 236.2 CHARMIDBIGGING\,TOAB 442  £1\,030.00 233 CHARMIDBIGGING\,TOAB 451  £1\,040.00 230.6 SALROSEBANK\,TWATT 425  £990.00 232.9 CHARHUIP\,STRONSAY 415  £965.00 232.5 SIMHUIP\,STRONSAY 405  £940.00 232.1 SIMBIGGINGS\,TOAB 456  £1\,040.00 228.1 CHARMIDHOUSE\,HARRAY 411  £930.00 226.3 SIMNETHERTON\,HOLM 550  £1\,235.00 224.5 BBAIKERNESS\,EVIE 480  £1\,075.00 224 CHARHINDATOON\,HARRAY 448  £995.00 222.1 SIMGRIMBISTER\,KIRKWALL 532  £1\,185.00 222.7 CHARFEOLQUOY\,STROMNESS 510  £1\,130.00 221.6 SIMCOCKMURRA\,HOLM 515  £1\,130.00 219.4 LIMCAULDHAME\,STROMNESS 547  £1\,185.00 216.6 CHAROLD HALL\,STROMNESS 565  £1\,195.00 211.5 CHARMUCKLE POW\,EVIE 490  £1\,030.00 210.2 SIMMUCKLE POW\,EVIE 555  £1\,160.00 209 SIMUPPERFIELD\,ST OLA 410  £860.00 209.8 LIMFEAVAL\,BIRSAY 555  £1\,165.00 209.9 LIMNEW MOAN\,DOUNBY 590  £1\,230.00 208.5 LIMSEATTERSQUOY\,STENNESS 542  £1\,125.00 207.6 CHARPERTH\,WESTRAY 590  £1\,180.00 200 SALNOUP\,WESTRAY 445  £890.00 200 CHARBARNS OF AYRE\,DEERNESS 412  £865.00 210 CHAR OTHER STORE STEERS PER HEAD GRIMBISTER\,KIRKWALL 665  £1\,285.00 CHAR GLEBE\,FIRTH 710  £1\,260.00 SIM NETHERTON\,HOLM 550  £1\,235.00 BB NEW MOAN\,DOUNBY 590  £1\,230.00 LIM FEOLQUOY\,STROMNESS 590  £1\,225.00 CHAR COCKMURRA\,HOLM 590  £1\,225.00 LIM MUCKLE POW\,EVIE 595  £1\,210.00 SIM CAULDHAME\,STROMNESS 572  £1\,205.00 CHAR SEATTERSQUOY\,STENNESS 600  £1\,200.00 CHAR OLD HALL\,STROMNESS 565  £1\,195.00 CHAR WITHAQUOY\,HOLM 595  £1\,180.00 BB PERTH\,WESTRAY 590  £1\,180.00 SAL FEAVAL\,BIRSAY 585  £1\,180.00 CHAR GREENHALL\,DEERNESS 580  £1\,145.00 LIM AIKERNESS\,EVIE 515  £1\,135.00 CHAR ROSEBANK\,TWATT 501  £1\,135.00 CHAR QUOYBOND\,SOUTH RONALDSAY 495  £1\,125.00 LIM HEWAN\,SHAPINSAY 475  £1\,105.00 LIM BIGGINGS\,TOAB 505  £1\,100.00 CHAR BU\,ORPHIR 497  £1\,100.00 CHAR MIDBIGGING\,TOAB 520  £1\,100.00 SAL KARINYA\,DOUNBY 505  £1\,095.00 CHAR HYVAL\,SANDWICK 455  £1\,095.00 CHAR HUIP\,STRONSAY 516  £1\,090.00 SIM HOWE\,HARRAY 450  £1\,080.00 CHAR HAQUOY\,SHAPINSAY 440  £1\,060.00 LIM CHALMERSQUOY\,WESTRAY 438  £1\,050.00 CHAR MESSIGATE\,TANKERNESS 420  £1\,005.00 CHAR NEWHALL\,STROMNESS 405  £1\,005.00 CHAR 75 Aberdeen Angus Steers averaged 210.6 p/kg and sold to 252.1 p/kg for a 365 kilo steer scaling 365 kilos from A Harcus\, Messigate\, Tankerness realising  £920. Top price per head was  £1300 for a pair scaling 640 kilos from J L Brown\, Glebe\, Firth and also for a pen of 3 scaling 661 kilos from J & G Smith\,Cauldhame\, Stromness. OTHER AA STEERS PER KILO WARTHILL\,HOLM 390  £935.00 239.7 AAHYVAL\,SANDWICK 453  £1\,070.00 236.2 AANETHERTON\,HOLM 465  £1\,065.00 229 AATORMISTON\,STENNESS 413  £945.00 228.8 AABIGGINGS\,STENNESS 400  £880.00 220 AAFRUSTIGARTH\,SHAPINSAY 478  £1\,055.00 220.7 AAFRUSTIGARTH\,SHAPINSAY 430  £945.00 219.8 AABARNS OF AYRE\,DEERNESS 455  £990.00 217.6 AAFEOLQUOY\,STROMNESS 531  £1\,130.00 212.8 AASEATTERSQUOY\,STENNESS 585  £1\,235.00 211.1 AACAULDHAME\,STROMNESS 543  £1\,145.00 211 AAGLEBE\,FIRTH 535  £1\,120.00 209.3 AAWITHAQUOY\,HOLM 600  £1\,250.00 208.3 AASKAILL\,ORPHIR 492  £1\,020.00 207.3 AA OTHER AA STEERS PER HEAD CAULDHAME\,STROMNESS 665  £1\,275.00 AA WITHAQUOY\,HOLM 600  £1\,250.00 AA SKAILL\,ORPHIR 620  £1\,250.00 AA GLEBE\,FIRTH 600  £1\,245.00 AA SEATTERSQUOY\,STENNESS 585  £1\,235.00 AA OLD HALL\,STROMNESS 570  £1\,180.00 AA NETHERTON\,HOLM 540  £1\,140.00 AA FRUSTIGARTH\,SHAPINSAY 535  £1\,140.00 AA FEOLQUOY\,STROMNESS 531  £1\,130.00 AA HYVAL\,SANDWICK 453  £1\,070.00 AA TORMISTON\,STENNESS 510  £1\,050.00 AA BARNS OF AYRE\,DEERNESS 455  £990.00 AA 47 Shorthorn Steers averaged 212.3 p/kg and 15 Hereford Steers averaged 201 p/kg. Native Steers sold to 267.7 p/kg for a Shorthorn scaling 325 kilos from C S Craigie\, Dale\, Stromness realising  £870. Top price per head for Natives was  £1200 for a pair of Shorthorns scaling 640 kilos from J & G Smith\, Cauldhame\, Stromness. OTHER NATIVE STEERS PER KILO NETHERTON\,HOLM 465  £1\,065.00 229 SHBALLARAT\,HARRAY 255  £575.00 225.5 SHQUANTERNESS\,ST OLA 495  £1\,090.00 220 SHWARTHILL\,HOLM 495  £1\,070.00 216.2 SHTHE STEADING\,WESTRAY 211  £455.00 215.6 HEREHEATHFIELD\,ST OLA 400  £855.00 213.8 SHCAULDHAME\,STROMNESS 555  £1\,115.00 200.9 SH OTHER NATIVE STEERS PER HEAD CAULDHAME\,STROMNESS 602  £1\,190.00 SH GREENHALL\,DEERNESS 635  £1\,190.00 SH WARTHILL\,HOLM 540  £1\,110.00 SH QUANTERNESS\,ST OLA 495  £1\,090.00 SH NETHERTON\,HOLM 465  £1\,065.00 SH DALE\,STROMNESS 450  £1\,000.00 SH 124 Conventional Store Heifers averaged 219.4 p/kg and sold to 257.7 p/kg for 3 British Blues scaling 551 kilos from S & H Young\, Castle\, Stromness realising  £1420. Top price per head was  £1440 for a British Blue scaling 590 kilos from S & H Young\, Castle\, Stromness OTHER STORE HEIFERS PER KILO DALE\,STROMNESS 330  £820.00 248.5 CHARHOWE\,HARRAY 441  £1\,065.00 241.5 CHARCASTLE\,STROMNESS 540  £1\,300.00 240.7 LIMBIGGINGS\,STENNESS 388  £920.00 237.1 CHARBIGGINGS\,TOAB 460  £1\,080.00 234.8 CHARHUIP\,STRONSAY 398  £930.00 233.7 SIMKARINYA\,DOUNBY 425  £990.00 232.9 CHARNEWHALL\,STROMNESS 385  £895.00 232.5 CHARMEADOWBANK\,WESTRAY 390  £905.00 232.1 CHARLITTLE WARDS\,LONGHOPE 372  £860.00 231.2 CHARCHARLESTON\,PAPA WESTRAY 450  £1\,040.00 231.1 CHARFRUSTIGARTH\,SHAPINSAY 447  £1\,025.00 229.3 CHARROSEBANK\,TWATT 395  £905.00 229.1 CHARHINDATOON\,HARRAY 423  £955.00 225.8 LIMHAQUOY\,SHAPINSAY 430  £970.00 225.6 LIMSEATTERSQUOY\,STENNESS 482  £1\,080.00 224.1 CHARHEWAN\,SHAPINSAY 412  £900.00 218.4 SALLITTLE HACKLAND\,RENDALL 495  £1\,080.00 218.2 BBHYVAL\,SANDWICK 435  £930.00 213.8 CHARUPPERFIELD\,ST OLA 440  £940.00 213.6 LIMSUNNYBANK\,ST OLA 457  £970.00 212.3 CHARAIKERNESS\,EVIE 477  £1\,010.00 211.7 CHAROLD HALL\,STROMNESS 505  £1\,055.00 208.9 CHARPICKLETILLUM\,DEERNESS 500  £1\,040.00 208 SIMRAMSQUOY\,STENNESS 471  £975.00 207 LIMNOUP\,WESTRAY 445  £915.00 205.6 CHARPERTH\,WESTRAY 485  £990.00 204.1 SALCLOKE\,DOUNBY 640  £1\,240.00 193.8 LIMBARNS OF AYRE\,DEERNESS 441  £850.00 192.7 CHAR OTHER STORE HEIFERS PER HEAD CASTLE\,STROMNESS 560  £1\,315.00 BB CASTLE\,STROMNESS 665  £1\,310.00 BB CASTLE\,STROMNESS 577  £1\,300.00 BB CLOKE\,DOUNBY 640  £1\,240.00 LIM OLD HALL\,STROMNESS 552  £1\,120.00 CHAR BIGGINGS\,TOAB 505  £1\,090.00 CHAR HOWE\,HARRAY 453  £1\,085.00 CHAR PERTH\,WESTRAY 540  £1\,085.00 SIM SEATTERSQUOY\,STENNESS 482  £1\,080.00 CHAR LITTLE HACKLAND\,RENDALL 495  £1\,080.00 BB PICKLETILLUM\,DEERNESS 550  £1\,080.00 SIM HUIP\,STRONSAY 482  £1\,065.00 CHAR KARINYA\,DOUNBY 490  £1\,050.00 CHAR CHARLESTON\,PAPA WESTRAY 450  £1\,040.00 CHAR FRUSTIGARTH\,SHAPINSAY 447  £1\,025.00 CHAR AIKERNESS\,EVIE 477  £1\,010.00 CHAR 20 Aberdeen Angus Heifers averaged 196.5 p/kg and sold to 208.3 p/kg for a Heifer scaling 540 kilos from Vetquoy Farms\, Dounby realising  £1125. Top price per head was  £1215 for a Heifer scaling 615 kilos from A & A Foubister\, Netherton\, Holm. OTHER AA HEIFERS LITTLE HACKLAND\,RENDALL 438  £910.00 207.8 AAHUIP\,STRONSAY 445  £900.00 202.2 AAVETQUOY\,TWATT 516  £1\,040.00 201.6 AANETHERTON\,HOLM 540  £1\,085.00 200.9 AASEATTERSQUOY\,STENNESS 487  £950.00 195.1 AA 8 Shorthorn Heifers averaged 205.1 p/kg and 13 Hereford Heifers averaged 142.2 p/kg. Native Heifers sold to 214.9 p/kg for a pair of Shorthorns scaling 477 kilos from J & M Cursiter\, Charleston\, Papay realising  £1025. This was also top gross price. OTHER NATIVE HEIFERS CHARLESTON\,PAPA WESTRAY 455  £965.00 212.1 OTHBALLARAT\,HARRAY 275  £580.00 210.9 OTHWARTHILL\,HOLM 455  £890.00 195.6 OTHTHE STEADING\,WESTRAY 206  £390.00 189.3 HERE OTM Cattle sold to 169.2 p/kg for a Charolais scaling 535 kilos from J L Brodie Sunnybank\, St Ola realising  £905. Top price per head was  £1000 for a British Blue cow scaling 715 kilos from Nicolson\, Gitterpitten\, Rendall. OTHER OTM COWS WEST NISTABEN\,STENNESS 780  £990.00 126.9 SIMVELTIGAR\,TANKERNESS 765  £900.00 117.6 SIMLINGRO\,ST OLA 620  £800.00 129 SIMRAMSQUOY\,STENNESS 590  £710.00 120.3 LIMRAMSQUOY\,STENNESS 665  £790.00 118.8 SIMFRUSTIGARTH\,SHAPINSAY 710  £760.00 107 AABALLARAT\,HARRAY 495  £720.00 145.5 SHFLOSS\,WESTRAY 615  £670.00 108.9 SIMPERTH\,WESTRAY 565  £650.00 115 SIMHUIP\,STRONSAY 555  £600.00 108.1 CHAR OTM BULLS HAQUOY\,SHAPINSAY 1075  £1\,150.00 107 LIM
URL:https://orkneymart.com/event/cattle-sale-113/
CATEGORIES:Sales Report
END:VEVENT
BEGIN:VEVENT
DTSTART;TZID=Europe/London:20200323T000000
DTEND;TZID=Europe/London:20200323T000000
DTSTAMP:20260421T105413
CREATED:20231020T094847Z
LAST-MODIFIED:20231027T105538Z
UID:10000878-1584921600-1584921600@orkneymart.com
SUMMARY:Cattle Sale
DESCRIPTION:Forward for sale on Monday were 13 Prime Cattle & 4 OTM Cattle. Prime Cattle sold to 214p/kg for a Limousin Heifer scaling 525 kilos from J & R Stanger\, South Seatter\, Sandwick realising  £1123.50 and also for a Limousin Heifer scaling 630 kilos from R C McGuckan\, Lyking\, Sandwick realising  £1348.20. OTHER PRIME HEIFERS CLOKE\,DOUNBY 605  £1\,282.60 212 LIMCAULDHAME\,STROMNESS 575  £1\,219.00 212 CH Prime Steers sold to 209 p/kg for a Limosin scaling 580 kilos from R & J Johnston\, Hewan\, Shapinsay realisng  £1212.20. OTM Cows sold to 135.6 p/kg for a Limousin cow scaling 745 kilos from Moar\, Crook\, Rendall realising  £1010. OTHER OTM COWS CROOK\,RENDALL 665  £850.00 127.8 LIMTWATT\,BIRSAY 770  £820.00 106.5 SH We would like to apologies to our customers for cancelling yesterdays sheep sale due to unforeseen circumstances out with our control. Your patience and loyalty is very much appreciated and we will keep you updated with upcoming sheep sales. As it stands\, our Special Sale of Store Cattle is going ahead on Monday. Any queries please contact Graham or the office. Thank You.
URL:https://orkneymart.com/event/cattle-sale-112/
CATEGORIES:Sales Report
END:VEVENT
END:VCALENDAR