BEGIN:VCALENDAR
VERSION:2.0
PRODID:-//Orkney Auction Mart - ECPv6.15.17.1//NONSGML v1.0//EN
CALSCALE:GREGORIAN
METHOD:PUBLISH
X-ORIGINAL-URL:https://orkneymart.com
X-WR-CALDESC:Events for Orkney Auction Mart
REFRESH-INTERVAL;VALUE=DURATION:PT1H
X-Robots-Tag:noindex
X-PUBLISHED-TTL:PT1H
BEGIN:VTIMEZONE
TZID:Europe/London
BEGIN:DAYLIGHT
TZOFFSETFROM:+0000
TZOFFSETTO:+0100
TZNAME:BST
DTSTART:20190331T010000
END:DAYLIGHT
BEGIN:STANDARD
TZOFFSETFROM:+0100
TZOFFSETTO:+0000
TZNAME:GMT
DTSTART:20191027T010000
END:STANDARD
BEGIN:DAYLIGHT
TZOFFSETFROM:+0000
TZOFFSETTO:+0100
TZNAME:BST
DTSTART:20200329T010000
END:DAYLIGHT
BEGIN:STANDARD
TZOFFSETFROM:+0100
TZOFFSETTO:+0000
TZNAME:GMT
DTSTART:20201025T010000
END:STANDARD
BEGIN:DAYLIGHT
TZOFFSETFROM:+0000
TZOFFSETTO:+0100
TZNAME:BST
DTSTART:20210328T010000
END:DAYLIGHT
BEGIN:STANDARD
TZOFFSETFROM:+0100
TZOFFSETTO:+0000
TZNAME:GMT
DTSTART:20211031T010000
END:STANDARD
END:VTIMEZONE
BEGIN:VEVENT
DTSTART;TZID=Europe/London:20200203T000000
DTEND;TZID=Europe/London:20200203T000000
DTSTAMP:20260421T121816
CREATED:20231020T095048Z
LAST-MODIFIED:20231027T105538Z
UID:10000886-1580688000-1580688000@orkneymart.com
SUMMARY:Cattle Sale
DESCRIPTION:Forward for sale on Monday were 10 Prime Cattle & 2 OTM Cows. Prime Cattle sold to 224p/kg for a Limousin Heifer scaling 605 kilos from R & J Johnston\, Hewan\, Shapinsay realising  £1355 purchased by Donaldsons. OTHER PRIME HEIFERS CLOKE\,DOUNBY 595  £1\,326.00 223 LIMCLOKE\,DOUNBY 620  £1\,264.00 204 SALHUAN\,SANDWICK 520  £1\,050.00 202 SAL Prime Steers sold to 204 p/kg for a Saler scaling 650 kilos from Groat\, Cloke\, Dounby realising  £1326 purchased by Craigies. OTHER PRIME STEERS SOUTH SEATTER\,SANDWICK 705  £1\,424.00 202 LIM OTM Cattle sold to 117.5 p/kg for a Charolais Cow scaling 485 kilos from Johnston & Co\, Scuan\, Stenness realising  £570.
URL:https://orkneymart.com/event/cattle-sale-116/
CATEGORIES:Sales Report
END:VEVENT
BEGIN:VEVENT
DTSTART;TZID=Europe/London:20200210T000000
DTEND;TZID=Europe/London:20200210T000000
DTSTAMP:20260421T121816
CREATED:20231020T095047Z
LAST-MODIFIED:20231027T105538Z
UID:10000885-1581292800-1581292800@orkneymart.com
SUMMARY:Cattle Sale
DESCRIPTION:Forward for sale on Monday were 8 Prime Cattle\, 648 Store Cattle & 10 OTM Cattle. Prime Cattle sold to 220 P/kg for a Limousin Heifer scaling 580 kilos from J & R Stanger\, South Seatter\, Sandwick realising  £1276 purchased by Donaldsons. OTHER PRIME HEIFERS HEWAN\,SHAPINSAY 575 219  £1\,259.25 LIMSOUTH SEATTER\,SANDWICK 550 218  £1\,199.00 LIMSEBAYVIEW\,TANKERNESS 595 218  £1\,297.00 CHSTEAQUOY\,SHAPINSAY 625 200  £1\,250.00 LIMHOWE\,HARRAY 515 200  £1\,030.00 STAB A strong show of mostly heavy store cattle sold to increased rates with averages up for all weights. Yearling cattle were highly sought after and were averaging over 235p/kg. 416 Store Steers averaged 215 p/kg (+4p) and sold to 293.1 p/kg for a pair of Charolais scaling 290 kilos from Faraclett Farms\, Rousay realising  £850. Top price per head was  £1355 for a Charolais scaling 705 kilos from S M Twatt\, Lingro\, St Ola. OTHER STORE STEERS PER KILO FARACLETT\,ROUSAY 277 285.2  £790.00 CHARKNOCKHALL\,SOUTH RONALDSAY 275 269.1  £740.00 SIMKNOCKHALL\,SOUTH RONALDSAY 265 267.9  £710.00 SIMBIGGINGS\,STENNESS 398 248.7  £990.00 CHARBIGGINGS\,STENNESS 400 247.5  £990.00 CHARNEWHALL\,STROMNESS 378 243.4  £920.00 CHARSEBAY\,TANKERNESS 455 242.9  £1\,105.00 LIMBRAEBUSTER \,DEERNESS 490 242.9  £1\,190.00 BBBRAEBUSTER \,DEERNESS 495 241.4  £1\,195.00 BBHOWE\,HARRAY 445 241.6  £1\,075.00 CHARSWANNAY FARM\,BY EVIE 460 241.3  £1\,110.00 BBSEBAY VIEW\,TANKERNESS 445 240.4  £1\,070.00 LIMHEATHFIELD\,ST OLA 405 239.5  £970.00 BBHEATHFIELD\,ST OLA 377 238.7  £900.00 BBMAESQUOY\,HARRAY 415 238.6  £990.00 SIMMAESQUOY\,HARRAY 425 235.3  £1\,000.00 BLNDVEDDERTOWNMAIL\,TANKERNESS 480 233.3  £1\,120.00 LIMNESSBRECK\,HARRAY 433 233.3  £1\,010.00 CHARNESSBRECK\,HARRAY 465 231.2  £1\,075.00 CHARODINSTONE\,SHAPINSAY 495 231.3  £1\,145.00 LIMVELTIGAR\,TANKERNESS 490 230.6  £1\,130.00 LIMVELTIGAR\,TANKERNESS 520 226.9  £1\,180.00 CHARHOUSEBAY\,STRONSAY 405 230.9  £935.00 CHARHOUSEBAY\,STRONSAY 461 229.9  £1\,060.00 AAUPPERFIELD\,ST OLA 450 228.9  £1\,030.00 LIMUPPERFIELD\,ST OLA 455 228.6  £1\,040.00 LIMSKELDAY\,DOUNBY 386 228  £880.00 SALSKELDAY\,DOUNBY 416 227.2  £945.00 SALAPPIETOWN\,RENDALL 440 227.3  £1\,000.00 AABRECKOWALL\,WESTRAY 470 227.7  £1\,070.00 CHARBRECKOWALL\,WESTRAY 505 222.8  £1\,125.00 LIMCOLLIGARTH\,SANDAY 495 223.2  £1\,105.00 LIMWESTSHORE\,RENDALL 445 223.6  £995.00 AAWESTSHORE\,RENDALL 452 220.1  £995.00 AALITTLE HACKLAND\,RENDALL 500 220  £1\,100.00 BBSEATTERSQUOY\,STENNESS 530 221.7  £1\,175.00 CHARSEATTERSQUOY\,STENNESS 495 217.2  £1\,075.00 CHARARION\,STROMNESS 490 218.4  £1\,070.00 CHARARION\,STROMNESS 485 216.5  £1\,050.00 CHARLOWER CORNQUOY\,HOLM 437 217.4  £950.00 LIMCAULDHAME\,STROMNESS 530 217  £1\,150.00 CHARMUCKLE CROFTY\,TANKERNESS 528 216.9  £1\,145.00 LIMKIRKTON\,SHAPINSAY 495 216.2  £1\,070.00 LIMMIDLAND\,RENDALL 470 214.9  £1\,010.00 AAHESTWALL \,HOLM 525 214.3  £1\,125.00 SIMLENAHOWE\,SANDWICK 530 213.2  £1\,130.00 CHARNETHERHILL\,TANKERNESS 445 213.5  £950.00 CHARKNOWE\,SANDAY 410 212.2  £870.00 SIMKNOWE\,SANDAY 515 211.7  £1\,090.00 AAWORKWELL\,ORPHIR 550 211.8  £1\,165.00 AASCOMUIR\,HOLM 510 211.8  £1\,080.00 SIMSOUTH BRECK\,FIRTH 535 211  £1\,130.00 CHAREASTAQUOY\,HARRAY 535 211.2  £1\,130.00 CHARAIKERS\,TANKERNESS 555 209  £1\,160.00 LIMQUHOLMSLIE\,STROMNESS 550 207.3  £1\,140.00 CHARBINSCARTH \,FINSTOWN 520 205.8  £1\,070.00 AASOUTH UNIGARTH\,SANDWICK 576 205.7  £1\,185.00 SIMLITTLE WARDS\,LONGHOPE 505 205  £1\,035.00 AASKAILL\,ORPHIR 550 203.6  £1\,120.00 AALOWER CORNQUOY\,HOLM 445 202.2  £900.00 LIM OTHER STORE STEERS PER HEAD CAULDHAME\,STROMNESS 720  £1\,340.00 AA CAULDHAME\,STROMNESS 700  £1\,325.00 SH CAULDHAME\,STROMNESS 628  £1\,300.00 AA WITHAQUOY\,HOLM 685  £1\,300.00 AA SKAILL\,ORPHIR 670  £1\,290.00 AA QUHOLMSLIE\,STROMNESS 665  £1\,280.00 LIM SEATTERSQUOY\,STENNESS 600  £1\,270.00 AA SEATTERSQUOY\,STENNESS 612  £1\,265.00 SIM VELTIGAR\,TANKERNESS 615  £1\,260.00 CHAR SOUTH UNIGARTH\,SANDWICK 617  £1\,245.00 SIM SOUTH UNIGARTH\,SANDWICK 685  £1\,240.00 SIM ARION\,STROMNESS 615  £1\,230.00 CHAR EASTERBISTER\,HOLM 605  £1\,220.00 SIM ROADSIDE\,ST OLA 625  £1\,220.00 CHAR EASTAQUOY\,HARRAY 600  £1\,215.00 CHAR BRAEBUSTER \,DEERNESS 495  £1\,195.00 BB BRAEBUSTER \,DEERNESS 490  £1\,190.00 BB AIKERS\,TANKERNESS 575  £1\,190.00 LIM WORKWELL\,ORPHIR 550  £1\,165.00 AA HEWAN\,SHAPINSAY 515  £1\,165.00 LIM SEBAY VIEW\,TANKERNESS 505  £1\,150.00 LIM BRECKOWALL\,WESTRAY 545  £1\,150.00 LIM ODINSTONE\,SHAPINSAY 550  £1\,150.00 CHAR ODINSTONE\,SHAPINSAY 495  £1\,145.00 LIM MUCKLE CROFTY\,TANKERNESS 528  £1\,145.00 LIM VEDDERTOWNMAIL\,TANKERNESS 520  £1\,135.00 LIM SOUTH BRECK\,FIRTH 535  £1\,130.00 CHAR LENAHOWE\,SANDWICK 530  £1\,130.00 CHAR HESTWALL \,HOLM 525  £1\,125.00 SIM APPIETOWN\,RENDALL 532  £1\,120.00 AA KNOWE\,SANDAY 550  £1\,115.00 SIM MAESQUOY\,HARRAY 525  £1\,110.00 SIM SWANNAY FARM\,BY EVIE 460  £1\,110.00 BB NESSBRECK\,HARRAY 511  £1\,110.00 CHAR NESSBRECK\,HARRAY 488  £1\,105.00 CHAR SEHOUSEBAY\,TANKERNESS 455  £1\,105.00 LIM COLLIGARTH\,SANDAY 495  £1\,105.00 LIM KIRKTON\,SHAPINSAY 525  £1\,100.00 AA LITTLE HACKLAND\,RENDALL 500  £1\,100.00 BB HOUSEBAY\,STRONSAY 491  £1\,090.00 SIM HOUSEBAY\,STRONSAY 492  £1\,090.00 AA SCOMUIR\,HOLM 510  £1\,080.00 SIM HOWE\,HARRAY 445  £1\,075.00 CHAR BINSCARTH \,FINSTOWN 520  £1\,070.00 AA BIGGINGS\,STENNESS 450  £1\,050.00 LIM LITTLE WARDS\,LONGHOPE 515  £1\,050.00 CHAR WESTSHORE\,RENDALL 475  £1\,045.00 AA UPPERFIELD\,ST OLA 455  £1\,040.00 LIM 232 Store Heifers averaged 210 p/kg (+4p) and sold to 238.7 p/kg for a pair of British Blues scaling 377 kilos from TAD & JD Hourie\, Heathfield\, St Ola Realsing  £900. Top price per head was  £1345 for a Simmental scaling 785 kilos from C W Paterson\, Veltigar\, Tankerness. OTHER STORE HEIFERS PER KILO SOUTH SEATTER\,SANDWICK 488 235.7  £1\,150.00 LIMMAESQUOY\,HARRAY 370 232.4  £860.00 BLNDNESSBRECK\,HARRAY 472 230.9  £1\,090.00 CHARAIKERS\,TANKERNESS 480 229.2  £1\,100.00 LIMNEWHALL\,STROMNESS 382 227.7  £870.00 CHARKIRKTON\,SHAPINSAY 470 227.7  £1\,070.00 LIMSEBAY VIEW\,TANKERNESS 475 225.3  £1\,070.00 LIMHOWE\,HARRAY 432 225.7  £975.00 CHARBIGGINGS\,STENNESS 425 224.7  £955.00 CHARSWANNAY FARM\,BY EVIE 460 223.9  £1\,030.00 BBBRECKOWALL\,WESTRAY 450 222.2  £1\,000.00 LIMARION\,STROMNESS 480 221.9  £1\,065.00 LIMWATTLE\,BIRSAY 492 221.5  £1\,090.00 LIMSMOOGARTH\,FIRTH 381 221.8  £845.00 LIMNETHERHILL\,TANKERNESS 390 220.5  £860.00 SIMHEWAN\,SHAPINSAY 480 220.8  £1\,060.00 LIMHEWAN\,SHAPINSAY 545 218.3  £1\,190.00 LIMGARSON\,SANDWICK 541 219  £1\,185.00 SIMQUOYS\,SOUTH RONALDSAY 485 218.6  £1\,060.00 CHARLITTLE HACKLAND\,RENDALL 490 218.4  £1\,070.00 AALENAHOWE\,SANDWICK 500 218  £1\,090.00 CHARVELTIGAR\,TANKERNESS 530 217.9  £1\,155.00 LIMEASTERBISTER\,HOLM 560 217.9  £1\,220.00 SIMMUCKLE CROFTY\,TANKERNESS 507 217  £1\,100.00 LIMCOLLIGARTH\,SANDAY 480 214.6  £1\,030.00 CHARWORKWELL\,ORPHIR 471 214.4  £1\,010.00 SIMODINSTONE\,SHAPINSAY 520 214.4  £1\,115.00 CHARODINSTONE\,SHAPINSAY 560 213.4  £1\,195.00 CHARHEATHER-COW-ROOT\,FLOTTA 500 214  £1\,070.00 LIMUPPERFIELD\,ST OLA 502 211.2  £1\,060.00 LIMSEATTERSQUOY\,STENNESS 535 210.3  £1\,125.00 CHARKIRBUSTER\,LONGHOPE 425 209.4  £890.00 LIMTHE KNOWE\,SANDAY 520 207.7  £1\,080.00 CHAREASTAQUOY\,HARRAY 550 207.3  £1\,140.00 SALQUHOLMSLIE\,STROMNESS 570 203.5  £1\,160.00 CHARBINSCARTH \,FINSTOWN 517 201.2  £1\,040.00 AA OTHER STORE HEIFERS PER HEAD EASTERBISTER\,HOLM 600  £1\,280.00 SIM VELTIGAR\,TANKERNESS 626  £1\,275.00 CHAR VELTIGAR\,TANKERNESS 620  £1\,270.00 CHAR WITHAQUOY\,HOLM 625  £1\,230.00 LIM KIRKTON\,SHAPINSAY 610  £1\,200.00 LIM ODINSTONE\,SHAPINSAY 585  £1\,205.00 CHAR ODINSTONE\,SHAPINSAY 560  £1\,195.00 CHAR HEWAN\,SHAPINSAY 545  £1\,190.00 LIM GARSON\,SANDWICK 541  £1\,185.00 SIM ARION\,STROMNESS 572  £1\,175.00 AA QUHOLMSLIE\,STROMNESS 570  £1\,160.00 CHAR SOUTH SEATTER\,SANDWICK 488  £1\,150.00 LIM EASTAQUOY FARM\,HARRAY 550  £1\,140.00 SAL SEATTERSQUOY\,STENNESS 535  £1\,125.00 CHAR WATTLE\,BIRSAY 516  £1\,120.00 LIM THE KNOWE\,SANDAY 575  £1\,100.00 AA MUCKLE CROFTY\,TANKERNESS 507  £1\,100.00 LIM AIKERS\,TANKERNESS 480  £1\,100.00 LIM NESSBRECK\,HARRAY 507  £1\,095.00 CHAR BRECKOWALL\,WESTRAY 540  £1\,095.00 LIM LENAHOWE\,SANDWICK 500  £1\,090.00 CHAR SEBAY VIEW\,TANKERNESS 475  £1\,070.00 LIM HEATHER-COW-ROOT\,FLOTTA 500  £1\,070.00 LIM LITTLE HACKLAND\,RENDALL 490  £1\,070.00 AA QUOYS\,SOUTH RONALDSAY 498  £1\,070.00 CHAR QUOYS\,SOUTH RONALDSAY 485  £1\,060.00 CHAR UPPERFIELD\,ST OLA 502  £1\,060.00 LIM SWANNAY FARM\,BY EVIE 490  £1\,060.00 SIM LITTLE WARDS\,LONGHOPE 567  £1\,060.00 CHAR COLLIGARTH\,SANDAY 500  £1\,055.00 LIM WORKWELL\,ORPHIR 515  £1\,050.00 AA CRUHILL\,TOAB 540  £1\,050.00 SIM BINSCARTH \,FINSTOWN 517  £1\,040.00 AA OTM Cattle sold to 166.2 p/kg for a Simmental scaling 650 kilos from S M Twatt\, Lingro\, St Ola realising  £1080. OTHER OTMs GARSON\,SANDWICK 675 133.3  £900.00 SIMUPPERFIELD\,ST OLA 680 129.4  £880.00 LIMSTEAQUOY\,SHAPINSAY 750 113.3  £850.00 LIMBINSCARTH \,FINSTOWN 690 115.9  £800.00 SIMNETHERSKAILL\,BIRSAY 490 138.8  £680.00 SIM
URL:https://orkneymart.com/event/cattle-sale-115/
CATEGORIES:Sales Report
END:VEVENT
BEGIN:VEVENT
DTSTART;TZID=Europe/London:20200217T000000
DTEND;TZID=Europe/London:20200217T000000
DTSTAMP:20260421T121816
CREATED:20231020T095047Z
LAST-MODIFIED:20231027T105538Z
UID:10000883-1581897600-1581897600@orkneymart.com
SUMMARY:Cattle & Sheep Sales
DESCRIPTION:Cattle and Sheep Report – Monday 17th FebruaryCATTLE7 Prime cattle were sold\, selling to a top price per kilo of 224p for a 605kg Limousin heifer\, from Johnston\, Hewan\, Shapinsay\, which realised  £1355.20Other leading prices – South Seatter\, Sandwick (Limousin heifer) 565kg @ 222p; Cloke\, Dounby (Saler heifer) 545kg @ 212p.SHEEPPrime lambs (177 sold)\, again met an excellent trade\, selling to a top price per kilo of 255p for a pen of 4 Texel x”s from Lennie\, Nearhouse\, Tankerness. They scaled 40kg and realised  £102.Other leading prices per kilo – Nisthouse\, Evie (39kg) 246.2p ( £96); Brunthouse\, Flotta (38.5kg) 233.6p ( £90); Holland\, Firth (41.5kg) 232.4p ( £96.50); Whithall\, Stronsay (40.5kg) 232.1p ( £94); Samson”s Lane\, Stronsay (41kg) 230.5p ( £94.50); Linksness\, Stronsay (43kg) 230.2p ( £99); Withaquoy\, Holm (42kg) 229.8p ( £96.50); Sunnybank\, St Ola (42kg) 229.8p ( £96.50); Grind\, Stronsay (42kg) 227.4p ( £95.50); Huan\, Sandwick (42kg) 227p ( £95.50); Breck\, Stronsay (43.5kg) 224.1p ( £97.50); Linksness\, Stronsay (39kg) 223.1p ( £87).Top price per head for Prime lambs was  £111 for a pen of 3 Texel x”s\, scaling 48kg\, from Stout\, Whitehall\, Stronsay (231.3p)Other leading Prime lamb prices per head – Brunthouse\, Flotta (47.5kg)  £109; Sunnybank\, St Ola (47.5kg)  £107.50; Huan\, Sandwick (50kg)  £106; Withaquoy\, Holm (56.5kg)  £106; Nisthouse\, Evie (44kg)  £105; Linksness\, Stronsay (49kg)  £102.50; Holland\, Firth (45.5kg)  £104; Nearhouse\, Tankerness (40kg)  £102A small number of Store lambs sold to a top of  £106 for a pair of Texels from Brodie\, Sunnybank\, St Ola.Other leading Store lamb prices – Samsons Lane\, Stronsay (3 Texels)  £93; Brunthouse\, Flotta (14 Texels)  £92.50; Odiness\, Stronsay (Texel)  £81.50Good Cast ewes met a keen trade selling to  £138 for a Suffolk\, from Thomson\, The Howe\, South Ronaldsay.Other ewe prices – Nisthouse\, Evie ( £138); Knockhall\, South Ronaldsay ( £130); Whitehall\, Stronsay ( £128); Cloke\, Dounby ( £118); Huan\, Sandwick ( £112); Purtabreck\, Toab ( £110); Aikerness\, Evie ( £100)Cast rams sold to  £132 for a Texel from Johnston\, Cloke\, Dounby.
URL:https://orkneymart.com/event/cattle-sheep-sales-77/
CATEGORIES:Sales Report
END:VEVENT
BEGIN:VEVENT
DTSTART;TZID=Europe/London:20200224T000000
DTEND;TZID=Europe/London:20200224T000000
DTSTAMP:20260421T121816
CREATED:20231020T094848Z
LAST-MODIFIED:20231027T105538Z
UID:10000882-1582502400-1582502400@orkneymart.com
SUMMARY:Cattle & Sheep Sales
DESCRIPTION:Forward for sale on Monday were 6 Prime Cattle\, 2 Store Cattle & 20 OTM Cows. Prime Cattle sold to 226 p/kg for a Limousin Heifer scaling 595 kilos from R & J Johnston\, Hewan\, Shapinsay realising  £1344.70 purchased by Craigies. OTHER PRIME HEIFERS SOUTH SEATTER\,SANDWICK 540  £1\,204.20 223 LIMBACKAKELDAY\,HOLM 545  £1\,171.75 215 CHARCLOKE\,DOUNBY 595  £1\,237.60 208 SALHOBBISTER\,ORPHIR 595  £1\,225.70 206 AA Prime Steers sold to 218 p/kg for a Limousin scaling 580 kilos from R & J Johnston\, Hewan\, Shapinsay realising  £1264.40 purchased by Craigies. Store cattle grossed  £1190 for an Aberdeen Angus steer from W I & D Shearer\, Airy\, Stronsay. OTM Cows sold to 133.9 p/kg for an Abderdeen Angus cow scaling 635 kilos from P S & M H Johnston\, Brockan\, Stromness realising  £850. OTHER PRICES PER KILO SHEARER\,AIRY 760  £1\,005.00 132.2 LIMBROCKAN\,STROMNESS 565  £745.00 131.9 AABRUNTHOUSE\,FLOTTA 795  £1\,020.00 128.3 SHRENNIBISTER\,KIRKWALL 660  £845.00 128 SIMMIDHOUSE\,EVIE 650  £830.00 127.7 SIM Top price per head was  £1090 for an Aberdeen Angus cow scaling 830 kilos from W I & D Shearer\, Airy\, Stronsay. OTHER PRICES PER HEAD MIDHOUSE\,EVIE 845  £1\,070.00 SIM BRUNTHOUSE\,FLOTTA 840  £1\,050.00 AA Following the cattle were 41 Breeding Sheep\, 338 Prime Hoggs 225 Store Hoggs & 217 Cast Sheep. A consignment of In-Lamb sheep sold to  £136 for a pen of 25 Cross Ewes from I Laird\, Yeldabreck\, Burray. Prime Hoggs averaged 222p/kg with export hoggs averaging 224p/kg. Prime Hoggs sold to 265 p/kg for a Texel scaling 30 kilos from I & I Brown\, Millbrae\, Sanday realising  £79.50. Top price per head was  £132 for a pen of 5 Beltex Hoggs scaling 51 kilos from T Linklater\, Stonelea\, Stenness. OTHER PRICES PER KILO QUOYMORHOUSE\,SHAPINSAY 38.5  £100.00 259.7 TEXQUOYMORHOUSE\,SHAPINSAY 43  £108.00 251.2 TEXRAMSQUOY\,STENNESS 37  £93.00 251.4 CHARSTONELEA\,STENNESS 48  £116.00 241.7 TEXNEWARK\,SANDAY 46  £109.00 237 TEXSTOREHOUSE\,STRONSAY 34.5  £81.50 236.2 TEXBURNHOUSE\,LONGHOPE 41.1  £95.50 232.4 CHARGORN\,WESTRAY 37.5  £86.50 230.7 TEXGARSON\,SANDWICK 44.5  £102.50 230.3 CHARMILLBRAE\,SANDAY 45  £103.50 230 TEXARWICK\,EVIE 47  £108.00 229.8 TEXHOUSEBAY\,STRONSAY 39  £89.50 229.5 TEXBRIARLEA\,HARRAY 41  £94.00 229.3 BLACKGRIND\,STRONSAY 41.5  £95.00 228.9 TEXVELTIGAR\,TANKERNESS 46  £105.00 228.3 TEXREDLAND\,STROMNESS 41.5  £94.00 226.5 WHITECLAIRNESS\,SANDWICK 41.5  £94.00 226.5 TEXSKAILL\,ORPHIR 41.5  £93.50 225.3 TEXSEBAY\,TANKERNESS 49.5  £111.00 224.2 TEXCAULDHAME\,STROMNESS 46  £103.00 223.9 SUFDRYDALE\,STROMNESS 46  £103.00 223.9 TEXLENAHOWE\,SANDWICK 41  £91.50 223.2 TEXSWANNAY FARM\,BY EVIE 43  £95.00 220.9 SUFMIDLAND\,RENDALL 39.5  £86.00 217.7 TEXBRETTOBRECK\,STROMNESS 37  £80.00 216.2 TEX OTHER PRICES PER HEAD STONELEA\,STENNESS 48  £116.00 TEX BURNHOUSE\,LONGHOPE 53  £115.00 CHAR BRIARLEA\,HARRAY 52  £112.00 BLACK SEBAY\,TANKERNESS 49.5  £111.00 TEX NEWARK\,SANDAY 46  £109.00 TEX ARWICK\,EVIE 47  £108.00 TEX QUOYMORHOUSE\,SHAPINSAY 43  £108.00 TEX LAITHE\,SANDWICK 53  £108.00 SUF CLAIRNESS\,SANDWICK 47  £105.50 TEX VELTIGAR\,TANKERNESS 46  £105.00 TEX CAULDHAME\,STROMNESS 49  £105.00 CHEV MILLBRAE\,SANDAY 45  £103.50 TEX DRYDALE\,STROMNESS 46  £103.00 TEX GARSON\,SANDWICK 44.5  £102.50 CHAR RAMSQUOY\,STENNESS 45  £102.50 CHAR RAMSQUOY\,STENNESS 45.5  £101.00 TEX QUOYMORHOUSE\,SHAPINSAY 38.5  £100.00 TEX SKAILL\,ORPHIR 43  £96.00 TEX SWANNAY FARM\,BY EVIE 43  £95.00 SUF GRIND\,STRONSAY 41.5  £95.00 TEX REDLAND\,STROMNESS 41.5  £94.00 WHITE LENAHOWE\,SANDWICK 41  £91.50 TEX GORN\,WESTRAY 41  £90.00 BLACK Store Hoggs sold to  £97.50 for a pen of 4 Texels from C M C Gillon\, Vinkwen\, Evie. OTHER STORE HOGGS COTTISCARTH\,RENDALL 97 SUF BRIARLEA\,HARRAY 93 BLACK HOUSEBAY\,STRONSAY 92.5 TEX STOREHOUSE\,STRONSAY 91.5 WHITE MILLBRAE\,SANDAY 90.5 SUF VOAN\,STENNESS 89 TEX REDLAND\,STROMNESS 87.5 TEX HUIP\,STRONSAY 86.5 OTHER BRETTOBRECK\,STROMNESS 86 TEX GORN\,WESTRAY 84.5 BLACK CLAIRNESS\,SANDWICK 84.5 TEX GARSON\,SANDWICK 82.5 CHEV LENAHOWE\,SANDWICK 81.5 SUF LENAHOWE\,SANDWICK 80.5 SUF BINSCARTH\,FINSTOWN 78 SUF MIDLAND\,RENDALL 77.5 TEX MIDSKAILL\,EGILSAY 69 SUF HOBBISTER\,ORPHIR 50 LLEYN Cast Sheeps sold to  £151 for a Texel Ewe from G Thomson\, Howe\, South Ronaldsay. OTHER CAST EWES ARWICK\,EVIE  £150.00 TEX QUOYMORHOUSE\,SHAPINSAY  £149.00 TEX QUOYMORHOUSE\,SHAPINSAY  £144.00 TEX NEWARK\,SANDAY  £135.00 TEX OAKLEA\,ST OLA  £130.00 TEX CAULDHAME\,STROMNESS  £128.00 CHEV BRECK-MYRES\,SHAPINSAY  £125.00 SUF MILLBRAE\,SANDAY  £122.00 SUF MILLBRAE\,SANDAY  £120.00 SUF GARSON\,SANDWICK  £120.00 TEX HOUSEBAY\,STRONSAY  £120.00 TEX BRECK-MYRES\,SHAPINSAY  £118.00 SUF BURNSIDE\,ORPHIR  £115.00 TEX STONELEA\,STENNESS  £109.00 BELTEX CLOKE\,DOUNBY  £108.00 WHITE RAMSQUOY\,STENNESS  £103.00 TEX HUIP\,STRONSAY  £102.00 CHEV MOA\,STENNESS  £101.00 CHEV VOAN\,STENNESS  £98.00 TEX STOREHOUSE\,STRONSAY  £96.00 WHITE HOLLAND\,STRONSAY  £92.00 OTHER BINSCARTH\,FINSTOWN  £92.00 CHEV SKAILL\,ORPHIR  £92.00 TEX ROADSIDE COTTAGE\,ORPHIR  £91.00 TEX ARWICK\,EVIE  £90.00 OTHER CLAIRNESS\,SANDWICK  £86.00 OTHER LAITHE\,SANDWICK  £84.00 OTHER SWANNAY FARM\,BY EVIE  £82.00 CHEV HOWE\,HARRAY  £79.00 TEX HOBBISTER\,ORPHIR  £78.00 BLACK BURNHOUSE\,LONGHOPE  £75.00 CHAR
URL:https://orkneymart.com/event/cattle-sheep-sales-76/
CATEGORIES:Sales Report
END:VEVENT
END:VCALENDAR