BEGIN:VCALENDAR
VERSION:2.0
PRODID:-//Orkney Auction Mart - ECPv6.15.17.1//NONSGML v1.0//EN
CALSCALE:GREGORIAN
METHOD:PUBLISH
X-WR-CALNAME:Orkney Auction Mart
X-ORIGINAL-URL:https://orkneymart.com
X-WR-CALDESC:Events for Orkney Auction Mart
REFRESH-INTERVAL;VALUE=DURATION:PT1H
X-Robots-Tag:noindex
X-PUBLISHED-TTL:PT1H
BEGIN:VTIMEZONE
TZID:Europe/London
BEGIN:DAYLIGHT
TZOFFSETFROM:+0000
TZOFFSETTO:+0100
TZNAME:BST
DTSTART:20190331T010000
END:DAYLIGHT
BEGIN:STANDARD
TZOFFSETFROM:+0100
TZOFFSETTO:+0000
TZNAME:GMT
DTSTART:20191027T010000
END:STANDARD
BEGIN:DAYLIGHT
TZOFFSETFROM:+0000
TZOFFSETTO:+0100
TZNAME:BST
DTSTART:20200329T010000
END:DAYLIGHT
BEGIN:STANDARD
TZOFFSETFROM:+0100
TZOFFSETTO:+0000
TZNAME:GMT
DTSTART:20201025T010000
END:STANDARD
BEGIN:DAYLIGHT
TZOFFSETFROM:+0000
TZOFFSETTO:+0100
TZNAME:BST
DTSTART:20210328T010000
END:DAYLIGHT
BEGIN:STANDARD
TZOFFSETFROM:+0100
TZOFFSETTO:+0000
TZNAME:GMT
DTSTART:20211031T010000
END:STANDARD
END:VTIMEZONE
BEGIN:VEVENT
DTSTART;TZID=Europe/London:20200106T000000
DTEND;TZID=Europe/London:20200106T000000
DTSTAMP:20260421T133846
CREATED:20231020T095448Z
LAST-MODIFIED:20231027T105538Z
UID:10000893-1578268800-1578268800@orkneymart.com
SUMMARY:Cattle & Sheep Sales
DESCRIPTION:Forward for sale on Monday were 11 prime cattle\, 210 prime hoggs\, 49 store hoggs & 42 cast sheep. Prime cattle sold to 215 p/kg for a Limousin heifer scaling 505 kilos from J & R Stanger\, South Seatter\, Sandwick realising  £1085.75 purchased by Donaldson’s. OTHER PRIME HEIFERS MUCE\, BIRSAY 570  £1\,219.80 214 SALMUCE\, BIRSAY 570  £1\,191.30 209 SALSOUTH SEATTER\, SANDWICK 610  £1\,268.80 208 CHACLOKE\, DOUNBY 595  £1\,219.75 205 SAL Prime steers sold to 211 p/kg for a Limousin scaling 625 kilos from R & J Johnston\, Hewan\, Shapinsay realising  £1318.75 purchased by Williamson’s. OTHER PRIME STEERS CLOKE\, DOUNBY 660  £1\,366.20 207 SALHOWE\,HARRAY 605  £1\,234.20 204 STA Prime hoggs were in high demand this week and sold to sharper rates topping at 201.1 p/kg for a pen of three Texels scaling 45 kilos from F & T Moar\, Withaquoy\, Holm realising  £90.50. Top price per head was  £101 for a single Charollais scaling 72 kilos from S W Scott\, Appiehouse\, Stenness. OTHER PRIME HOGGS PER KILO 1 BOGIE HOUSES\, EVIE 36  £72.00 200 TEXCRISMO FARM\, COSTA 38  £75.50 198.7 TEXLITTLE CROFTY\, TANKERNESS 39.5  £78.50 198.7 BELTEXSTOREHOUSE\, STRONSAY 39.5  £77.50 196.2 TEXHONEYSGOE\, SOUTH RONALDSAY 34  £66.00 194.1 CHEV OTHER PRIME HOGGS PER HEAD LITTLE CROFTY\, TANKERNESS 48  £91.00 TEX CLOKE\, DOUNBY 51  £89.50 TEX APPIEHOUSE\, STENNESS 59.5  £88.00 CHA CLOKE\, DOUNBY 49.5  £87.50 CHA CLOKE\, DOUNBY 51  £87.50 SUF Store hoggs were also sharper this week selling to  £76.50 for 11 Texels from Daniel Carter\, Storehouse\, Stronsay. OTHER STORE LAMBS HONEYSGOE\, SOUTH RONALDSAY  £74.00 WHI STOREHOUSE\, STRONSAY  £73.50 BLA HOBBISTER\, ORPHIR  £72.00 TEX STOREHOUSE\, STRONSAY  £71.00 TEX VOAN\, STENNESS  £70.00 TEX Cast sheep were in demand this week selling to  £98 for a pair of Texel Ewes from Scott\, Appiehouse\, Stenness. OTHER CAST EWES APPIEHOUSE\, STENNESS  £96.00 TEX APPIEHOUSE\, STENNESS  £90.00 SUF APPIEHOUSE\, STENNESS  £88.00 TEX CLOKE\, DOUNBY  £86.00 WHI ARWICK\, EVIE  £85.00 OTH Cast rams sold to  £96 for a Suffolk from N & B Isbister \, Feolquoy\, Stromness.
URL:https://orkneymart.com/event/cattle-sheep-sales-79/
CATEGORIES:Sales Report
END:VEVENT
BEGIN:VEVENT
DTSTART;TZID=Europe/London:20200113T000000
DTEND;TZID=Europe/London:20200113T000000
DTSTAMP:20260421T133846
CREATED:20231020T095248Z
LAST-MODIFIED:20231027T105538Z
UID:10000892-1578873600-1578873600@orkneymart.com
SUMMARY:Cattle Sale
DESCRIPTION:Forward for sale on Monday were 13 Prime Cattle\, 744 Store Cattle & 69 OTM Cattle. Prime Cattle sold to 216 p/kg for a Limousin Heifer scaling 580 kilos from J & R Stanger\, South Seatter\, Sandwick realising  £1252.80 purchased by Donaldsons. OTHER PRIME HEIFERS HOWE\,HARRAY 615  £1\,279.20 208 LIMARWICK\,EVIE 590  £1\,227.20 208 LIMMUCE\,BIRSAY 555  £1\,132.20 204 LIMFEAVAL\,BIRSAY 625  £1\,268.75 203 LIM Prime Steers sold to 205 p/kg for a Stabaliser scaling 595 kilos from G Henry\, Howe\, Harray realising  £1219.75 purchased by Williamsons. A great show of Store cattle were in very high demand and sold to increased rates despite the majority of the cattle being over 600 kilos. 471 Store Steers averaged 203 p/kg and sold to 283.4 p/kg for a pen of 5 Limousins scaling 247 kilos from Balfour Estates\, Shapinsay realising  £700. Top price per head was  £1360 for a pair of Charolais scaling 690 kilos from N & B Isbister\, Feolquoy\, Stromness. OTHER LEADING PRICES PER KILO NETHERSKAILL\,BIRSAY 395  £950.00 240.5 BBBALFOUR ESTATES\,SHAPINSAY 366  £880.00 240.4 LIMHOWE FARM\,HARRAY 445  £1\,045.00 234.8 CHARHAQUOY\,SHAPINSAY 387  £900.00 232.6 LIMHAQUOY\,SHAPINSAY 458  £1\,060.00 231.4 LIMHEATHER-COW-ROOT\,FLOTTA 470  £1\,075.00 228.7 LIMHYVAL\,SANDWICK 472  £1\,055.00 223.5 CHARLOPNESS\,SANDAY 490  £1\,095.00 223.5 SIMHOLLAND\,FIRTH 493  £1\,100.00 223.1 CHARODINSTONE\,SHAPINSAY 530  £1\,180.00 222.6 LIMODINSTONE\,SHAPINSAY 525  £1\,150.00 219 LIMODINSTONE\,SHAPINSAY 530  £1\,160.00 218.9 LIMUPPER HOBBISTER\,STENNESS 435  £965.00 221.8 CHARPURTABRECK\,TOAB 490  £1\,085.00 221.4 LIMCRAIGHAVEN\,TOAB 510  £1\,125.00 220.6 LIMNOUP\,WESTRAY 490  £1\,080.00 220.4 CHARPERTH\,WESTRAY 495  £1\,090.00 220.2 CHARSWANNAY FARM\,BY EVIE 525  £1\,150.00 219 LIMWATTLE\,BIRSAY 515  £1\,130.00 219.4 LIMWATTLE\,BIRSAY 501  £1\,080.00 215.6 LIMMESSIGATE\,TANKERNESS 455  £990.00 217.6 LIMGARSON\,SANDWICK 530  £1\,145.00 216 LIMHURTISO\,HOLM 485  £1\,050.00 216.5 LIMHURTISO\,HOLM 515  £1\,095.00 212.6 LIMSTAYE\,DEERNESS 480  £1\,035.00 215.6 LIMNETHERHILL\,TANKERNESS 495  £1\,065.00 215.2 SIMODINESS\,STRONSAY 430  £925.00 215.1 CHARBRAEHEAD\,STROMNESS 510  £1\,095.00 214.7 CHARQUANTERNESS\,ST OLA 505  £1\,080.00 213.9 LIMSUNNYBANK\,ST OLA 485  £1\,035.00 213.4 CHARHOLLAND\,PAPA WESTRAY 464  £990.00 213.4 AANISTAGAR\,HARRAY 550  £1\,165.00 211.8 SIMQUOYMORHOUSE\,SHAPINSAY 520  £1\,100.00 211.5 CHARHALL OF TANKERNESS\,TANKERNESS 488  £1\,030.00 211.1 AAHALL OF TANKERNESS\,TANKERNESS 530  £1\,100.00 207.5 AAKARINYA\,DOUNBY 465  £980.00 210.8 CHARHUNTON\,STRONSAY 450  £945.00 210 AAINKERMAN\,SANDAY 480  £1\,005.00 209.4 OTHBLINKBONNY\,STRONSAY 430  £900.00 209.3 AAWARDHILL\,SOUTH RONALDSAY 440  £920.00 209.1 SALSKAILL\,SANDWICK 584  £1\,220.00 208.9 AAUPPER HEADS\,ST MARGARETS HOPE 532  £1\,110.00 208.6 LIMKIRBUSTER\,LONGHOPE 495  £1\,030.00 208.1 LIMLYKING\,SANDWICK 565  £1\,170.00 207.1 SIMMIDHOUSE\,EVIE 580  £1\,200.00 206.9 CHARBRYAMEADOW\,TWATT 535  £1\,105.00 206.5 CHARBRYAMEADOW\,TWATT 460  £950.00 206.5 CHARWHITECLEAT\,TANKERNESS 505  £1\,040.00 205.9 LIMSOUTH BRECK\,FIRTH 535  £1\,100.00 205.6 LIMVESTRAFIOLD\,SANDWICK 523  £1\,075.00 205.5 LIMLANGSKAILL \,BIRSAY 555  £1\,140.00 205.4 CHARWITHAQUOY\,HOLM 582  £1\,195.00 205.3 CHARWITHAQUOY\,HOLM 570  £1\,170.00 205.3 LIMSKAILL\,WESTRAY 585  £1\,200.00 205.1 CHARTUQUOY\,WESTRAY 578  £1\,185.00 205 CHARBIGGINGS\,RENDALL 557  £1\,125.00 202 AAROADSIDE\,ST OLA 550  £1\,110.00 201.8 CHARRAMSQUOY\,STENNESS 552  £1\,110.00 201.1 SIMWEST BURNSIDE\,TANKERNESS 500  £1\,000.00 200 BB OTHER LEADING PRICES PER HEAD FEOLQUOY\,STROMNESS 685  £1\,320.00 CHAR LYKING\,SANDWICK 690  £1\,315.00 SIM WATTLE\,BIRSAY 625  £1\,290.00 LIM WATTLE\,BIRSAY 612  £1\,270.00 LIM COTLAND\,ST OLA 730  £1\,275.00 CHAR BLINKBONNY\,STRONSAY 640  £1\,270.00 AA MIDHOUSE\,EVIE 615  £1\,260.00 CHAR HURTISO\,HOLM 755  £1\,265.00 AA HURTISO\,HOLM 745  £1\,250.00 AA HURTISO\,HOLM 602  £1\,240.00 AA EASTERBISTER\,HOLM 625  £1\,240.00 AA SKAILL\,SANDWICK 618  £1\,235.00 AA SKAILL\,SANDWICK 625  £1\,220.00 CHAR ODINSTONE\,SHAPINSAY 570  £1\,230.00 CHAR RAMSQUOY\,STENNESS 620  £1\,230.00 SIM VESTRAFIOLD\,SANDWICK 605  £1\,210.00 SIM CRAIGHAVEN\,TOAB 570  £1\,205.00 LIM SKAILL\,WESTRAY 585  £1\,200.00 CHAR WITHAQUOY\,HOLM 582  £1\,195.00 CHAR NETHERHILL\,TANKERNESS 585  £1\,195.00 CHAR NISTAGAR\,HARRAY 580  £1\,190.00 LIM TUQUOY\,WESTRAY 578  £1\,185.00 CHAR HALL OF TANKERNESS\,TANKERNESS 582  £1\,185.00 AA ODINESS\,STRONSAY 575  £1\,180.00 AA GARSON\,SANDWICK 565  £1\,165.00 LIM QUANTERNESS\,ST OLA 580  £1\,155.00 AA SWANNAY FARM\,BY EVIE 525  £1\,150.00 LIM ROADSIDE\,ST OLA 617  £1\,150.00 SIM LANGSKAILL\,BIRSAY 555  £1\,140.00 CHAR LANGSKAILL\,BIRSAY 590  £1\,130.00 CHAR UPPER HOBBISTER\,STENNESS 535  £1\,135.00 CHAR STAYE\,DEERNESS 530  £1\,130.00 LIM HYVAL\,SANDWICK 530  £1\,125.00 CHAR BINSCARTH\,FINSTOWN 557  £1\,125.00 AA LOPNESS\,SANDAY 535  £1\,115.00 LIM BIGGINGS\,RENDALL 567  £1\,115.00 LIM BIGGINGS\,RENDALL 567  £1\,110.00 LIM BRYAMEADOW\,TWATT 570  £1\,110.00 SAL KIRBUSTER\,LONGHOPE 540  £1\,110.00 CHAR PERTH\,WESTRAY 540  £1\,110.00 SIM UPPER HEADS\,ST MARGARETS HOPE 532  £1\,110.00 SIM HOLLAND\,FIRTH 513  £1\,105.00 CHAR HOLLAND\,FIRTH 518  £1\,105.00 LIM SOUTH BRECK\,FIRTH 553  £1\,105.00 BB QUOYMORHOUSE\,SHAPINSAY 520  £1\,100.00 CHAR NOUP\,WESTRAY 525  £1\,100.00 CHAR BRAEHEAD\,STROMNESS 510  £1\,095.00 CHAR BRAEHEAD\,STROMNESS 550  £1\,090.00 CHAR HEATHER-COW-ROOT\,FLOTTA 530  £1\,090.00 LIM PURTABRECK\,TOAB 490  £1\,085.00 LIM HAQUOY\,SHAPINSAY 470  £1\,080.00 LIM NETHERSKAILL\,BIRSAY 505  £1\,080.00 SIM NETHERSKAILL\,BIRSAY 510  £1\,070.00 CHAR WARDHILL\,SOUTH RONALDSAY 595  £1\,070.00 SAL INKERMAN\,SANDAY 505  £1\,055.00 OTH HOWE FARM\,HARRAY 445  £1\,045.00 CHAR WHITECLEAT\,TANKERNESS 505  £1\,040.00 LIM SUNNYBANK\,ST OLA 485  £1\,035.00 CHAR MESSIGATE\,TANKERNESS 487  £1\,020.00 AA KARINYA\,DOUNBY 485  £1\,010.00 CHAR WEST BURNSIDE\,TANKERNESS 500  £1\,000.00 BB 275 Store Heifers averaged 201 p/kg and sold to a top of 234.7 p/kg for a Limousin scaling 490 kilos from T & G Ritch\, Langskaill\, Birsay realising  £1150. Top price per head was  £1235 for a Charolais scaling 635 kilos from R K & F J Marshall\, Cotland\, St Ola. OTHER LEADING PRICES PER KILO NETHERSKAILL\,BIRSAY 465  £1\,075.00 231.2 BBODINSTONE\,SHAPINSAY 485  £1\,115.00 229.9 LIMKARINYA\,DOUNBY 415  £935.00 225.3 CHARKARINYA\,DOUNBY 470  £1\,040.00 221.3 CHARHAQUOY\,SHAPINSAY 393  £880.00 223.9 LIMWEST BURNSIDE\,TANKERNESS 475  £1\,060.00 223.2 LIMHEWAN\,SHAPINSAY 531  £1\,180.00 222.2 LIMLANGSKAILL\,BIRSAY 505  £1\,125.00 222.8 CHARLANGSKAILL\,BIRSAY 515  £1\,135.00 220.4 CHARCRAIGHAVEN\,TOAB 515  £1\,130.00 219.4 LIMGARSON\,SANDWICK 480  £1\,050.00 218.8 LIMHOLLAND\,FIRTH 455  £990.00 217.6 CHARHOWE\,HARRAY 470  £1\,020.00 217 CHARHOWE\,HARRAY 433  £930.00 215 CHARQUOYMORHOUSE\,SHAPINSAY 520  £1\,120.00 215.4 LIMLOPNESS\,SANDAY 455  £980.00 215 CHARNEW MOAN\,DOUNBY 550  £1\,180.00 214.5 LIMODINESS\,STRONSAY 447  £950.00 212.5 CHARMIDHOUSE\,EVIE 500  £1\,060.00 212 CHARBRYAMEADOW\,TWATT 500  £1\,060.00 212 CHARPURTABRECK\,TOAB 450  £950.00 211.1 LIMNETHERHILL\,TANKERNESS 480  £1\,005.00 209.4 LIMBIGGINGS\,RENDALL 495  £1\,035.00 209.1 LIMUPPER HOBBISTER\,STENNESS 465  £970.00 208.6 CHARPERTH\,WESTRAY 516  £1\,075.00 208.3 CHARSKAILL\,WESTRAY 555  £1\,150.00 207.2 CHARBINSCARTH\,FINSTOWN 520  £1\,075.00 206.7 CHARNEWARK\,SANDAY 485  £1\,000.00 206.2 CHARLOWER BRECKQUOY\,HOLM 425  £875.00 205.9 SHSWANNAY FARM\,BY EVIE 507  £1\,035.00 204.1 SIMEASTABIST\,DOUNBY 510  £1\,040.00 203.9 AAMESSIGATE\,TANKERNESS 430  £875.00 203.5 LIMRAMSQUOY\,STENNESS 553  £1\,125.00 203.4 CHARUPPER HEADS\,ST MARGARETS HOPE 502  £1\,015.00 202.2 SIMWHITECLEAT\,TANKERNESS 540  £1\,090.00 201.9 CHARHALL OF TANKERNESS\,TANKERNESS 540  £1\,080.00 200 AAQUANTERNESS\,ST OLA 495  £990.00 200 AAHOLLAND\,PAPA WESTRAY 460  £900.00 195.7 AA OTHER LEADING PRICES PER HEAD COTLAND\,ST OLA 635  £1\,235.00 CHAR MIDHOUSE\,EVIE 620  £1\,230.00 CHAR GRIMBISTER\,KIRKWALL 625  £1\,230.00 CHAR WITHAQUOY\,HOLM 630  £1\,220.00 CHAR HEWAN\,SHAPINSAY 531  £1\,180.00 LIM NEW MOAN\,DOUNBY 550  £1\,180.00 LIM ODINSTONE\,SHAPINSAY 540  £1\,175.00 LIM ODINSTONE\,SHAPINSAY 565  £1\,160.00 LIM STAYE\,DEERNESS 655  £1\,170.00 CHAR NEWARK\,SANDAY 585  £1\,165.00 CHAR BLINKBONNY\,STRONSAY 590  £1\,160.00 SIM EASTERBISTER\,HOLM 625  £1\,155.00 LIM SKAILL\,WESTRAY 555  £1\,150.00 CHAR LANGSKAILL\,BIRSAY 490  £1\,150.00 LIM LANGSKAILL\,BIRSAY 555  £1\,145.00 CHAR QUANTERNESS\,ST OLA 575  £1\,145.00 AA HOLLAND\,FIRTH 605  £1\,135.00 SAL HOLLAND\,FIRTH 558  £1\,130.00 CHAR CRAIGHAVEN\,TOAB 515  £1\,130.00 LIM UPPER HEADS\,ST MARGARETS HOPE 560  £1\,130.00 LIM NETHERSKAILL\,BIRSAY 570  £1\,130.00 SIM SKAILL\,ORPHIR 590  £1\,130.00 AA RAMSQUOY\,STENNESS 553  £1\,125.00 CHAR EASTABIST\,DOUNBY 572  £1\,125.00 AA QUOYMORHOUSE\,SHAPINSAY 520  £1\,120.00 LIM UPPER HOBBISTER\,STENNESS 570  £1\,120.00 CHAR HALL OF TANKERNESS\,TANKERNESS 572  £1\,110.00 AA GARSON\,SANDWICK 525  £1\,100.00 CHAR WHITECLEAT\,TANKERNESS 540  £1\,090.00 CHAR PERTH\,WESTRAY 537  £1\,090.00 CHAR SKAILL\,SANDWICK 550  £1\,090.00 AA SKAILL\,SANDWICK 549  £1\,080.00 AA BINSCARTH\,FINSTOWN 520  £1\,075.00 CHAR LOPNESS\,SANDAY 498  £1\,065.00 CHAR WEST BURNSIDE\,TANKERNESS 475  £1\,060.00 LIM BRYAMEADOW\,TWATT 500  £1\,060.00 CHAR BRYAMEADOW\,TWATT 515  £1\,055.00 CHAR KARINYA\,DOUNBY 470  £1\,040.00 CHAR NETHERHILL\,TANKERNESS 500  £1\,040.00 LIM SOUTH BRECK\,FIRTH 555  £1\,040.00 BB SWANNAY FARM\,BY EVIE 507  £1\,035.00 SIM BIGGINGS\,RENDALL 495  £1\,035.00 LIM HOWE FARM\,HARRAY 470  £1\,020.00 CHAR MESSIGATE\,TANKERNESS 520  £1\,000.00 AA OTM Cattle were also sharper this week selling to 127.3 p/kg for a Limousin Cow scaling 715 kilos from J & M Cursiter\, Charleston\, Papay realising  £910. Top Price per head was  £1025 for a Limousin Cow scaling 885 kilos from R C McGuckan\, Lyking\, Sandwick. OTHER OTM PRICES PER HEAD LYKING\,SANDWICK 795  £920.00 SIM LYKING\,SANDWICK 900  £890.00 AA HUNTON\,STRONSAY 780  £860.00 LIM NOUP\,WESTRAY 780  £830.00 AA ODINESS\,STRONSAY 755  £810.00 AA HEATHER-COW-ROOT\,FLOTTA 670  £800.00 LIM MUCKLE POW\,EVIE 735  £800.00 SIM SKAILL\,ORPHIR 765  £800.00 AA WHITEHALL\,STRONSAY 710  £790.00 SIM FRUSTIGARTH\,SHAPINSAY 745  £790.00 SIM HOLLAND\,PAPA WESTRAY 790  £790.00 AA CHARLESTON\,PAPA WESTRAY 680  £780.00 LIM HOWE\,HARRAY 730  £780.00 SIM BIGGINGS\,RENDALL 700  £760.00 AA MOA\,STENNESS 720  £750.00 BB SUNNYBANK\,ST OLA 650  £700.00 SIM WEST BURNSIDE\,TANKERNESS 660  £680.00 LIM OTHER OTM PRICES PER KILO ODINESS\,STRONSAY 565  £680.00 120.4 ODINESS\,STRONSAY 485  £580.00 119.6 HEATHER-COW-ROOT\,FLOTTA 670  £800.00 119.4 WHITEHALL\,STRONSAY 610  £720.00 118 WHITEHALL\,STRONSAY 625  £730.00 116.8 LYKING\,SANDWICK 795  £920.00 115.7 CHARLESTON\,PAPA WESTRAY 680  £780.00 114.7 CHARLESTON\,PAPA WESTRAY 575  £650.00 113 NOUP\,WESTRAY 625  £710.00 113.6 LOWER BRECKQUOY\,HOLM 555  £630.00 113.5 WINDYWALLS\,WESTRAY 610  £680.00 111.5 WINDYWALLS\,WESTRAY 570  £630.00 110.5 HUNTON\,STRONSAY 780  £860.00 110.3 MUCKLE POW\,EVIE 735  £800.00 108.8 HAQUOY\,SHAPINSAY 635  £690.00 108.7 BIGGINGS\,RENDALL 700  £760.00 108.6 SUNNYBANK\,ST OLA 650  £700.00 107.7 HOWE FARM\,HARRAY 730  £780.00 106.8 SKAILL\,ORPHIR 725  £770.00 106.2 FRUSTIGARTH\,SHAPINSAY 745  £790.00 106
URL:https://orkneymart.com/event/cattle-sale-118/
CATEGORIES:Sales Report
END:VEVENT
BEGIN:VEVENT
DTSTART;TZID=Europe/London:20200120T000000
DTEND;TZID=Europe/London:20200120T000000
DTSTAMP:20260421T133846
CREATED:20231020T095248Z
LAST-MODIFIED:20231027T105538Z
UID:10000889-1579478400-1579478400@orkneymart.com
SUMMARY:Cattle & Sheep Sales
DESCRIPTION:Forward for sale on Monday were 7 Breeding Cattle\, 3 OTM Cattle\, 424 Prime Hoggs\, 183 Store Hoggs and 97 Cast Sheep.4 Simmental in-calf heifers averaged  £1542.50 and sold to  £1600 from A & F Clark\, Quoy-I-Dale\, Hoy.3 Bulling Simmental heifers averaged  £1216 and sold to  £1310 from A & F Clark\, Quoy-I-Dale\, Hoy.OTM Cattle sold to 135.3 p/kg for a Limousin cow scaling 665 kilos from B M & K A Mainland\, Cott\, Rousay realising  £900.Top price per head was  £1000 for an Aberdeen Angus cow scaling 850 kilos from B M & K A Mainland\, Cott\, Rousay.A good show of Prime Hoggs were sharper again this week selling to 212.7 p/kg for a pen of 5 Texels scaling 36.5 kilos from A Sclater\, Fea\, Orphir realising  £74.Top price per head was  £97.50 for a pair of Texels scaling 52 kilos from G & S Sinclair\, Moan\, Harray.OTHER LEADING PRICES PER KILOLITTLE CROFTY\,TANKERNESS 41.5 202.4  £84.00 BELTEXLITTLE CROFTY\,TANKERNESS 38 200  £76.00 TEXHOLLAND\,PAPA WESTRAY 41 201.2  £82.50 TEXBURNSIDE\,ORPHIR 46 200  £92.00 TEXPURTABRECK\,TOAB 39.5 200  £79.00 TEXLOPNESS\,SANDAY 47 200  £94.00 TEXLOPNESS\,SANDAY 42 198.8  £83.50 TEXMOAN\,HARRAY 44.5 198.9  £88.50 TEXTUQUOY\,WESTRAY 43 197.7  £85.00 TEXBRYAMEADOW\,TWATT 43 197.7  £85.00 TEXSEBAY\,TANKERNESS 42.5 196.5  £83.50 TEXSEBAY\,TANKERNESS 48 193.8  £93.00 TEXWEST BROUGH\,SANDAY 41 193.9  £79.50 TEXWEST BROUGH\,SANDAY 45 193.3  £87.00 TEXVIRGINIA\,STENNESS 40 193.8  £77.50 TEXSOUTH GREENIGOE\,ORPHIR 39 193.6  £75.50 TEXSUNNYBANK\,ST OLA 36 193.1  £69.50 SUFSUNNYBANK\,ST OLA 39.5 192.4  £76.00 TEXHOLLAND\,FIRTH 45.5 192.3  £87.50 TEXHAZEDALE\,PAPA WESTRAY 39 192.3  £75.00 SUFHAZEDALE\,PAPA WESTRAY 38 192.1  £73.00 TEXMILLHOUSE\,DEERNESS 37.5 192  £72.00 SUFMILLHOUSE\,DEERNESS 40 190  £76.00 SUFOAKLEA\,ST OLA 42 190.5  £80.00 TEX1 BOGIE HOUSES\,EVIE 37 190.5  £70.50 TEXHUAN\,SANDWICK 45.7 189.3  £86.50 TEXHUAN\,SANDWICK 47.2 188.6  £89.00 CHARBEAFIELD\,SANDAY 40 188.8  £75.50 TEXMOSSCLAIR\,TANKERNESS 46 187  £86.00 SUFMOSSCLAIR\,TANKERNESS 45 186.7  £84.00 TEXHEADS\,ST MARGARETS HOPE 41.5 186.7  £77.50 TEXSOUTH BRECK\,FIRTH 50 186  £93.00 TEXHEATHERCOW\,EDAY 45 185.6  £83.50 OTHERHEATHERCOW\,EDAY 41 185.4  £76.00 OTHEROTHER LEADING PRICE PER HEADLOPNESS\,SANDAY 50  £96.50 TEXLOPNESS\,SANDAY 47  £94.00 TEXHUAN\,SANDWICK 61  £95.50 CHARHUAN\,SANDWICK 52  £94.00 TEXVIRGINIA\,STENNESS 50.5  £95.00 TEXMOAN\,HARRAY 49  £94.50 TEXMOAN\,HARRAY 49.5  £93.00 TEXSEBAY\,TANKERNESS 50  £94.50 TEXSEBAY\,TANKERNESS 48  £93.00 TEXBURNSIDE\,ORPHIR 57.5  £94.50 SUFBURNSIDE\,ORPHIR 53  £94.00 SUFSUNNYBANK\,ST OLA 53.5  £94.00 TEXSOUTH BRECK\,FIRTH 50  £93.00 TEXBEAFIELD\,SANDAY 50  £91.50 TEXHEATHERCOW\,EDAY 51.5  £89.50 OTHERHOLLAND\,FIRTH 45.5  £87.50 TEXWEST BROUGH\,SANDAY 45  £87.00 TEXWEST BROUGH\,SANDAY 46  £87.00 SUFMOSSCLAIR\,TANKERNESS 46  £86.00 SUFTUQUOY\,WESTRAY 43  £85.00 TEXBRYAMEADOW\,TWATT 43  £85.00 TEXMOSSCLAIR\,TANKERNESS 45  £84.00 TEXA mixed show of Store Hoggs were again in demand selling to  £78 for a pen of 5 Texels from A Sclater\, Fea\, Orphir.OTHER LEADING STORE HOGGSGREENQUOY\,SOUTH RONALDSAY  £77.50 WHITEBEAFIELD\,SANDAY  £74.50 SUFOAKLEA\,ST OLA  £73.00 WHITESOUTH GREENIGOE\,ORPHIR  £69.00 WHITE1 BOGIE HOUSES\,EVIE  £67.50 WHITEHAZEDALE\,PAPA WESTRAY  £66.00 WHITEANDERSWICK\,STENNESS  £57.50 WHITEA Fantastic show of Cast Sheep were in very high demand and sold to  £148 for a Texel Ewe from C & C E B Leslie\, Lopness\, Sanday.OTHER CAST SHEEPHILLCREST\,QUOYLOO  £144.00 TEXTUQUOY\,WESTRAY  £142.00 TEXLOPNESS\,SANDAY  £136.00 TEXHUAN\,SANDWICK  £119.00 TEXHUAN\,SANDWICK  £112.00 SUFHUAN\,SANDWICK  £109.00 TEXRENNIBISTER\,KIRKWALL  £110.00 TEXTUQUOY\,WESTRAY  £103.00 TEXMOAN\,HARRAY  £101.00 TEXMOAN\,HARRAY  £97.00 TEXHEATHERCOW\,EDAY  £96.00 TEXVESTRAFIOLD\,SANDWICK  £93.00 WHITEHEADS\,ST MARGARETS HOPE  £89.00 CHEVPURTABRECK\,TOAB  £85.00 TEXCast Rams sold to  £112 for a Texel from J & C Scott\, Virginia\, Stenness.
URL:https://orkneymart.com/event/cattle-sheep-sales-78/
CATEGORIES:Sales Report
END:VEVENT
BEGIN:VEVENT
DTSTART;TZID=Europe/London:20200127T000000
DTEND;TZID=Europe/London:20200127T000000
DTSTAMP:20260421T133846
CREATED:20231020T095248Z
LAST-MODIFIED:20231027T105538Z
UID:10000888-1580083200-1580083200@orkneymart.com
SUMMARY:Cattle Sale
DESCRIPTION:Forward for sale on Monday were 8 Prime Cattle\, 9 Breeding Cattle\, 444 Store Cattle & 26 OTM Cattle. Prime Cattle sold to 214p/kg for a Limousin Heifer scaling 545 kilos from Laga s\, Evie realising  £1166. OTHER PRIME HEIFERS LAGA\,EVIE 630  £1\,323.00 210 LIMMIDBIGGING\,TOAB 655  £1\,336.00 204 SALCLOKE\,DOUNBY 635  £1\,282.00 202 SAL Breeding Cows sold to  £1680 for an In-Calf Limousin Cow from P & M Miller\, Haquoy\, Shapinsay. Bulling Heifers sold to  £1165 for a pair of Simmentals from J S Firth\, Langskaill\, Rousay. A Good show of mostly heavy cattle were sharper this week and were in strong demand. A small show of yearling cattle sold to excellent rates averaging over 230p/kg. 193 Store Steers averaged 211 p/kg and sold to 287.3 p/kg for a Limousin scaling 275 kilos from J R Stevenson\, Smoogarth\, Firth realising  £790. Top price per head was  £1330 for a Limousin scaling 670 kilos from J A G Walls\, New Moan\, Dounby. OTHER STEERS PER KILO NEWHALL\,STROMNESS 377  £990.00 262.6 CHARNEWHALL\,STROMNESS 398  £970.00 243.7 CHARSMOOGARTH\,FIRTH 335  £860.00 256.7 LIMSMOOGARTH\,FIRTH 357  £880.00 246.5 LIMBIGGINGS\,HOLM 440  £1\,040.00 236.4 CHARUPPER LINKLATER\,TWATT 470  £1\,095.00 233 CHARUPPER LINKLATER\,TWATT 470  £1\,085.00 230.9 CHARCLEAT\,STRONSAY 433  £995.00 229.8 SIMBRAEFOOT\,SHAPINSAY 496  £1\,140.00 229.8 LIMBRAEFOOT\,SHAPINSAY 470  £1\,070.00 227.7 LIMNOUP\,WESTRAY 495  £1\,120.00 226.3 CHARMIDLAND\,RENDALL 417  £945.00 226.6 SIMMIDLAND\,RENDALL 440  £990.00 225 CHARHEWAN\,SHAPINSAY 547  £1\,235.00 225.8 LIMHEWAN\,SHAPINSAY 517  £1\,155.00 223.4 LIMBALFOUR ESTATES\,SHAPINSAY 485  £1\,085.00 223.7 SALCRAIGHAVEN\,TOAB 450  £1\,000.00 222.2 LIMGARBO\,SANDAY 480  £1\,065.00 221.9 AALINKSNESS\,STRONSAY 470  £1\,040.00 221.3 CHARNORTH SKAILL\,SANDAY 485  £1\,070.00 220.6 CHARKIRBUSTER\,LONGHOPE 460  £1\,010.00 219.6 CHARBALFOUR ESTATES\,SHAPINSAY 512  £1\,120.00 218.8 CHARGORN\,SHAPINSAY 585  £1\,265.00 216.2 LIMGORN\,SHAPINSAY 540  £1\,165.00 215.7 LIMBRYAMEADOW \,TWATT 508  £1\,090.00 214.6 SIMNETHERTON\,HOLM 547  £1\,170.00 213.9 AANEW MOAN\,DOUNBY 575  £1\,220.00 212.2 LIMBLINKBONNY\,STRONSAY 555  £1\,175.00 211.7 AAHOW\,SANDAY 510  £1\,080.00 211.8 SIMHOW\,SANDAY 545  £1\,150.00 211 AABRAELAND\,SOUTH RONALDSAY 545  £1\,150.00 211 LIMBRAELAND\,SOUTH RONALDSAY 511  £1\,075.00 210.4 SIMHURTISO\,HOLM 518  £1\,090.00 210.4 LIMBIGGINGS\,RENDALL 497  £1\,045.00 210.3 SIM OTHER STEERS PER HEAD NEW MOAN\,DOUNBY 637  £1\,310.00 LIM ARION\,STROMNESS 660  £1\,305.00 CHAR ARION\,STROMNESS 650  £1\,300.00 CHAR BIGGINGS\,HOLM 620  £1\,285.00 CHAR CLOKE\,DOUNBY 640  £1\,280.00 SAL QUHOLMSLIE\,STROMNESS 650  £1\,270.00 CHAR BLINKBONNY\,STRONSAY 615  £1\,270.00 AA SKAILL\,ORPHIR 623  £1\,270.00 AA GORN\,SHAPINSAY 585  £1\,265.00 LIM HEWAN\,SHAPINSAY 547  £1\,235.00 LIM CAMPSTON\,TOAB 640  £1\,230.00 CHAR CAMPSTON\,TOAB 591  £1\,225.00 AA BALFOUR ESTATES\,SHAPINSAY 610  £1\,195.00 SAL BRAELAND\,SOUTH RONALDSAY 590  £1\,190.00 AA HURTISO\,HOLM 590  £1\,190.00 LIM BIGGINGS\,RENDALL 572  £1\,180.00 SIM NETHERTON\,HOLM 547  £1\,170.00 AA UPPER LINKLATER\,TWATT 555  £1\,170.00 CHAR RAMSQUOY\,STENNESS 570  £1\,170.00 LIM BALFOUR ESTATES\,SHAPINSAY 555  £1\,160.00 CHAR HOW\,SANDAY 600  £1\,160.00 SIM NESS \,WESTRAY 550  £1\,155.00 SIM NISTAGAR\,HARRAY 575  £1\,150.00 CHAR BRAEFOOT\,SHAPINSAY 523  £1\,145.00 CHAR BRAEFOOT\,SHAPINSAY 496  £1\,140.00 LIM NOUP\,WESTRAY 550  £1\,140.00 CHAR LOWER CORNQUOY\,HOLM 545  £1\,120.00 CHAR GARBO\,SANDAY 513  £1\,105.00 AA NETHERHILL\,TANKERNESS 545  £1\,100.00 LIM BRYAMEADOW \,TWATT 508  £1\,090.00 SIM NORTH SKAILL\,SANDAY 485  £1\,070.00 CHAR CLEAT\,STRONSAY 470  £1\,050.00 SIM KIRBUSTER\,LONGHOPE 505  £1\,040.00 AA SOUTH BRECK\,FIRTH 540  £1\,040.00 BB LINKSNESS\,STRONSAY 470  £1\,040.00 CHAR 251 Store Heifers averaged 207 p/kg and sold to 262 p/kg for a Limousin scaling 255 kilos from J R Stevenson\, Smoogarth\, Firth realising  £670. Top price per head was  £1280 for an Aberdeen Angus scaling 535 kilos from A & A Foubister\, Netherton\, Holm and for a pair of Aberdeen Angus scaling 607 kilos from E S H Harcus\, Quanterness\, St Ola. OTHER HEIFERS PER KILO NETHERTON\,HOLM 535  £1\,280.00 239.3 AABALFOUR ESTATES\,SHAPINSAY 460  £1\,075.00 233.7 CHARNEWHALL\,STROMNESS 407  £940.00 231 CHARHUIP\,STRONSAY 465  £1\,065.00 229 CHARHEWAN\,SHAPINSAY 490  £1\,120.00 228.6 LIMARWICK\,EVIE 480  £1\,090.00 227.1 LIMGORN\,SHAPINSAY 495  £1\,120.00 226.3 LIMNETHERHILL\,TANKERNESS 460  £1\,035.00 225 LIMARION\,STROMNESS 475  £1\,070.00 225.3 LIMARION\,STROMNESS 490  £1\,090.00 222.4 LIMBIGGINGS\,HOLM 485  £1\,070.00 220.6 CHARWHITECLEAT\,TANKERNESS 455  £1\,000.00 219.8 LIMHURTISO\,HOLM 470  £1\,030.00 219.1 LIMLINKSNESS\,STRONSAY 495  £1\,080.00 218.2 CHARNOUP\,WESTRAY 430  £940.00 218.6 CHARNOUP\,WESTRAY 497  £1\,080.00 217.3 CHARBRYAMEADOW \,TWATT 498  £1\,085.00 217.9 CHARBRYAMEADOW \,TWATT 497  £1\,065.00 214.3 LIMKIRBUSTER\,LONGHOPE 420  £910.00 216.7 LIMSOUTH BRECK\,FIRTH 490  £1\,060.00 216.3 LIMLOWER CORNQUOY\,HOLM 475  £1\,025.00 215.8 CHARRAMSQUOY\,STENNESS 500  £1\,070.00 214 CHARWATTLE\,BIRSAY 565  £1\,205.00 213.3 SIMNORTH SKAILL\,SANDAY 440  £935.00 212.5 CHARQUANTERNESS\,ST OLA 607  £1\,280.00 210.9 AATUQUOY\,WESTRAY 522  £1\,095.00 209.8 CHARGARBO\,SANDAY 570  £1\,190.00 208.8 AASEATTERSQUOY\,STENNESS 527  £1\,100.00 208.7 CHARBIGGINGS\,RENDALL 440  £915.00 208 SIMSEATTERSQUOY\,STENNESS 565  £1\,170.00 207.1 CHARNISTAGAR\,HARRAY 570  £1\,185.00 207.9 SIMWESTFIELD\,STROMNESS 540  £1\,120.00 207.4 LIMEASTERBISTER\,HOLM 575  £1\,190.00 207 CHARNESS \,WESTRAY 535  £1\,100.00 205.6 CHARQUHOLMSLIE\,STROMNESS 528  £1\,080.00 204.5 LIM OTHER HEIFERS PER HEAD HURTISO\,HOLM 660  £1\,250.00 CHAR MOA\,STENNESS 650  £1\,245.00 LIM QUANTERNESS\,ST OLA 610  £1\,240.00 AA ARION\,STROMNESS 632  £1\,230.00 CHAR BLINKBONNY\,STRONSAY 620  £1\,230.00 AA EASTERBISTER\,HOLM 592  £1\,220.00 CHAR WATTLE\,BIRSAY 592  £1\,220.00 LIM GARBO\,SANDAY 570  £1\,190.00 AA NISTAGAR\,HARRAY 570  £1\,185.00 SIM NETHERTON\,HOLM 530  £1\,180.00 AA SEATTERSQUOY\,STENNESS 565  £1\,170.00 CHAR TUQUOY\,WESTRAY 567  £1\,160.00 CHAR BALFOUR ESTATES\,SHAPINSAY 535  £1\,150.00 CHAR GORN\,SHAPINSAY 517  £1\,140.00 LIM ARWICK\,EVIE 522  £1\,140.00 LIM NESS \,WESTRAY 547  £1\,130.00 CHAR BIGGINGS\,RENDALL 570  £1\,125.00 SIM BIGGINGS\,HOLM 545  £1\,120.00 SIM WESTFIELD\,STROMNESS 540  £1\,120.00 LIM HEWAN\,SHAPINSAY 490  £1\,120.00 LIM SOUTH BRECK\,FIRTH 530  £1\,110.00 LIM NORTH SKAILL\,SANDAY 527  £1\,090.00 CHAR BRYAMEADOW \,TWATT 498  £1\,085.00 CHAR NOUP\,WESTRAY 497  £1\,080.00 CHAR QUHOLMSLIE\,STROMNESS 528  £1\,080.00 LIM LINKSNESS\,STRONSAY 495  £1\,080.00 CHAR RAMSQUOY\,STENNESS 500  £1\,070.00 CHAR HUIP\,STRONSAY 465  £1\,065.00 CHAR LOWER CORNQUOY\,HOLM 510  £1\,050.00 LIM NETHERHILL\,TANKERNESS 460  £1\,035.00 LIM KIRBUSTER\,LONGHOPE 475  £1\,015.00 CHAR WHITECLEAT\,TANKERNESS 490  £1\,005.00 LIM A more leaner show of OTM cattle were much dearer this week selling to tremendous rates. OTM Cattle sold to a top of 193.3 p/kgt for a pair of Charolais Steers scaling 600 kilos from M D A Sinclair\, How\, Sanday realising  £1160. Top price per head was  £1080 for a Simmental Cow scaling 865 kilos from N & A Kemp\, Moa\, Stenness. OTHER OTM PER KILO BALFOUR ESTATES\,SHAPINSAY 640  £910.00 142.2 LIMSKAILL\,WESTRAY 655  £860.00 131.3 SIMBLINKBONNY\,STRONSAY 675  £880.00 130.4 SIMHUIP\,STRONSAY 620  £790.00 127.4 SIMLOWER CORNQUOY\,HOLM 600  £760.00 126.7 AAMOA\,STENNESS 865  £1\,080.00 124.9 SIMVIRGINIA\,STENNESS 650  £800.00 123.1 AASANDWICK HOUSE\,SOUTH RONALDSAY 650  £780.00 120 CHARCASTLE\,STROMNESS 650  £775.00 119.2 LIMNESS \,WESTRAY 665  £780.00 117.3 SIMAPPIETOWN\,RENDALL 555  £650.00 117.1 OTHBIGGINGS\,RENDALL 685  £790.00 115.3 SHPURTABRECK\,TOAB 530  £610.00 115.1 LIM OTHER OTM PER HEAD BALFOUR ESTATES\,SHAPINSAY 825  £1\,010.00 SAL VIRGINIA\,STENNESS 760  £890.00 AA BLINKBONNY\,STRONSAY 675  £880.00 SIM SKAILL\,WESTRAY 655  £860.00 SIM VIRGINIA\,STENNESS 750  £810.00 AA
URL:https://orkneymart.com/event/cattle-sale-117/
CATEGORIES:Sales Report
END:VEVENT
END:VCALENDAR