BEGIN:VCALENDAR
VERSION:2.0
PRODID:-//Orkney Auction Mart - ECPv6.15.17.1//NONSGML v1.0//EN
CALSCALE:GREGORIAN
METHOD:PUBLISH
X-WR-CALNAME:Orkney Auction Mart
X-ORIGINAL-URL:https://orkneymart.com
X-WR-CALDESC:Events for Orkney Auction Mart
REFRESH-INTERVAL;VALUE=DURATION:PT1H
X-Robots-Tag:noindex
X-PUBLISHED-TTL:PT1H
BEGIN:VTIMEZONE
TZID:Europe/London
BEGIN:DAYLIGHT
TZOFFSETFROM:+0000
TZOFFSETTO:+0100
TZNAME:BST
DTSTART:20180325T010000
END:DAYLIGHT
BEGIN:STANDARD
TZOFFSETFROM:+0100
TZOFFSETTO:+0000
TZNAME:GMT
DTSTART:20181028T010000
END:STANDARD
BEGIN:DAYLIGHT
TZOFFSETFROM:+0000
TZOFFSETTO:+0100
TZNAME:BST
DTSTART:20190331T010000
END:DAYLIGHT
BEGIN:STANDARD
TZOFFSETFROM:+0100
TZOFFSETTO:+0000
TZNAME:GMT
DTSTART:20191027T010000
END:STANDARD
BEGIN:DAYLIGHT
TZOFFSETFROM:+0000
TZOFFSETTO:+0100
TZNAME:BST
DTSTART:20200329T010000
END:DAYLIGHT
BEGIN:STANDARD
TZOFFSETFROM:+0100
TZOFFSETTO:+0000
TZNAME:GMT
DTSTART:20201025T010000
END:STANDARD
END:VTIMEZONE
BEGIN:VEVENT
DTSTART;TZID=Europe/London:20191104T000000
DTEND;TZID=Europe/London:20191104T000000
DTSTAMP:20260421T160738
CREATED:20231020T095558Z
LAST-MODIFIED:20231027T105537Z
UID:10000908-1572825600-1572825600@orkneymart.com
SUMMARY:Cattle Sale
DESCRIPTION:Forward for sale on Monday were 12 Prime\, 257 Store & 27 OTM Cattle.Prime Cattle sold to 208 p/kg for a Saler Steer scaling 655 kilos from Groat\, Cloke\, Dounby realising  £1362.40 purchased by Williamsons.Prime Heifers sold to 201 p/kg for an Aberdeen Angus scaling 545 kilos from J & R Stanger\, South Seatter\, Sandwick realising  £1095.45 purchased by Donaldsons Butchers.Store Cattle were well sought after with mostly heavy cattle forward. Short keep cattle increased in value and were keenly bid on.161 Store Steers sold to 224.7 p/kg for a Limousin scaling 445 kilos from R J & J L Gaudie\, Netherskaill\, Birsay realising  £1000.Top price per head for steers was  £1180 for a pen of 3 Aberdeen Angus scaling 590 kilos from J & M Dearness\, Knowe\, Sanday.OTHER STORE STEERSBINSCARTH\,FINSTOWN 562  £1\,090.00 194 AABINSCARTH\,FINSTOWN 554  £1\,080.00 194.9 AABINSCARTH\,FINSTOWN 552  £1\,065.00 192.9 AAHACKLAND\,DOUNBY 535  £1\,020.00 190.7 AAKNOWE\,SANDAY 550  £1\,110.00 201.8 AAKNOWE\,SANDAY 548  £1\,100.00 200.7 AAQUOYS\,DEERNESS 455  £960.00 211 SIMHURTISO\,HOLM 592  £1\,145.00 193.4 SIMHURTISO\,HOLM 591  £1\,095.00 185.3 CHARHURTISO\,HOLM 538  £1\,080.00 200.7 LIMHURTISO\,HOLM 540  £1\,075.00 199.1 LIMHURTISO\,HOLM 541  £1\,040.00 192.2 SIMHURTISO\,HOLM 522  £1\,035.00 198.3 LIMNETHERSKAILL\,BIRSAY 525  £1\,075.00 204.8 LIMNETHERSKAILL\,BIRSAY 520  £1\,070.00 205.8 CHARNETHERSKAILL\,BIRSAY 500  £1\,060.00 212 SIMDENWICK\,DEERNESS 365  £800.00 219.2 BBDENWICK\,DEERNESS 330  £720.00 218.2 LIMBRYAMEADOW\,TWATT 540  £1\,115.00 206.5 LIMBRYAMEADOW\,TWATT 532  £1\,070.00 201.1 CHARBRYAMEADOW\,TWATT 532  £1\,060.00 199.2 CHARSWANNAY FARM\,BY EVIE 565  £1\,075.00 190.3 BBSWANNAY FARM\,BY EVIE 581  £1\,070.00 184.2 SIMBARNS OF AYRE\,DEERNESS 590  £1\,130.00 191.5 AABARNS OF AYRE\,DEERNESS 560  £1\,115.00 199.1 AABARNS OF AYRE\,DEERNESS 555  £1\,090.00 196.4 AABIGGINGS\,RENDALL 520  £995.00 191.3 LIMGREENOCK\,TANKERNESS 520  £970.00 186.5 SIM96 Store Heifers sold to 206.6 p/kg for a Limousin scaling 530 kilos from K & K Morgan\, Swannay Farm\, Swannay realising  £1095.Top price per head was  £1190 for a Limousin scaling 615 kilos from K & K Morgan\, Swannay Farm\, Swannay.OTHER STORE HEIFERSSEBAY VIEW\,TANKERNESS 530  £1\,085.00 204.7 CHARBINSCARTH\,FINSTOWN 535  £990.00 185 AABINSCARTH\,FINSTOWN 520  £985.00 189.4 AAQUOYS\,DEERNESS 480  £900.00 187.5 SIMQUOYS\,DEERNESS 470  £890.00 189.4 SIMHURTISO\,HOLM 575  £1\,120.00 194.8 CHARHURTISO\,HOLM 566  £1\,100.00 194.3 CHARHURTISO\,HOLM 560  £1\,090.00 194.6 BLNDWESTSHORE\,RENDALL 460  £855.00 185.9 AANETHERSKAILL\,BIRSAY 540  £1\,100.00 203.7 CHARNETHERSKAILL\,BIRSAY 520  £1\,040.00 200 SIMNETHERSKAILL\,BIRSAY 505  £1\,000.00 198 AANAVERSDALE\,ORPHIR 500  £870.00 174 SIMCRAIGHAVEN\,TOAB 465  £865.00 186 SIMSWANNAY FARM\,BY EVIE 595  £1\,155.00 194.1 CHARSWANNAY FARM\,BY EVIE 581  £1\,145.00 197.1 CHARSWANNAY FARM\,BY EVIE 560  £1\,125.00 200.9 SIMSWANNAY FARM\,BY EVIE 551  £1\,110.00 201.5 LIMSWANNAY FARM\,BY EVIE 530  £1\,095.00 206.6 LIMSWANNAY FARM\,BY EVIE 545  £1\,095.00 200.9 CHARRAMRAY\,GRAEMSAY 482  £930.00 192.9 AANORTHBANK\,ST OLA 590  £1\,040.00 176.3 CHARNETHERHILL\,TANKERNESS 460  £940.00 204.3 LIMMIDHOUSE\,HARRAY 420  £790.00 188.1 SIMBIGGINGS\,RENDALL 535  £1\,055.00 197.2 LIMBIGGINGS\,RENDALL 510  £1\,005.00 197.1 LIMRENNIBISTER\,KIRKWALL 520  £925.00 177.9 SIMOTM Cattle sold to 114.3 p/kg for a Charolais Cow scaling 840 kilos from Johnston & Son\, Scuan\, Stenness realising  £960.OTHER OTM COWS BACKALAND\,EDAY 890  £960.00 107.9 AAFEA\,HOLM 775  £830.00 107.1 AANORTHFIELD\,BURRAY 780  £820.00 105.1 AABROCKAN\,STROMNESS 795  £840.00 105.7 SIMBROCKAN\,STROMNESS 710  £755.00 106.3 SIMBROCKAN\,STROMNESS 710  £750.00 105.6 AAHOLLAND\,PAPA WESTRAY 695  £790.00 113.7 AAMOUSELAND\,STROMNESS 670  £750.00 111.9 SIMSTAYE\,DEERNESS 670  £740.00 110.4 SIMNAVERSDALE\,ORPHIR 800  £735.00 91.9 CONT OTM BULLS SCUAN\,STENNESS 1130  £1\,190.00 105.3 CHARHOBBISTER\,ORPHIR 1080  £1\,125.00 104.2 SHHANNATOFT\,SHAPINSAY 1090  £1\,100.00 100.9 AA
URL:https://orkneymart.com/event/cattle-sale-123/
CATEGORIES:Sales Report
END:VEVENT
BEGIN:VEVENT
DTSTART;TZID=Europe/London:20191111T000000
DTEND;TZID=Europe/London:20191111T000000
DTSTAMP:20260421T160738
CREATED:20231020T095544Z
LAST-MODIFIED:20231027T105537Z
UID:10000905-1573430400-1573430400@orkneymart.com
SUMMARY:Cattle Sale
DESCRIPTION:Forward for sale on Monday were 9 Prime Cattle\, 14 Breeding Cattle\, 36 Store Cattle & 29 OTM Cattle. Prime Cattle sold to 224 p/kg for a Limousin Heifer scaling 560 kilos from R & J Johnston\, Hewan\, Shapinsay realising  £1254.40 purchased by E Flett. OTHER PRIME HEIFERS MUCE\,BIRSAY 595  £1\,291.15 217 BBDRYDALE\,STROMNESS 575  £1\,242.00 216 LIMSKELDAY\,DOUNBY 680  £1\,278.40 188 SAL Prime Steers sold to 204 p/kg for a Limousin scaling 665 kilos from J & R Stanger\, South Seatter\, Sandwick realising  £1356.60 purchased by Williamsons. A Consignment of 14 In-Calf cows from S & V Rendall\, Farrivald\, Westray sold to  £1380 for a Limousin Cow In-calf to the Charolais Bull. Store Catle again sold to high rates with mostly non assured cattle forward. Store Steers sold to 195.9 p/kg for a Charolais scaling 485 kilos from A & A Hourston\, Cott\, Papay realising  £950. Top price per head was  £1100 for a Shorthorn scaling 605 kilos from G & M Anderton\, Harrabrough\, South Ronaldsay. Store Heifers sold to  £980 for a Charolias scaling 520 kilos from A & A Hourston\, Cott\, Papay. OTM Cattle sold to 117.6 p/kg for a Limousin Cow scaling 510 kilos from W I & D Shearer\, Airy\, Stronsay realising  £600. Top price per head was  £940 for an Aberdeen Angus Cow scaling 830 kilos from J I Deyell\, Vincoin\, North Ronaldsay. OTHER OTM COWS VINCOIN\,NORTH RONALDSAY 810  £925.00 114.2 AAVINCOIN\,NORTH RONALDSAY 760  £880.00 115.8 AAWHITEHOW\,PAPA WESTRAY 785  £860.00 109.6 AAWHITEHOW\,PAPA WESTRAY 685  £790.00 115.3 LIMAIRY\,STRONSAY 730  £830.00 113.7 LIMAIRY\,STRONSAY 745  £820.00 110.1 LIMCOTT\,PAPA WESTRAY 725  £830.00 114.5 LIMCOTT\,PAPA WESTRAY 685  £800.00 116.8 BBPURTABRECK\,NORTH RONALDSAY 725  £825.00 113.8 AAPURTABRECK\,NORTH RONALDSAY 700  £800.00 114.3 AAMEADOWBANK\,WESTRAY 715  £790.00 110.5 AAMEADOWBANK\,WESTRAY 685  £750.00 109.5 CHARWHITECLEAT\,TANKERNESS 690  £775.00 112.3 LIMNETHERHILL\,TANKERNESS 705  £745.00 105.7 SIMFLOSS\,WESTRAY 730  £710.00 97.3 FRI OTM BULLS PURTABRECK\,NORTH RONALDSAY 1020  £1\,050.00 102.9 AAVETQUOY\,TWATT 1170  £1\,190.00 101.7 AA
URL:https://orkneymart.com/event/cattle-sale-122/
CATEGORIES:Sales Report
END:VEVENT
BEGIN:VEVENT
DTSTART;TZID=Europe/London:20191118T000000
DTEND;TZID=Europe/London:20191118T000000
DTSTAMP:20260421T160738
CREATED:20231020T095529Z
LAST-MODIFIED:20231027T105537Z
UID:10000902-1574035200-1574035200@orkneymart.com
SUMMARY:Cattle Sale
DESCRIPTION:Forward for sale on Monday were 11 Prime Cattle\, 12 Store Cattle & 19 OTM Cattle. Prime Cattle sold to 220 p/kg for a Limousin Heifer scaling 570 kilos from R & J Johnston\, Hewan\, Shapinsay realising  £1254 purchased by E Flett. OTHER PRIME HEIFERS SOUTH BRECK\,FIRTH 590  £1\,233.10 209 LIMCLOKE\,DOUNBY 520  £1\,050.40 202 SALHOLLAND\,FIRTH 590  £1\,185.90 201 LIM Prime Steers sold to 211 p/kg for a Limousin scaling 625 kilos from Groat\, Cloke\, Dounby realising  £1318.75 purchased by Craigies. OTHER PRIME STEERS SOUTH SEATTER\,SANDWICK 700  £1\,442.00 206 LIM A small mixed show of store cattle sold to  £940 for a Simmental Steer scaling 530 kilos from I D Sinclair\, Heads\, South Ronaldsay. OTM Cattle sold to 114.5 p/kg for a Limousin Cow scaling 585 kilos from J & M Cursiter\, Charleston\, Papay. Top price per head was  £855 for an Aberdeen Angus Cow scaling 785 kilos from K & S Meason\, Frustigarth\, Shapinsay. OTHER OTM COWS CHARLESTON\,PAPA WESTRAY 805  £850.00 105.6 AAKIRBIST\,NORTH RONALDSAY 805  £830.00 103.1 AAKIRKBRAE\,WESTRAY 795  £835.00 105 SIMKIRKBRAE\,WESTRAY 785  £815.00 103.8 SIMAPPIEHOUSE\,STENNESS 705  £790.00 112.1 LIMHOLLAND\,PAPA WESTRAY 720  £770.00 106.9 AAHOLLAND\,PAPA WESTRAY 635  £710.00 111.8 AAHANOVER\,SANDAY 700  £735.00 105 BBHOUSEGARTH\,QUOYLOO 695  £710.00 102.2 AABRIARLEA\,STRONSAY 695  £705.00 101.4 AA
URL:https://orkneymart.com/event/cattle-sale-121/
CATEGORIES:Sales Report
END:VEVENT
BEGIN:VEVENT
DTSTART;TZID=Europe/London:20191125T000000
DTEND;TZID=Europe/London:20191125T000000
DTSTAMP:20260421T160738
CREATED:20231020T095528Z
LAST-MODIFIED:20231027T105538Z
UID:10000899-1574640000-1574640000@orkneymart.com
SUMMARY:Cattle Sale
DESCRIPTION:Forward for sale on Monday were 9 Prime Cattle & 9 OTM Cattle. Prime Cattle sold to 226 p/kg for a Limousin Heifer scaling 540 kilos from G T & S Coghill\, Muce\, Birsay realising  £1220.40 purchased by E Flett. OTHER PRIME HEIFERS HOWE\,HARRAY 585  £1\,287.00 220 LIMNORTHBIGGING\,DOUNBY 550  £1\,166.00 212 CHCLOKE\,DOUNBY 580  £1\,206.40 208 LIM Prime Steers sold to 215 p/kg for a Limousin scaling 625 kilos from Groat\, Cloke\, Dounby realising  £1343.75 purchased by Craigies. OTHER PRIME STEERS NORTHBIGGING\,DOUNBY 545  £1\,106.35 203 STAB OTM Cattle sold to 128.6 p/kg for an Aberdeen Angus scaling 560 kilos from J & M Dearness\, Knowe\, Sanday realising  £720. OTHER OTM COWS CAVIT\,WYRE 865  £945.00 109.2 CHMOUSELAND\,STROMNESS 705  £770.00 109.2 SIMKNOWE\,SANDAY 745  £101.30 755 AA
URL:https://orkneymart.com/event/cattle-sale-120/
CATEGORIES:Sales Report
END:VEVENT
END:VCALENDAR