BEGIN:VCALENDAR
VERSION:2.0
PRODID:-//Orkney Auction Mart - ECPv6.15.17.1//NONSGML v1.0//EN
CALSCALE:GREGORIAN
METHOD:PUBLISH
X-ORIGINAL-URL:https://orkneymart.com
X-WR-CALDESC:Events for Orkney Auction Mart
REFRESH-INTERVAL;VALUE=DURATION:PT1H
X-Robots-Tag:noindex
X-PUBLISHED-TTL:PT1H
BEGIN:VTIMEZONE
TZID:Europe/London
BEGIN:DAYLIGHT
TZOFFSETFROM:+0000
TZOFFSETTO:+0100
TZNAME:BST
DTSTART:20180325T010000
END:DAYLIGHT
BEGIN:STANDARD
TZOFFSETFROM:+0100
TZOFFSETTO:+0000
TZNAME:GMT
DTSTART:20181028T010000
END:STANDARD
BEGIN:DAYLIGHT
TZOFFSETFROM:+0000
TZOFFSETTO:+0100
TZNAME:BST
DTSTART:20190331T010000
END:DAYLIGHT
BEGIN:STANDARD
TZOFFSETFROM:+0100
TZOFFSETTO:+0000
TZNAME:GMT
DTSTART:20191027T010000
END:STANDARD
BEGIN:DAYLIGHT
TZOFFSETFROM:+0000
TZOFFSETTO:+0100
TZNAME:BST
DTSTART:20200329T010000
END:DAYLIGHT
BEGIN:STANDARD
TZOFFSETFROM:+0100
TZOFFSETTO:+0000
TZNAME:GMT
DTSTART:20201025T010000
END:STANDARD
END:VTIMEZONE
BEGIN:VEVENT
DTSTART;TZID=Europe/London:20191007T000000
DTEND;TZID=Europe/London:20191007T000000
DTSTAMP:20260421T172926
CREATED:20231020T100000Z
LAST-MODIFIED:20231027T105537Z
UID:10000922-1570406400-1570406400@orkneymart.com
SUMMARY:Cattle Sale
DESCRIPTION:Forward for sale on Monday were 5 Prime Cattle\, 121 Store Cattle & 14 OTM’s. Prime Cattle sold to 208 p/kg for a Simmental Steer scaling 560 kilos from W S Garson\, Huan\, Sandwick realising  £1164.80 purchased by Donaldsons Butcher and also for a Saler Steer scaling 580 kilos from Groat\, Cloke\, Dounby realising  £1206.40 purchased by E Flett & Co. A very mixed show of store cattle were cheaper in the week but sold well to recent rates with stronger cattle in big demand. 52 Store Steers averaged 187 p/kg and sold to a top of 210.6 p/kg for a pair of Charolais scaling 470 kilos from R Rendall\, Dogtoo\, Westray realising  £990. Top price per head was  £1140 for a Limousin scaling 585 kilos from J & C Gray\, Dalvenna\, St Ola. Other Store Steers UPPER LINKLATER\,TWATT 615  £1\,120.00 182.1 CHARSCUAN\,STENNESS 486  £980.00 201.6 CHARSCUAN\,STENNESS 500  £990.00 198 CHARQUHOLMSLIE\,STROMNESS 496  £1\,025.00 206.7 LIMQUHOLMSLIE\,STROMNESS 500  £1\,035.00 207 CHARFRIBO\,WESTRAY 460  £915.00 198.9 CHARFRIBO\,WESTRAY 465  £930.00 200 CHARBERRIEDALE\,WESTRAY 505  £1\,000.00 198 CHARBERRIEDALE\,WESTRAY 465  £945.00 203.2 CHARDOGTOO\,WESTRAY 510  £1\,000.00 196.1 CHARDOGTOO\,WESTRAY 525  £1\,030.00 196.2 CHARPATIENCE\,WESTRAY 585  £1\,090.00 186.3 CHARPATIENCE\,WESTRAY 555  £1\,105.00 199.1 AA 69 Store Heifers averaged 184 p/kg and sold to 219.6 p/kg for a Limousin scaling 460 kilos from J & C Gray\, Dalvenna\, St Ola realising  £1010. Top price per head was  £1160 for a pair of Charolais scaling 600 kilos from J W Laughton and Son\, Easterbister\, Holm. Other Store Heifers AIRY\,STRONSAY 565  £1\,075.00 190.3 AAAIRY\,STRONSAY 498  £960.00 192.8 AADALVENNA\,ST OLA 575  £1\,070.00 186.1 BBBACKALAND\,EDAY 525  £935.00 178.1 AABACKALAND\,EDAY 475  £880.00 185.3 AAFRIBO\,WESTRAY 482  £960.00 199.2 CHARSUNNYBANK\,ST OLA 440  £850.00 193.2 CHARDOGTOO\,WESTRAY 452  £920.00 203.5 CHARPATIENCE\,WESTRAY 535  £985.00 184.1 CHAR OTM Cattle sold to 116.7 p/kg for an Aberdeen Angus cow scaling 600 kilos from R Rendall\, Dogtoo\, Westray realising  £700.
URL:https://orkneymart.com/event/cattle-sale-128/
CATEGORIES:Sales Report
END:VEVENT
BEGIN:VEVENT
DTSTART;TZID=Europe/London:20191014T000000
DTEND;TZID=Europe/London:20191014T000000
DTSTAMP:20260421T172926
CREATED:20231020T095959Z
LAST-MODIFIED:20231027T105537Z
UID:10000918-1571011200-1571011200@orkneymart.com
SUMMARY:Cattle Sale
DESCRIPTION:Forward for sale on Monday were 7 Prime Cattle\, 104 Store Cattle & 43 OTMs. Prime Cattle sold to 211 p/kg for a Saler Heifer scaling 615 kilos from G T & S Coghill\, Muce\, Birsay realising  £1297.65 purchased by Williamsons Butchers. OTHER PRIME HEIFERS MUCE\,BIRSAY 605  £1\,276.55 211 SALDRYDALE\,STROMNESS 610  £1\,232.20 202 SIM Prime Steers sold to 209 p/kg for an Aberdeen Angus scaling 545 kilos from J & R Stanger\, South Seatter\, Sandwick purchased by Craigies Butchers. OTHER PRIME STEERS DRYDALE\,STROMNESS 545  £1\,111.80 204 SIMSOUTH SEATTER\,SANDWICK 680  £1\,360.00 200 CHAR A mixed show of store cattle were sharper this week with all weights in demand. 60 Scotch Assured Steers averaged 192p and 7 Non-Assured Steers averaged 176p. Store Steers sold to 220 p/kg for a Limousin scaling 455 kilos from R & G Brown\, Newhall\, Stromness realising  £1000. Top price per head was  £1070 for a pen of Five Aberdeen Angus scaling 541 kilos from W I & D Shearer\, Airy\, Stronsay. OTHER STORE STEERS UPPERFIELD\,ST OLA 490  £980.00 200 LIMNEWHALL\,STROMNESS 455  £1\,000.00 220 LIMNEWHALL\,STROMNESS 445  £930.00 209 LIMAIRY\,STRONSAY 510  £1\,045.00 204.9 LIMAIRY\,STRONSAY 520  £1\,035.00 199 AAHEADS\,ST MARGARETS HOPE 510  £1\,035.00 202.9 LIMHEADS\,ST MARGARETS HOPE 485  £980.00 202.1 SIMHEADS\,ST MARGARETS HOPE 495  £1\,005.00 203 LIMMOAN\,FIRTH 565  £1\,030.00 182.3 SIMSCUAN\,STENNESS 427  £850.00 199.1 CHARSEATTER\,STROMNESS 430  £850.00 197.7 CHARSEATTER\,STROMNESS 445  £870.00 195.5 SIMNORTHFIELD\,BURRAY 488  £950.00 194.7 AANORTHFIELD\,BURRAY 520  £990.00 190.4 AABU OF HOY\,HOY 545  £1\,030.00 189 AAINKERMAN\,SANDAY 425  £795.00 187.1 OTHINKERMAN\,SANDAY 460  £835.00 181.5 OTHBALLARAT\,HARRAY 385  £720.00 187 SH 27 Scotch Assured Heifers averaged 189p and 10 Non-Assured Heifers averaged 165p. Store Heifers sold to 218.4 p/kg for a pair of Limousins scaling 435 kilos from A A & L McAdie\, Aikers\, Tankerness realising  £950. Top price per head was  £1060 for an Aberdeen Angus scaling 570 kilos from Appietown Farms\, Rendall. OTHER STORE HEIFERS AIKERS\,TANKERNESS 485  £1\,000.00 206.2 LIMHOLLAND\,SOUTH RONALDSAY 500  £1\,005.00 201 SIMHEADS\,ST MARGARETS HOPE 500  £960.00 192 SIMMOAN\,FIRTH 500  £950.00 190 LIMMOAN\,FIRTH 410  £810.00 197.6 LIMUPPERFIELD\,ST OLA 465  £880.00 189.2 LIMSEATTER\,STROMNESS 410  £795.00 193.9 CHARSEATTER\,STROMNESS 400  £785.00 196.3 CHAR OTM Cattle sold to 116.9 p/kg for a Limousin Cow scaling 680 kilos from Bremner Partners\, Backaland\, Eday realising  £795. Top price per head was  £990 for an Aberdeen Angus cow scaling 860 kilos from Sutherland\, Bachylis\, Orphir. OTHER OTM COWS QUOY-I-DALE\,HOY 825  £920.00 111.5 SIMBLINKBONNY\,STRONSAY 825  £900.00 109.1 SIMBLINKBONNY\,STRONSAY 770  £845.00 109.7 SIMSKAILL\,ORPHIR 790  £875.00 110.8 AASKAILL\,ORPHIR 770  £845.00 109.7 AAWHITEHALL\,STRONSAY 780  £855.00 109.6 SIMBACKALAND\,EDAY 760  £835.00 109.9 AABACKALAND\,EDAY 750  £830.00 110.7 CHARKIRKBRAE\,WESTRAY 745  £845.00 113.4 SIMKIRKBRAE\,WESTRAY 745  £810.00 108.7 SIMHOLLAND\,FIRTH 735  £825.00 112.2 SIMHOLLAND\,FIRTH 715  £785.00 109.8 SIMNESS\,SANDWICK 680  £730.00 107.4 SIMBRANSTANE\,WESTRAY 670  £725.00 108.2 SIM
URL:https://orkneymart.com/event/cattle-sale-127/
CATEGORIES:Sales Report
END:VEVENT
BEGIN:VEVENT
DTSTART;TZID=Europe/London:20191017T000000
DTEND;TZID=Europe/London:20191017T000000
DTSTAMP:20260421T172926
CREATED:20231020T095800Z
LAST-MODIFIED:20231027T105537Z
UID:10000916-1571270400-1571270400@orkneymart.com
SUMMARY:Cattle Sale
DESCRIPTION:Forward for sale on Thursday were 77 Breeding Cattle. 23 In-Calf heifers sold to  £2350 for a May ’17 born Limousin x British Blue heifer in calf to an Aberdeen Angus Bull from L Rosie\, Quoybond\, St Ola. OTHER IN-CALF HEIFERS QUOYBOND\,SOUTH RONALDSAY  £1\,780.00 LIMQUOYBOND\,SOUTH RONALDSAY  £1\,600.00 LIMQUOYBOND\,SOUTH RONALDSAY  £1\,580.00 LIMQUOYBOND\,SOUTH RONALDSAY  £1\,500.00 SIMQUOYBOND\,SOUTH RONALDSAY  £1\,400.00 LIMQUOYBOND\,SOUTH RONALDSAY  £1\,400.00 SIMBRAELAND\,SOUTH RONALDSAY  £1\,520.00 SIMBRAELAND\,SOUTH RONALDSAY  £1\,500.00 SIMOLD VOY\,TOAB  £1\,380.00 LIMOLD VOY\,TOAB  £1\,180.00 BBGILBRAES HUS\,BIXTER\,SHETLAND  £920.00 HEREGILBRAES HUS\,BIXTER\,SHETLAND  £900.00 HERE 18 Breeding Cows with Calves at foot sold to  £1450 for an April ’10 Born Limousin Cow with an April born Steer Calf at foot from J & M Slater\, Millquoy\, Stenness. OTHER COWS WITH CALVES MILLQUOY\,STENNESS  £1\,420.00 LIMMILLQUOY\,STENNESS  £1\,400.00 LIMMILLQUOY\,STENNESS  £1\,300.00 LIMMILLQUOY\,STENNESS  £1\,250.00 LIMMILLQUOY\,STENNESS  £1\,220.00 LIMMILLQUOY\,STENNESS  £1\,200.00 LIMQUOYS\,GRAEMSAY  £940.00 AA 7 In-Calf Cows sold to  £980 for a March ’15 born Limousin Cow from J & M Slater\, Millquoy\, Stenness. OTHER IN-CALF COWS GILLBRAES HUS\,BIXTER\,SHETLAND  £780.00 HEREGILLBRAES HUS\,BIXTER\,SHETLAND  £720.00 HEREBRECKON\,YELL\,SHETLAND  £700.00 SH 8 Breeding Bulls sold to  £1500 for ‘Ampertaine Glider’\, a February ’11 Born Limousin Bull from P & M Miller\, Haquoy\, Shapinsay. OTHER BULLS THE HAA\,BIXTER SHETLAND  £1\,340.00 AACAMPSTON\,TOAB  £1\,200.00 AAMILLQUOY\,STENNESS  £1\,150.00 LIMVEDDERTOWNMAIL\,TANKERNESS  £1\,100.00 LIMBANKS\,ROUSAY  £1\,050.00 SIMLYTHES\,LONGHOPE  £950.00 AABU OF HOY\,HOY  £950.00 SIM
URL:https://orkneymart.com/event/cattle-sale-126/
CATEGORIES:Sales Report
END:VEVENT
BEGIN:VEVENT
DTSTART;TZID=Europe/London:20191028T000000
DTEND;TZID=Europe/London:20191028T000000
DTSTAMP:20260421T172926
CREATED:20231020T095559Z
LAST-MODIFIED:20231027T105537Z
UID:10000911-1572220800-1572220800@orkneymart.com
SUMMARY:Cattle Sale
DESCRIPTION:Forward for sale on Monday were 6 Prime Cattle\, 118 Store Cattle and Fostered Calves & 70 OTM’s. Prime cattle sold to 218p/kg for a Limousin Heifer scaling 555 kilos from R & J Johnston\, Hewan\, Shapinsay realising  £1209.90 purchased by Williamsons. OTHER PRIME CATTLE MUCE\,BIRSAY 585  £1\,129.05 193 SALSKELDAY\,DOUNBY 615  £1\,131.60 184 AA 78 Store Steers averaged 214p and sold to 286 p/kg for a Charolais scaling 285 kilos from B & E Chalmers\, Mouseland\, Stromness realising  £815. Top price per head was  £1060 for a Limousin scaling 520 kilos from J & C Gray\, Dalvenna\, St Ola. OTHER STORE STEERS BRAELAND\,SOUTH RONALDSAY 540  £1\,050.00 194.4 LIMBRENCHERHOUSE\,BIRSAY 475  £1\,040.00 218.9 LIMBRENCHERHOUSE\,BIRSAY 455  £1\,010.00 222 BBKARINYA\,DOUNBY 500  £1\,015.00 203 CHARKARINYA\,DOUNBY 460  £940.00 204.3 CHARHAYON\,BIRSAY 520  £1\,000.00 192.3 LIMHAYON\,BIRSAY 460  £990.00 215.2 LIMHAYON\,BIRSAY 420  £915.00 217.9 LIMNESS\,SHAPINSAY 462  £990.00 214.3 CHARNESS\,SHAPINSAY 452  £925.00 204.6 SALLOWER BU\,HOLM 360  £1\,000.00 277.8 BBLOWER BU\,HOLM 380  £805.00 211.8 BBMOUSELAND\,STROMNESS 320  £900.00 281.3 CHARMOUSELAND\,STROMNESS 315  £900.00 285.7 CHARMOUSELAND\,STROMNESS 340  £860.00 252.9 CHARMOUSELAND\,STROMNESS 325  £840.00 258.5 CHARCROOK\,RENDALL 440  £960.00 218.2 BBCROOK\,RENDALL 340  £810.00 238.2 LIMFISK HELLIA\,EVIE 420  £940.00 223.8 LIMFISK HELLIA\,EVIE 390  £835.00 214.1 LIMFISK HELLIA\,EVIE 380  £820.00 215.8 LIMEASTSIDE\,TWATT 460  £900.00 195.7 LIMSOUTH FLAWS\,SOUTH RONALDSAY 390  £790.00 202.6 SIMSOUTH FLAWS\,SOUTH RONALDSAY 365  £775.00 212.3 AASOUTH FLAWS\,SOUTH RONALDSAY 315  £700.00 222.2 SIMUPPER BRAEBUSTER\,DEERNESS 350  £750.00 214.3 SIMUPPER BRAEBUSTER\,DEERNESS 330  £735.00 222.7 SIMUPPER BERRYHILL\,ST OLA 315  £690.00 219 SIMUPPER BERRYHILL\,ST OLA 315  £660.00 209.5 SIMLEARY\,BIRSAY 310  £670.00 216.1 AALEARY\,BIRSAY 260  £600.00 230.8 BBHOWEQUOY\,HOLM 380  £805.00 211.8 LIM 40 Store Heifers averaged 225p and sold to 270.8 p/kg for a British Blue scaling 325 kilos from A J & V Tait\, Lower Bu\, Holm realising  £880. OTHER STORE HEIFERS. NESS\,SHAPINSAY 400  £870.00 217.5 CHARKARINYA\,DOUNBY 410  £865.00 211 CHARFISK HELLIA\,EVIE 342  £840.00 245.6 LIMEASTSIDE\,TWATT 375  £835.00 222.7 LIMLOWER BU\,HOLM 345  £870.00 252.2 BBLOWER BU\,HOLM 340  £830.00 244.1 BBLOWER BU\,HOLM 335  £810.00 241.8 BBLOWER BU\,HOLM 310  £800.00 258.1 BBMIDHOUSE\,DEERNESS 400  £820.00 205 LIMHOWEQUOY\,HOLM 305  £790.00 259 LIMHAYON\,BIRSAY 325  £770.00 236.9 BBHAYON\,BIRSAY 290  £720.00 248.3 LIMMOUSELAND\,STROMNESS 335  £755.00 225.4 CHARMOUSELAND\,STROMNESS 330  £750.00 227.3 CHARCROOK\,RENDALL 305  £750.00 245.9 BBCROOK\,RENDALL 285  £680.00 238.6 LIMSOUTH FLAWS\,SOUTH RONALDSAY 295  £700.00 237.3 SIMSOUTH FLAWS\,SOUTH RONALDSAY 275  £700.00 254.5 SIMLEARY\,BIRSAY 335  £660.00 197 AA A large show of OTM Cows were a fantastic trade compared to south markets. OTM’s sold to 131.1p/kg for a Saler cow scaling 615 kilos from Sandison\, Hindatoon\, Harray realising  £800. Top price per head was  £975 for an Aberdeen Angus Cow scaling 860 kilos from B & B Omand\, Stembister\, Toab. OTHER OTM COWS DENWICK\,DEERNESS 870  £930.00 106.9 SHLYKING\,SANDWICK 885  £935.00 105.6 LIMLYKING\,SANDWICK 790  £890.00 112.7 LIMLYKING\,SANDWICK 770  £875.00 113.6 SIMBIGGINGS\,RENDALL 860  £900.00 104.7 SHSTEMBISTER\,TOAB 855  £885.00 103.5 AAHONEYSGOE\,SOUTH RONALDSAY 730  £870.00 119.2 LIMHONEYSGOE\,SOUTH RONALDSAY 700  £815.00 116.4 SIMSKELDAY\,DOUNBY 785  £860.00 109.6 SIMFARRIVALD\,WESTRAY 780  £840.00 107.7 SIMDOGTOO\,WESTRAY 780  £830.00 106.4 CHARTRENABIE\,WESTRAY 705  £840.00 119.1 BBTRENABIE\,WESTRAY 625  £800.00 128 CHARHINDATOON\,HARRAY 740  £835.00 112.8 AAHINDATOON\,HARRAY 675  £790.00 117 LIMUPPER BERRYHILL\,ST OLA 685  £795.00 116.1 LIMNESS\,WESTRAY 755  £780.00 103.3 SIMCLIFTON\,WESTRAY 760  £790.00 103.9 SIMCLIFTON\,WESTRAY 675  £780.00 115.6 SIMAIKERS\,TANKERNESS 685  £780.00 113.9 LIMREDLAND\,FIRTH 715  £745.00 104.2 SHREDLAND\,FIRTH 690  £740.00 107.2 AA OTM BULLS STANK\,STROMNESS 1190  £1\,200.00 100.8 AA
URL:https://orkneymart.com/event/cattle-sale-125/
CATEGORIES:Sales Report
END:VEVENT
BEGIN:VEVENT
DTSTART;TZID=Europe/London:20191030T000000
DTEND;TZID=Europe/London:20191030T000000
DTSTAMP:20260421T172926
CREATED:20231020T095559Z
LAST-MODIFIED:20231027T105537Z
UID:10000910-1572393600-1572393600@orkneymart.com
SUMMARY:Cattle Sale
DESCRIPTION:Forward for sale on Wednesday were 649 Prime Lambs and 276 Cast Sheep. Prime Lambs were much sharper this week with well presented\, tight skinned lambs selling to the highest prices we’ve seen since August. Prime Lambs sold to 173.2 p/kg for a pair of Beltex lambs scaling 48.5 kilos from T & J Leslie\, Quoymorhouse\, Shapinsay realising  £84. Top price per head was  £85.20 for a pair of Beltex Lambs scaling 52 kilos from T & J Leslie\, Quoymorhouse\, Shapinsay purchased by Williamsons Butcher. OTHER PRIME LAMBS QUOYMORHOUSE\,SHAPINSAY 54.5  £84.20 154.5 BELTEXQUOYMORHOUSE\,SHAPINSAY 54.5  £82.00 150.5 BELTEXQUOYMORHOUSE\,SHAPINSAY 49  £81.80 166.9 BELTEXHESTICRUIVE\,TANKERNESS 51  £81.80 160.4 TEXHESTICRUIVE\,TANKERNESS 50  £80.20 160.4 TEXBRAEBUSTER\,DEERNESS 53.5  £80.00 149.5 TEXEASTSIDE\,TWATT 48.5  £80.00 164.9 TEXNEARHOUSE\,TANKERNESS 49.5  £79.80 161.2 TEXNEARHOUSE\,TANKERNESS 48  £79.20 165 TEXNEARHOUSE\,TANKERNESS 48  £78.00 162.5 CHARSOUTH HOUSE\,TANKERNESS 51  £78.00 152.9 TEXCRISMO\,EVIE 46  £78.00 169.6 TEXORPHIR HOUSE\,ORPHIR 50  £78.00 156 TEXORPHIR HOUSE\,ORPHIR 48.5  £77.80 160.4 TEXUPPERFIELD\,ST OLA 46  £77.20 167.8 TEXBENLAW\,EVIE 46.5  £77.00 165.6 CHARSEBAY\,TANKERNESS 52  £77.00 148.1 TEXSEBAY\,TANKERNESS 46  £76.80 167 TEXSOUTH FEA\,ORPHIR 46.5  £76.80 165.2 TEXNEWARK\,SANDAY 48  £76.20 158.8 TEXSEATTERSQUOY\,STENNESS 51  £76.00 149 TEXSEATTERSQUOY\,STENNESS 47.5  £75.80 159.6 SUFKNOCKHALL\,SOUTH RONALDSAY 50  £75.20 150.4 SUFCOWESHOUSE\,STRONSAY 47  £75.20 160 TEXCOWESHOUSE\,STRONSAY 48.5  £75.00 154.6 TEXBEAFIELD\,SANDAY 52  £75.00 144.2 TEXLITTLE CROFTY\,TANKERNESS 43  £73.00 169.8 BELTEXINNISTER\,ROUSAY 45  £73.00 162.2 TEXKNOWE\,SANDAY 47  £73.00 155.3 TEXKNOWE\,SANDAY 48.5  £73.00 150.5 SUFBINSCARTH\,FINSTOWN 50  £73.00 146 SUFWESTSHORE\,RENDALL 49  £73.20 149.4 TEXWESTSHORE\,RENDALL 45.5  £72.80 160 TEXUPPER SCAPA\,ST OLA 47.5  £72.50 152.6 TEXUPPER SCAPA\,ST OLA 48  £71.50 149 TEXEAST THORN\,WESTRAY 47  £72.00 153.2 SUFERVADALE\,ROUSAY 45.5  £70.00 153.8 TEXBRAESIDE\,ORPHIR 46.5  £70.00 150.5 CHARCLAIRNESS\,SANDWICK 44.5  £69.00 155.1 TEXSWANBISTER\,ORPHIR 45  £69.00 153.3 SUF1 BOGIE HOUSES\,EVIE 45  £68.00 151.1 CHARROADSIDE\,ST OLA 41.5  £66.00 159 TEXROSEBANK\,DEERNESS 40.5  £64.00 158 TEX Cast Sheep again sold to tremendous rates with mostly leaner ewes on offer. Cast Ewes sold to  £115 for a Texel Ewe from P & M Miller\, Haquoy\, Shapinsay. OTHER CAST SHEEP QUOYMORHOUSE\,SHAPINSAY  £113.00 TEX QUOYMORHOUSE\,SHAPINSAY  £106.00 TEX NEARHOUSE\,TANKERNESS  £109.00 TEX SEBAY\,TANKERNESS  £98.00 TEX NEWARK\,SANDAY  £98.00 TEX KNOWE\,SANDAY  £95.00 WHITE KNOWE\,SANDAY  £94.00 WHITE KNOWE\,SANDAY  £90.00 WHITE HAQUOY\,SHAPINSAY  £90.00 TEX HAQUOY\,SHAPINSAY  £87.00 TEX BIGGINGS\,STENNESS  £90.00 TEX BIGGINGS\,STENNESS  £85.00 SUF ROSEBANK\,DEERNESS  £89.00 TEX CRISMO\,EVIE  £80.00 TEX BIGGINGS\,TOAB  £77.00 SUF KEBRO\,ORPHIR  £75.00 CHEV KNOCKHALL\,SOUTH RONALDSAY  £73.00 WHITE CRUMBRECKS\,ORPHIR  £71.00 WHITE EASTSIDE\,TWATT  £69.00 OTHER INNISTER\,ROUSAY  £65.00 TEX NEARHOUSE\,ROUSAY  £60.00 TEX Cast Rams sold to  £91 for a pen of Cheviots from A & L Whyte\, Honeysgeo\, South Ronaldsay.
URL:https://orkneymart.com/event/cattle-sale-124/
CATEGORIES:Sales Report
END:VEVENT
END:VCALENDAR