BEGIN:VCALENDAR
VERSION:2.0
PRODID:-//Orkney Auction Mart - ECPv6.15.17.1//NONSGML v1.0//EN
CALSCALE:GREGORIAN
METHOD:PUBLISH
X-ORIGINAL-URL:https://orkneymart.com
X-WR-CALDESC:Events for Orkney Auction Mart
REFRESH-INTERVAL;VALUE=DURATION:PT1H
X-Robots-Tag:noindex
X-PUBLISHED-TTL:PT1H
BEGIN:VTIMEZONE
TZID:Europe/London
BEGIN:DAYLIGHT
TZOFFSETFROM:+0000
TZOFFSETTO:+0100
TZNAME:BST
DTSTART:20180325T010000
END:DAYLIGHT
BEGIN:STANDARD
TZOFFSETFROM:+0100
TZOFFSETTO:+0000
TZNAME:GMT
DTSTART:20181028T010000
END:STANDARD
BEGIN:DAYLIGHT
TZOFFSETFROM:+0000
TZOFFSETTO:+0100
TZNAME:BST
DTSTART:20190331T010000
END:DAYLIGHT
BEGIN:STANDARD
TZOFFSETFROM:+0100
TZOFFSETTO:+0000
TZNAME:GMT
DTSTART:20191027T010000
END:STANDARD
BEGIN:DAYLIGHT
TZOFFSETFROM:+0000
TZOFFSETTO:+0100
TZNAME:BST
DTSTART:20200329T010000
END:DAYLIGHT
BEGIN:STANDARD
TZOFFSETFROM:+0100
TZOFFSETTO:+0000
TZNAME:GMT
DTSTART:20201025T010000
END:STANDARD
END:VTIMEZONE
BEGIN:VEVENT
DTSTART;TZID=Europe/London:20190805T000000
DTEND;TZID=Europe/London:20190805T000000
DTSTAMP:20260421T200237
CREATED:20231020T100510Z
LAST-MODIFIED:20231027T105537Z
UID:10000938-1564963200-1564963200@orkneymart.com
SUMMARY:Cattle & Sheep Sales
DESCRIPTION:FORWARD FOR SALE ON MONDAY WERE 8 PRIME CATTLE 7 OTM CATTLE FOLLOWED BY 56 PRIME LAMBS AND 67 CAST SHEEP PRIME HEIFERS SOLD TO 216 P/KG FOR A CHAROLAIS SCALING 615 KILOS FROM J & R STANGER SOUTH SEATTER SANDWICK REALISING  £1328.40 PURCHASAED BY CRAIGIE BUTCHERS LTD BRIG LARDER ALBERT STREET KIRKWALL PRIME STEERS SOLD TO 216 P/KG FOR A STABILISER CROSS SCALING 570 KILOS FROM J CORRIGALL & SON NORTHBIGGING DOUNBY REALISING  £1231.20 PURCHASED BY E FLETT BUTCHERS STROMNESS OTHER PRIME STEER PRICES NORTHBIGGING\,DOUNBY 630  £1\,354.50 215 CONTFEAVAL\,BIRSAY 705  £1\,424.10 202 CHARHOWE FARM\,HARRAY 570  £1\,185.60 208 CONTSOUTH SEATTER\,SANDWICK 680  £1\,360.00 200 SIM OTM COWS SOLD TO 138.3 P/KG FOR A LIMOUSIN COW SCALING 575 KILOS FROM L SAVAGE BRAESIDE ORPHIR REALISING  £795 OTHER PRICES HUIP\,STRONSAY 650  £820.00 126.2 CHARHUIP\,STRONSAY 665  £845.00 127.1 CHARHUIP\,STRONSAY 735  £950.00 129.3 AAHUIP\,STRONSAY 850  £1\,080.00 127.1 SIM A HAT TRICK OF TOP PRICES WAS ACHIEVED BY R K & F J MARSHALL COTLAND ST OLA AT THE SHEEP SALE THIS WEEK THEY HAD THE TOP PENCE PER KILO WHICH WAS 184P FOR A PAIR OF TEXELS SCALING 50 KILOS SELLING FOR  £92 TO E FLETT BUTCHERS STROMNESS TOP PRICE PER HEAD FOR LAMBS FOR ANOTHER PAIR OF TEXELS SCALING 59 KILOS REALISING  £103 TO WILLIAMSONS EAST ROAD KIRKWALL AND TOP PRICE IN THE CAST SECTION A TEXEL EWE THAT SOLD FOR  £118 PRIME LAMB PRICES BALFOUR MAINS SHAPINSAY 48.5  £86.00 177.3 TEXBALFOUR MAINS SHAPINSAY 40  £72.00 180 TEXQUANTERNESS\,ST OLA 54  £88.00 163 TEXQUANTERNESS\,ST OLA 47  £81.00 172.3 TEXQUANTERNESS\,ST OLA 47.5  £80.50 169.5 SUFQUANTERNESS\,ST OLA 48  £80.00 166.7 SUFQUANTERNESS\,ST OLA 47  £79.00 168.1 SUFMEADOWVIEW\,WESTFIELD\,STROMNESS 50  £81.00 162 SUFMEADOWVIEW\,WESTFIELD\,STROMNESS 55.5  £80.00 144.1 SUFCOTLAND\,ST OLA 53.5  £95.00 177.6 TEXCOTLAND\,ST OLA 48  £86.00 179.2 TEXROSEMOUNT\,SANDWICK 44  £79.00 179.5 TEXROSEMOUNT\,SANDWICK 40  £73.00 182.5 TEX CAST EWE PRICES QUEENAMUCKLE\,RENDALL  £80.00 TEX QUEENAMUCKLE\,RENDALL  £61.00 TEX COLLIGARTH\,SANDAY  £101.00 TEX COLLIGARTH\,SANDAY  £87.00 TEX COLLIGARTH\,SANDAY  £75.00 CHEV REDLAND\,STROMNESS  £85.00 TEX REDLAND\,STROMNESS  £65.00 TEX HUIP\,STRONSAY  £86.00 OTHER HUIP\,STRONSAY  £70.00 SUF WESTFIELD\,STROMNESS  £100.00 SUF WESTFIELD\,STROMNESS  £80.00 SUF BEANESS\,SANDAY  £88.00 WHITE BEANESS\,SANDAY  £71.00 WHITE COTT\,ROUSAY  £67.00 CHEV COTLAND\,ST OLA  £89.00 LLEYN COTLAND\,ST OLA  £75.00 LLEYN ROSEMOUNT\,SANDWICK  £72.00 SUF
URL:https://orkneymart.com/event/cattle-sheep-sales-84/
CATEGORIES:Sales Report
END:VEVENT
BEGIN:VEVENT
DTSTART;TZID=Europe/London:20190812T000000
DTEND;TZID=Europe/London:20190812T000000
DTSTAMP:20260421T200237
CREATED:20231020T100457Z
LAST-MODIFIED:20231027T105537Z
UID:10000937-1565568000-1565568000@orkneymart.com
SUMMARY:Cattle Sale
DESCRIPTION:PRIME STEERS SOLD TO 215 P/KG FOR A CHAROLAIS SCALING 655 KILOS FROM J & R STANGER SOUTH SEATTER SANDWICKREALISING  £1408.5 PURCHASED BY CRAIGIE BUTCHERS LTD BRIG LARDER KIRKWALLMOSTLY HEAVY CATTLE WERE FORWARD FOR SALE WITH THE MAJORITY OVER 500 KILOS AND NEARLY HALF OF THE SALECOMPISING OF 550 PLUS KILO CATTLESTEERS AVERAGED 196.8 P/KGHEIFERS AVERAGED 193.3 P/KGSTORE STEERS SOLD TO A TOP OF 239.6 P/KG FOR A LIMOUSIN SCALING 455 KILOS FROM A HARCUS MESSIGATE TANKERNESS REALISING  £1090TOP PRICE WAS  £1270 FOR TWO CHAROLAIS STOTS FROM S & V RENDALL FARRIVALD WESTRAYOTHER STORE STEER PRICESAPPIETOWN\,RENDALL\, 567  £1\,100.00 194 AAAPPIETOWN\,RENDALL\, 525  £1\,075.00 204.8 CHARAPPIETOWN\,RENDALL\, 455  £900.00 197.8 AAGERBO\,NORTH RONALDSAY\, 520  £920.00 176.9 LIMODINESS\,STRONSAY\, 615  £1\,215.00 197.6 AAODINESS\,STRONSAY\, 632  £1\,215.00 192.2 CHARODINESS\,STRONSAY\, 600  £1\,210.00 201.7 LIMODINESS\,STRONSAY\, 575  £1\,200.00 208.7 LIMODINESS\,STRONSAY\, 585  £1\,200.00 205.1 CHARODINESS\,STRONSAY\, 607  £1\,200.00 197.7 CHARODINESS\,STRONSAY\, 595  £1\,190.00 200 CHARODINESS\,STRONSAY\, 568  £1\,170.00 206 AANEWARK\,SANDAY\, 542  £1\,060.00 195.6 CHARLANGSKAILL\,ROUSAY\, 705  £1\,200.00 170.2 SIMNETHERSKAILL\,BIRSAY\, 507  £1\,030.00 203.2 SIMNETHERSKAILL\,BIRSAY\, 465  £980.00 210.8 AANETHERSKAILL\,BIRSAY\, 485  £975.00 201 SIMNETHERSKAILL\,BIRSAY\, 462  £950.00 205.6 BBNETHERSKAILL\,BIRSAY\, 440  £890.00 202.3 SIMMESSIGATE\,TANKERNESS\, 485  £1\,100.00 226.8 LIMMESSIGATE\,TANKERNESS\, 420  £970.00 231 LIMHUNTON\,STRONSAY\, 535  £1\,050.00 196.3 AAHUNTON\,STRONSAY\, 510  £1\,045.00 204.9 SIMHUNTON\,STRONSAY\, 540  £1\,040.00 192.6 BBHUNTON\,STRONSAY\, 481  £1\,000.00 207.9 AAHUNTON\,STRONSAY\, 510  £1\,000.00 196.1 AAHOLLAND\,PAPA WESTRAY\, 520  £1\,050.00 201.9 AAHOLLAND\,PAPA WESTRAY\, 508  £1\,030.00 202.8 AALENAHOWE\,SANDWICK\, 665  £1\,240.00 186.5 LIMLENAHOWE\,SANDWICK\, 685  £1\,240.00 181 SIMLENAHOWE\,SANDWICK\, 611  £1\,200.00 196.4 CHARLENAHOWE\,SANDWICK\, 637  £1\,170.00 183.7 SIMLENAHOWE\,SANDWICK\, 605  £1\,160.00 191.7 CHARFRIBO\,WESTRAY\, 650  £1\,220.00 187.7 CHARROSEBANK\,DEERNESS\, 480  £975.00 203.1 CHARROSEBANK\,DEERNESS\, 455  £880.00 193.4 SIMROSEBANK\,DEERNESS\, 430  £865.00 201.2 CHARNORTHBANK\,ST OLA\, 665  £1\,265.00 190.2 CHARNORTHBANK\,ST OLA\, 730  £1\,265.00 173.3 SIMNORTHBANK\,ST OLA\, 665  £1\,180.00 177.4 CHARSTONEHALL\,DEERNESS\, 545  £1\,095.00 200.9 CHARSTONEHALL\,DEERNESS\, 500  £1\,065.00 213 CHARSTONEHALL\,DEERNESS\, 485  £1\,015.00 209.3 CHARSTONEHALL\,DEERNESS\, 465  £1\,000.00 215.1 CHARSTONEHALL\,DEERNESS\, 475  £960.00 202.1 CHARFARRIVALD\,WESTRAY\, 700  £1\,270.00 181.4 CHARFARRIVALD\,WESTRAY\, 735  £1\,260.00 171.4 CHARNETHERHILL\,TANKERNESS\, 585  £1\,140.00 194.9 LIMNETHERHILL\,TANKERNESS\, 462  £860.00 186.1 CHARCLAYBRAES\,SOUTH RONALDSAY\, 555  £1\,140.00 205.4 LIMCLAYBRAES\,SOUTH RONALDSAY\, 560  £1\,135.00 202.7 SIMCLAYBRAES\,SOUTH RONALDSAY\, 545  £1\,090.00 200 SIMCLAYBRAES\,SOUTH RONALDSAY\, 545  £1\,050.00 192.7 SIMCLAYBRAES\,SOUTH RONALDSAY\, 520  £1\,040.00 200 LIMCLAYBRAES\,SOUTH RONALDSAY\, 522  £1\,040.00 199.2 SIMWHITEHALL FARM\,STRONSAY\, 595  £1\,210.00 203.4 CHARWHITEHALL FARM\,STRONSAY\, 617  £1\,210.00 196.1 SIMWHITEHALL FARM\,STRONSAY\, 597  £1\,205.00 201.8 CHARWHITEHALL FARM\,STRONSAY\, 620  £1\,200.00 193.5 CHARWHITEHALL FARM\,STRONSAY\, 583  £1\,185.00 203.3 CHARWHITEHALL FARM\,STRONSAY\, 560  £1\,180.00 210.7 CHARWHITEHALL FARM\,STRONSAY\, 585  £1\,180.00 201.7 CHARWHITEHALL FARM\,STRONSAY\, 560  £1\,120.00 200 CHARSTORE HEIFERS SOLD TO 206 P/KG FOR A CHAROLAIS SCALING 600 KILOS FROM S & V RENDALL FARRIVALD WESTRAYREALISING  £1240\, THIS WAS ALSO THE TOP PRICE PER HEAD FOR HEIFERS.OTHER HEIFER PRICESAPPIETOWN\,RENDALL\, 492  £945.00 192.1 CHARAPPIETOWN\,RENDALL\, 450  £850.00 188.9 AAODINESS\,STRONSAY\, 546  £1\,075.00 196.9 CHARODINESS\,STRONSAY\, 548  £1\,050.00 191.6 CHARODINESS\,STRONSAY\, 485  £1\,000.00 206.2 CHARNEWARK\,SANDAY\, 517  £1\,030.00 199.2 CHARNEWARK\,SANDAY\, 495  £985.00 199 CHARLANGSKAILL\,ROUSAY\, 520  £990.00 190.4 AAHURTISO\,HOLM\, 640  £1\,200.00 187.5 CHARHURTISO\,HOLM\, 605  £1\,180.00 195 CHARHURTISO\,HOLM\, 555  £1\,120.00 201.8 LIMHURTISO\,HOLM\, 565  £1\,125.00 199.1 CHARHURTISO\,HOLM\, 581  £1\,150.00 197.9 CHARWESTSHORE\,RENDALL\, 460  £880.00 191.3 AAWESTSHORE\,RENDALL\, 492  £930.00 189 AAHUNTON\,STRONSAY\, 435  £815.00 187.4 AAHUNTON\,STRONSAY\, 450  £895.00 198.9 SIMHOLLAND\,PAPA WESTRAY\, 520  £960.00 184.6 AAHOLLAND\,PAPA WESTRAY\, 555  £1\,000.00 180.2 AAFRIBO\,WESTRAY\, 595  £1\,000.00 168.1 SALROSEBANK\,DEERNESS\, 430  £855.00 198.8 CHARGLEN ORKNEY ST OLA 560  £1\,115.00 199.1 CHARGLEN ORKNEY ST OLA 520  £1\,050.00 201.9 CHARGLEN ORKNEY ST OLA 496  £965.00 194.6 CHARGLEN ORKNEY ST OLA 507  £960.00 189.3 CHARFARRIVALD\,WESTRAY\, 580  £1\,190.00 205.2 CHARFARRIVALD\,WESTRAY\, 600  £1\,240.00 206.7 CHARFARRIVALD\,WESTRAY\, 620  £1\,135.00 183.1 CHARNETHERHILL\,TANKERNESS\, 445  £865.00 194.4 LIMNETHERHILL\,TANKERNESS\, 460  £905.00 196.7 CHARWEETHICK\,TANKERNESS\, 467  £940.00 201.3 LIMWHITEHALL FARM\,STRONSAY\, 595  £1\,200.00 201.7 CHARWHITEHALL FARM\,STRONSAY\, 557  £1\,115.00 200.2 CHARWHITEHALL FARM\,STRONSAY\, 538  £1\,100.00 204 CHAROTM COWS SOLD TO 143.9 P/KG FOR A 695 KILO SALER FROM FIRM OF STOUT WHITEHALL STRONSAY REALISING  £1000TOP PRICE WAS A SIMMENTAL SCALING 795 KILOS FROM NORTHBANK HOLDINGS ST OLA REALISING  £1060OTM PRICESODINESS\,STRONSAY\, 650  £770.00 118.5 AAODINESS\,STRONSAY\, 630  £815.00 129.4 SIMNO 3 LINKS\,WESTRAY\, 700  £830.00 118.6 CHARHOLLAND\,PAPA WESTRAY\, 765  £1\,000.00 130.7 AANORTHBANK\,ST OLA\, 795  £1\,060.00 133.3 SIMNORTHBANK\,ST OLA\, 695  £850.00 122.3 CHARYARPHA\,ORPHIR\, 785  £945.00 120.4 AAYARPHA\,ORPHIR\, 780  £1\,055.00 135.3 AAYARPHA\,ORPHIR\, 750  £990.00 132 SHWHITEHALL FARM\,STRONSAY\, 695  £1\,000.00 143.9 SALWHITEHALL FARM\,STRONSAY\, 645  £825.00 127.9 SIMWHITEHALL FARM\,STRONSAY\, 710  £920.00 129.6 SIMTRENABIE\,WESTRAY\, 670  £850.00 126.9 CHAR
URL:https://orkneymart.com/event/cattle-sale-134/
CATEGORIES:Sales Report
END:VEVENT
BEGIN:VEVENT
DTSTART;TZID=Europe/London:20190819T000000
DTEND;TZID=Europe/London:20190819T000000
DTSTAMP:20260421T200237
CREATED:20231020T100457Z
LAST-MODIFIED:20231027T105537Z
UID:10000936-1566172800-1566172800@orkneymart.com
SUMMARY:Cattle & Sheep Sales
DESCRIPTION:FORWARD FOR SALE ON MONDAY WERE 9 PRIME CATTLE 2 STORE CATTLE AND 3 OTMS\, FOLLOWED BY 252 PRIME LAMBS AND 121 CAST SHEEP PRIME STEERS SOLD TO 215 P/KG FOR A LIMOUSIN SCALING 625 KILOS FROM J & R STANGER SOUTH SEATTER SANDWICK REALISING  £1343.75 PURCHASED BY DONALDSONS OF ORKNEY ALBERT STREET KIRKWALL PRIME HEIFERS SOLD TO 209 P/KG FOR A LIMOUSIN SCALING 610 KILOS FROM A J & E J STANGER HILLQUOY BIRSAY REALISING  £1274.90 SELLING TO E FLETT BUTCHERS STROMNESS OTHER PRIME CATTLE CAMPSTON\,TOAB 555  £1\,143.30 206 LIMCAMPSTON\,TOAB 535  £1\,070.00 200 LIMOLD VOY\,TOAB 645  £1\,277.10 198 BBHILLQUOY\,BIRSAY 620  £1\,277.20 206 LIMSOUTH SEATTER\,SANDWICK 710  £1\,420.00 200 SIM STORE HEIFERS SOLD TO 202.2 P/KG FOR A LIMOUSIN SCALING 445 KILOS FROM R L & K S JONES DENWICK DEERNESS SELLING FOR  £900 OTM COWS SOLD TO 141.5 P/KG FOR A LIMOUSIN SCALING 590 KILOS FROM P & E M DENNISON ODINESS STRONSAY  £835 PRIME LAMBS SOLD TO  £106 FOR A PAIR OF TEXELS SCALING 51 KILOS FROM J S BAILLIE & CO SEBAY TANKERNESS THESE WERE THE COUNTY SHOW CHAMPION PRIME LAMBS THEY WERE PURCHASED BY CRAIGIE BUTCHERS LTD BRIG LARDER KIRKWALL OTHER PRIME LAMB PRICES SEBAY\,TANKERNESS\, 53  £86.00 162.3 TEX1 BOGIE HOUSES\,EVIE\, 49  £70.50 143.9 CHEVCHARLESTON\,PAPA WESTRAY\, 53.5  £85.00 158.9 TEXODINESS\,STRONSAY\, 50  £78.50 157 TEXODINESS\,STRONSAY\, 48  £76.80 160 TEXQUANTERNESS\,ST OLA\, 46.5  £72.50 155.9 TEXQUANTERNESS\,ST OLA\, 46  £73.00 158.7 SUFDENWICK\,DEERNESS\, 53  £81.00 152.8 TEXDENWICK\,DEERNESS\, 46  £72.00 156.5 TEXLAGA\,EVIE\, 46.5  £78.00 167.7 TEXCOTLAND\,ST OLA\, 52  £80.00 153.8 TEXCOTLAND\,ST OLA\, 49.5  £77.00 155.6 TEXWITHAQUOY\,HOLM\, 51.5  £80.50 156.3 TEXWITHAQUOY\,HOLM\, 47.5  £80.00 168.4 TEXWITHAQUOY\,HOLM\, 47.5  £77.20 162.5 TEXWITHAQUOY\,HOLM\, 55  £80.00 145.5 TEXAIKERNESS\,EVIE\, 48  £73.00 152.1 SUFNETHERHILL\,TANKERNESS\, 53.5  £90.00 168.2 TEXNETHERHILL\,TANKERNESS\, 47  £78.50 167 TEXNETHERHILL\,TANKERNESS\, 41.5  £66.50 160.2 TEXNETHERHILL\,TANKERNESS\, 48  £73.00 152.1 TEXEASTSIDE\,TWATT\, 44.5  £70.00 157.3 TEXEASTSIDE\,TWATT\, 46  £74.00 160.9 TEXFLAWS\,HOLM\, 49  £86.50 176.5 TEXHOWEQUOY\,HOLM\, 49  £81.00 165.3 TEXHOWEQUOY\,HOLM\, 51  £83.00 162.7 TEXHOWEQUOY\,HOLM\, 48  £77.00 160.4 TEXKNOCKHALL\,SOUTH RONALDSAY\, 49  £74.50 152 SUF CAST EWES SOLD TO  £103 FOR A TEXEL FROM A CURSITER HENLEY EVIE OTHER CAST PRICES SEBAY\,TANKERNESS\,  £98.00 TEX SEBAY\,TANKERNESS\,  £90.00 SUF 1 BOGIE HOUSES\,EVIE\,  £74.00 BLACK 1 BOGIE HOUSES\,EVIE\,  £69.00 CHEV 1 BOGIE HOUSES\,EVIE\,  £69.00 TEX CHARLESTON\,PAPA WESTRAY\,  £100.00 TEX CHARLESTON\,PAPA WESTRAY\,  £79.00 TEX CHARLESTON\,PAPA WESTRAY\,  £66.00 WHITE UPPER BERRYHILL\,ST OLA\,  £64.00 WHITE ODINESS\,STRONSAY\,  £99.00 WHITE ODINESS\,STRONSAY\,  £90.00 TEX ODINESS\,STRONSAY\,  £88.00 TEX QUANTERNESS\,ST OLA\,  £81.00 WHITE QUANTERNESS\,ST OLA\,  £80.00 WHITE LAGA\,EVIE\,  £80.00 LLEYN STONELEA\,STENNESS\,  £95.00 SUF STONELEA\,STENNESS\,  £87.00 TEX STONELEA\,STENNESS\,  £64.00 TEX WITHAQUOY\,HOLM\,  £76.00 TEX WITHAQUOY\,HOLM\,  £60.00 TEX PURTABRECK\,TOAB\,  £70.00 LLEYN PURTABRECK\,TOAB\,  £52.00 OTHER HOWEQUOY\,HOLM\,  £81.00 TEX
URL:https://orkneymart.com/event/cattle-sheep-sales-83/
CATEGORIES:Sales Report
END:VEVENT
BEGIN:VEVENT
DTSTART;TZID=Europe/London:20190826T000000
DTEND;TZID=Europe/London:20190826T000000
DTSTAMP:20260421T200237
CREATED:20231020T100456Z
LAST-MODIFIED:20231027T105537Z
UID:10000935-1566777600-1566777600@orkneymart.com
SUMMARY:Cattle & Sheep Sales
DESCRIPTION:FORWARD FOR SALE ON MONDAY WERE 5 STORE CATTLE 7 OTM CATTLE FOLLOWED BY 244 PRIME LAMBS 31 STORE LAMBS AND 156 CAST SHEEP STORE STEERS SOLD TO 208.5 P/KG FOR A CHAROLAIS SCALING 470KGS REALISING  £980 FROM RJ & JL GAUDIE NETERSKAILL BIRSAY OTM COWS SOLD TO 144.3 P/KG FOR A SIMMENTAL COW SCALING 610 KILOS FROM J L BRODIE SUNNYBANK ST OLA REALISING  £880 PRIME LAMBS SOLD TO 172.5 P/KG FOR A TEXEL 40 KILOS FROM J COWE LITTLEHOWES HOLM SELLING FOR  £69 TOP PRICE WAS  £84 FOR A PAIR OF TEXELS SCALING 57 KILOS FROM J R STEVENSON SMOOGARTH FIRTH THEY WERE PURCHASED BY CRAIGIE BUTCHERS LTD BRIG LARDER KIRKWALL OTHER PRIME LAMBS BACKAKELDAY\,HOLM 45  £74.50 165.6 TEXBACKAKELDAY\,HOLM 46  £74.50 162 TEXLITTLE HOWES\,HOLM 43  £72.00 167.4 BELTEXLITTLE HOWES\,HOLM 40  £69.00 172.5 BELTEXUPPER BERRYHILL\,ST OLA 44  £73.00 165.9 TEXLENAHOWE\,SANDWICK 52  £79.50 152.9 SUFLENAHOWE\,SANDWICK 45  £71.00 157.8 SUFUPPER HOBBISTER\,STENNESS 47.5  £77.00 162 TEXNEARHOUSE\,TANKERNESS 50  £80.50 161 TEXNEARHOUSE\,TANKERNESS 49  £77.00 157.1 CHEVCOTLAND\,ST OLA 54  £80.00 148.1 TEXCOTLAND\,ST OLA 50  £79.00 158 TEXSAMSONS LANE\,STRONSAY 45  £73.00 162.2 SUFTUQUOY\,WESTRAY 47  £76.00 161.7 TEXTUQUOY\,WESTRAY 45.5  £74.50 163.7 TEXTUQUOY\,WESTRAY 47  £74.00 157.4 SUFNETHERHILL\,TANKERNESS 46  £78.50 170.7 TEXNETHERHILL\,TANKERNESS 46  £77.80 169.1 TEXSMOOGARTH\,FIRTH 57  £84.00 147.4 TEXSMOOGARTH\,FIRTH 53  £78.50 148.1 TEXSMOOGARTH\,FIRTH 49.5  £78.00 157.6 TEXNETHER OUSENESS\,WESTRAY 45  £73.00 162.2 SUFNETHER OUSENESS\,WESTRAY 45.5  £73.00 160.4 SUFVESTRAFIOLD\,SANDWICK 53.5  £77.20 144.3 SUFVESTRAFIOLD\,SANDWICK 49.5  £77.00 155.6 SUFVESTRAFIOLD\,SANDWICK 47.5  £75.00 157.9 SUFVESTRAFIOLD\,SANDWICK 45.5  £74.00 162.6 TEXVESTRAFIOLD\,SANDWICK 45  £71.50 158.9 SUFVESTRAFIOLD\,SANDWICK 43.5  £67.00 154 SUFKNOCKHALL\,SOUTH RONALDSAY 50  £79.00 158 SUFKNOCKHALL\,SOUTH RONALDSAY 48  £75.20 156.7 SUF STORE HOGGS SOLD TO  £70 FOR A PAIR FROM B & F KEMP UPPER HOBBISTER STENNESS CAST EWES SOLD TO  £94 FOR TEXELS FROM W R BAILLIE & CO BIGGINGS TOAB AND FRO B E SCOTT NISTIGAR WESTRAY OTHER CAST PRICES BIGGINGS\,TOAB  £79.00 TEX BIGGINGS\,TOAB  £71.00 TEX SEBAY\,TANKERNESS  £62.00 CHEV BIGGINGS\,STENNESS  £90.00 BELTEX BIGGINGS\,STENNESS  £72.00 SUF BIGGINGS\,STENNESS  £65.00 CHEV WESTSHORE\,RENDALL  £60.00 TEX QUANTERNESS\,ST OLA  £80.00 TEX QUANTERNESS\,ST OLA  £58.00 TEX NEARHOUSE\,TANKERNESS  £92.00 TEX NETHERHILL\,TANKERNESS  £60.00 TEX KNOCKHALL\,SOUTH RONALDSAY  £75.00 CHEV MOUNT PLEASANT\,STROMNESS  £58.00 BLACK
URL:https://orkneymart.com/event/cattle-sheep-sales-82/
CATEGORIES:Sales Report
END:VEVENT
END:VCALENDAR