BEGIN:VCALENDAR
VERSION:2.0
PRODID:-//Orkney Auction Mart - ECPv6.15.17.1//NONSGML v1.0//EN
CALSCALE:GREGORIAN
METHOD:PUBLISH
X-ORIGINAL-URL:https://orkneymart.com
X-WR-CALDESC:Events for Orkney Auction Mart
REFRESH-INTERVAL;VALUE=DURATION:PT1H
X-Robots-Tag:noindex
X-PUBLISHED-TTL:PT1H
BEGIN:VTIMEZONE
TZID:Europe/London
BEGIN:DAYLIGHT
TZOFFSETFROM:+0000
TZOFFSETTO:+0100
TZNAME:BST
DTSTART:20180325T010000
END:DAYLIGHT
BEGIN:STANDARD
TZOFFSETFROM:+0100
TZOFFSETTO:+0000
TZNAME:GMT
DTSTART:20181028T010000
END:STANDARD
BEGIN:DAYLIGHT
TZOFFSETFROM:+0000
TZOFFSETTO:+0100
TZNAME:BST
DTSTART:20190331T010000
END:DAYLIGHT
BEGIN:STANDARD
TZOFFSETFROM:+0100
TZOFFSETTO:+0000
TZNAME:GMT
DTSTART:20191027T010000
END:STANDARD
BEGIN:DAYLIGHT
TZOFFSETFROM:+0000
TZOFFSETTO:+0100
TZNAME:BST
DTSTART:20200329T010000
END:DAYLIGHT
BEGIN:STANDARD
TZOFFSETFROM:+0100
TZOFFSETTO:+0000
TZNAME:GMT
DTSTART:20201025T010000
END:STANDARD
END:VTIMEZONE
BEGIN:VEVENT
DTSTART;TZID=Europe/London:20190708T000000
DTEND;TZID=Europe/London:20190708T000000
DTSTAMP:20260421T211314
CREATED:20231020T100511Z
LAST-MODIFIED:20231027T105537Z
UID:10000942-1562544000-1562544000@orkneymart.com
SUMMARY:Cattle Sale
DESCRIPTION:Forward for sale on Monday were 12 Prime Cattle\, 4 Store Cattle\, 6 OTM Cattle and 1 Breeding Bull. Prime cattle were a sharp trade given the ever declining dead-weight price and sold to a top of 222 p/kg for a Charolais steer scaling 610 kilos from J & R Stanger\, South Seatter\, Sandwick realising  £1354.20 puchased by E Flett & Co. OTHER LEADING PRIME South Seatter\, Sandwick 550  £1\,182.50 215 CharHowe\, Harray 590  £1\,268.50 215 StabHolland\, Firth 605  £1\,149.50 190 Sal Store Cattle sold to 200 p/kg for an Aberdeen Angus Heifer scaling 580 kilos from Rendall\, Holland\, Papay realising  £1150. Top price per head was  £1190 for an Aberdeen Angus scaling 605 kilos from Holland\, Papay. A 9 year old Simmental Bull scaling 1260 kilos from JI & WN Stout\, Whitehall\, Stronsay realised  £1350. OTM Cattle sold to 120.7 p/kg for an Aberdeen Angus Cow scaling 870 kilos from Rendall\, Holland\, Papay realising  £1050. This was also top price per head.
URL:https://orkneymart.com/event/cattle-sale-136/
CATEGORIES:Sales Report
END:VEVENT
BEGIN:VEVENT
DTSTART;TZID=Europe/London:20190715T000000
DTEND;TZID=Europe/London:20190715T000000
DTSTAMP:20260421T211314
CREATED:20231020T100510Z
LAST-MODIFIED:20231027T105537Z
UID:10000941-1563148800-1563148800@orkneymart.com
SUMMARY:Cattle & Sheep Sales
DESCRIPTION:Forward for sale on Monday were 12 Prime cattle\, 7 OTM Cattle\, 14 Prime Lambs 26 Prime Hoggs & 46 Cast Sheep. Prime Cattle sold to a top of 223 p/kg for a Charolais Heifer scaling 565 kilos from J & R Stanger\, South Seatter\, Sandwick realising  £1259.95 purchased by Donaldsons. Other Prime Heifers Feaval\, Birsay 565  £1\,175.20 208 SimHillquoy\, Birsay 610  £1\,262.70 207 Lim Prime Steers sold to a top of 211 p/kg for a Stabaliser scaling 570 kilos from J Corrigall\, Northbigging\, Dounby realising  £1202.70 purchased by E Flett & Co. Other Prime Steers South Seatter\, Sandwick 640  £1\,337.60 209 CharHowe\, Harray 605  £1\,216.05 201 StabFeaval\, Birsay 830  £1\,626.80 196 Char OTM Cattle were sharper this week and sold to a top of 136.9 p/kg for an Aberdeen Angus cow scaling 555 kilos from BRM Alexander\, Upper Breckquoy\, Holm realising  £760. Top price per head was  £1040 for an Aberdeen Angus cow scaling 835 kilos from PS & MH Johnston\, Brockan\, Stromness. Prime Lambs sold to a top of 183 p/kg for a Texel scaling 47 kilos from Laga Farms\, Evie realising  £86 purchased by Craigies. Top price per head was  £92 for a Texel scaling 53 kilos from JI & WN Stout\, Whitehall\, Stronsay purchased by Craigies. Other Prime Lambs Whitehall\, Stronsay 51  £90.00 176.5 TexLaga\, Evie 50  £89.00 178 TexPurtabreck\, Toab 45  £81.00 180 Char Prime Hoggs sold to 121.8 p/kg for four Texels scaling 55 kilos from KB & RE Miller\, Quoyhorsetter\, South Ronaldsay realising  £67 purchased by Craigies. Top price per head was  £81 for a Texel from J & E Linklater\, Little Crofty\, Tankerness. Cast Sheep sold to a top of  £94 for a Texel ewe from JR & JE Moar\, Rosebank\, Deerness. Other Cast Sheep Oaklea\, St Ola  £93.00 Tex Netherhill\, Tankerness  £89.00 Suff Rosebank\, Deerness  £88.00 Tex
URL:https://orkneymart.com/event/cattle-sheep-sales-86/
CATEGORIES:Sales Report
END:VEVENT
BEGIN:VEVENT
DTSTART;TZID=Europe/London:20190722T000000
DTEND;TZID=Europe/London:20190722T000000
DTSTAMP:20260421T211314
CREATED:20231020T100510Z
LAST-MODIFIED:20231027T105537Z
UID:10000940-1563753600-1563753600@orkneymart.com
SUMMARY:Cattle Sale
DESCRIPTION:FORWARD FOR SALE ON MONDAY WERE 9 PRIME CATTLE 4 STORE CATTLE AND 7 OTM COWSPRIME HEIFERS SOLD TO 214 P/KG FOR A LIMOUSIN SCALING 595 KILOS FROM GLEN ORKNEY ST OLA REALISING  £1273.30PURCHASED BY DONALDSONS OF ALBERT STREET KIRKWALLOTHER PRIME HEIFERSCAULDHAME\,STROMNESS 525  £1\,071.00 204 SIMPRIME STEERS SOLD TO 206 P/KG FOR A LIMOUSIN SCALING 680 KILOS FROM FIRM OF MA & DS GROAT CLOKE DOUNBYSELLING FOR  £1400.80 TO WILLIAMSONS EAST ROAD KIRKWALLOTHER PRIME STEERSCLOKE\,DOUNBY 630  £1\,297.80 206 LIMCLOKE\,DOUNBY 610  £1\,250.50 205 SALHOWE FARM\,HARRAY 585  £1\,187.55 203 STAB XHOWE FARM\,HARRAY 600  £1\,230.00 205 STAB XCAULDHAME\,STROMNESS 755  £1\,479.80 196 CHARSTORE STEERS REALISED 200 P/KG FOR A SIMMENTAL SCALING 390 KILOS FROM R J & J L GAUDIE NETHERSKAILL BIRSAY  £780OTM COWS REALISED 132.9 P/KG FOR AN ABERDEEN ANGUS SCALING 805 KILOS FROM J D FLETT & SON STANK STROMNESSSELLING FOR  £1070TOP PRICE WAS  £1090 FOR A CHAROLAIS SCALING 825 KILOS FROM RJ & JL GAUDIE NETHERSKAILL BIRSAYOTHER PRICESHOLLAND\,PAPA WESTRAY 740  £940.00 127 AAHOLLAND\,PAPA WESTRAY 715  £910.00 127.3 AAHOLLAND\,PAPA WESTRAY 655  £830.00 126.7 AA
URL:https://orkneymart.com/event/cattle-sale-135/
CATEGORIES:Sales Report
END:VEVENT
BEGIN:VEVENT
DTSTART;TZID=Europe/London:20190729T000000
DTEND;TZID=Europe/London:20190729T000000
DTSTAMP:20260421T211314
CREATED:20231020T100510Z
LAST-MODIFIED:20231027T105537Z
UID:10000939-1564358400-1564358400@orkneymart.com
SUMMARY:Cattle & Sheep Sales
DESCRIPTION:Forward for sale on Monday were 9 Prime Cattle\, 9 Store Cattle & 7 OTM Cattle. Prime heifers sold to 215 p/kg for a Limousin scaling 630 kilos from AJ & EJ Stanger\, Hillquoy\, Birsay realising  £1354.50 purchased by E Flett & Co. Other Prime Heifers Feaval\, Birsay 620  £1\,326.80 214 Sim Prime steers sold to 207 p/kg for a Charolais scaling 665 kilos from J & R Stanger\, South Seatter\, Sandwick realising  £1376.55 purchased by Williamsons Butchers. Other Prime Steers South Seatter\, Sandwick 675  £1\,377.00 204 CharHillquoy\, Birsay 645  £1\,290.00 200 LimFeaval\, Birsay 730  £1\,460.00 200 Lim Store heifers sold to 231.5 p/kg for a pair of British Blues scaling 445 kilos from W S L Muir\, Upper Onston\, Stenness realising  £1030 which was also top price per head. OTM Cows were once again sharper on the week and sold to 139.3 p/kg for a Limousin cow scaling 610 kilos from B Norquoy\, Holland\, South Ronaldsay realising  £850. Top price per head was  £1000 for a Charolais cow scaling 825 kilos from Northbank Holdings\, St Ola. Other OTM Cows Northbank\, St Ola 705  £880.00 124.8 CharFisk-Hellia\, Evie 660  £890.00 134.8 Lim OTM Bulls sold to a top of 114.8 p/kg for an Aberdeen Angus scaling 1115 kilos from T L Miller\, Briarlea\, Stronsay realising  £1280. Other OTM Bulls East Massater\, South Ronaldsay 1065  £1\,000.00 93.9 AAGitterpitten\, Rendall 1145  £1\,280.00 111.8 AA Following the cattle were 29 Prime Sheep\, 9 Store Hoggs & 49 Cast Sheep. A great show of new season lambs sold to a top of 219.8 p/kg for a pair of Texels scaling 45.5 kilos from JI & WN Stout\, Whitehall\, Stronsay realising  £100 purchased by Williamsons Butchers. Top price per head was  £103 for a pen of three Texels scaling 53 kilos from E S H Harcus\, Quanterness\, St Ola purchased by Williamsons Butchers. Other Prime Lambs Quanterness\, St Ola 51.5  £100.00 194.2 TexQuanterness\, St Ola 55  £100.00 182 SuffWhitehall\, Stronsay 46.5  £82.00 176.3 SuffWhitehall\, Stronsay 48  £82.00 170.8 Tex Store Hoggs sold to  £55 for a pen of three Texels from D W Pottinger\, Anderswick\, Stenness. A smaller show of cast sheep were cheaper in the week selling to  £93 for a Texel ewe from E J Sinclair\, Holland\, Firth.
URL:https://orkneymart.com/event/cattle-sheep-sales-85/
CATEGORIES:Sales Report
END:VEVENT
END:VCALENDAR