BEGIN:VCALENDAR
VERSION:2.0
PRODID:-//Orkney Auction Mart - ECPv6.15.17.1//NONSGML v1.0//EN
CALSCALE:GREGORIAN
METHOD:PUBLISH
X-ORIGINAL-URL:https://orkneymart.com
X-WR-CALDESC:Events for Orkney Auction Mart
REFRESH-INTERVAL;VALUE=DURATION:PT1H
X-Robots-Tag:noindex
X-PUBLISHED-TTL:PT1H
BEGIN:VTIMEZONE
TZID:Europe/London
BEGIN:DAYLIGHT
TZOFFSETFROM:+0000
TZOFFSETTO:+0100
TZNAME:BST
DTSTART:20170326T010000
END:DAYLIGHT
BEGIN:STANDARD
TZOFFSETFROM:+0100
TZOFFSETTO:+0000
TZNAME:GMT
DTSTART:20171029T010000
END:STANDARD
BEGIN:DAYLIGHT
TZOFFSETFROM:+0000
TZOFFSETTO:+0100
TZNAME:BST
DTSTART:20180325T010000
END:DAYLIGHT
BEGIN:STANDARD
TZOFFSETFROM:+0100
TZOFFSETTO:+0000
TZNAME:GMT
DTSTART:20181028T010000
END:STANDARD
BEGIN:DAYLIGHT
TZOFFSETFROM:+0000
TZOFFSETTO:+0100
TZNAME:BST
DTSTART:20190331T010000
END:DAYLIGHT
BEGIN:STANDARD
TZOFFSETFROM:+0100
TZOFFSETTO:+0000
TZNAME:GMT
DTSTART:20191027T010000
END:STANDARD
END:VTIMEZONE
BEGIN:VEVENT
DTSTART;TZID=Europe/London:20180702T000000
DTEND;TZID=Europe/London:20180702T000000
DTSTAMP:20260422T122020
CREATED:20231020T101531Z
LAST-MODIFIED:20231027T105536Z
UID:10001019-1530489600-1530489600@orkneymart.com
SUMMARY:Cattle Sale
DESCRIPTION:PRIME CATTLE SOLD TO 236 P/KG FOR AN ABERDEEN ANGUS HEIFER SCALING 645 KILOS FROM A & A FOUBISTER \nNETHERTON HOLM REALISING  £1522.20 PURCHASED BY CRAIGIE BUTCHER LTD BRIG LARDER KIRKWALL \nPRIME STEERS SOLD TO 225 P/KG FOR A STABILISER X SCALING 575 KILOS FROM G HENRY HOWE HARRAY \nREALISING  £1293.75 PURCHASED BY E FLETT BUTCHER STROMNESS \nOTHER PRIME PRICES \nHOWE FARM\,HARRAY 600  £1\,320.00 220 CONT CRAIGIE BUTCHER LTD BRIG LARDER KIRKWALL \nHOWE FARM\,HARRAY 630  £1\,392.30 221 CONT CRAIGIE BUTCHER LTD BRIG LARDER KIRKWALL \nHOWE FARM\,HARRAY 530  £1\,166.00 220 CONT E FLETT BUTCHER STROMNESS \nCAULDHAME\,STROMNESS 695  £1\,549.85 223 SIM WILLIAMSONS EAST ROAD KIRKWALL \nCAULDHAME\,STROMNESS 740  £1\,591.00 215 CHAR WILLIAMSONS EAST ROAD KIRKWALL
URL:https://orkneymart.com/event/cattle-sale-168/
CATEGORIES:Sales Report
END:VEVENT
BEGIN:VEVENT
DTSTART;TZID=Europe/London:20180709T000000
DTEND;TZID=Europe/London:20180709T000000
DTSTAMP:20260422T122020
CREATED:20231020T101531Z
LAST-MODIFIED:20231027T105536Z
UID:10001018-1531094400-1531094400@orkneymart.com
SUMMARY:Cattle & Sheep Sales
DESCRIPTION:PRIME STEERS SOLD TO 230 P/KG FOR A SIMMENTAL SCALING 605 KILOS FROM J & R STANGER \nSOUTH SEATTER SANDWICK REALISING  £1391.50 PURCHASED BY CRAIGIE BUTCHERS LTD BRIG LARDER KIRKWALL \nPRIME HEIFERS SOLD TO 220 P/KG FOR A SIMMENTAL SCALING 660 KILOS FROM J & G SMITH CAULDHAME \nSTROMNESS REALISING  £1452 BOUGHT BY WILLIAMSONS EAST ROAD KIRKWALL \nOTHER PRIME CATTLE \nSOUTH SEATTER\,SANDWICK 605  £1\,355.20 224 SIM \nCAULDHAME\,STROMNESS 640  £1\,395.20 218 SIM \nCAULDHAME\,STROMNESS 590  £1\,250.80 212 SIM \nSTAYE\,DEERNESS 655  £1\,401.70 214 LIM \nSTAYE\,DEERNESS 710  £1\,420.00 200 CONT \nARION\,STROMNESS 500  £1\,095.00 219 LIM \nOTM COWS SOLD TO  £1100 FOR A LIMOUSIN SCALING 815 KILOS AND TO 148.1 P/KG FOR A SHORTHORN \nSCALING 665 KILOS REALISING  £985 BOTH FROM J C SINCLAIR APPIETEEN SANDWICK \nNEW SEASON LAMBS SOLD TO  £110 FOR A PAIR OF SUFFOLKS SCALING 74 KILOS FROM D & G SUMMERS \nEAST HOUSE TOAB \nAND TO A TOP OF 150 P/KG FOR A SUFFOLK FROM T DELDAY OLD VOY TOAB 68 KILOS SELLING FOR  £102 \nALL THESE LAMBS WERE PURCHASED BY CRAIGIE BUTCHER LTD BRIG LARDER KIRKWALL
URL:https://orkneymart.com/event/cattle-sheep-sales-103/
CATEGORIES:Sales Report
END:VEVENT
BEGIN:VEVENT
DTSTART;TZID=Europe/London:20180716T000000
DTEND;TZID=Europe/London:20180716T000000
DTSTAMP:20260422T122020
CREATED:20231020T101518Z
LAST-MODIFIED:20231027T105536Z
UID:10001017-1531699200-1531699200@orkneymart.com
SUMMARY:Cattle Sale
DESCRIPTION:Forward for sale on Monday were 9 Prime Cattle\, 10 Bulling Heifers & 11 OTM Cattle.Prime cattle sold to 227 p/kg for a Simmental Steer scaling 570 kilos from J & R Stanger\,South Seatter\, Sandwick realising  £1293.90 purchased by E Flett Butchers.Top price per head was  £1526.50 for a Simmental scaling 710 kilos from J & G Smith\,Cauldhame\, Stromness (215p) Purchased by Williamsons Butchers.Prime Heifers sold to 212 p/kg for a Charolais scaling 690 kilos from J & G Smith\,Cauldhame\, Stromness realising  £1462.80 purchased by Williamsons Butchers.A Consignment of 10 Simmental Bulling Heifers were forward from T & M Bain\,Twiness\, Westray which sold to 338.5 p/kg for a group of three heifers scaling390 kilos which realised  £1320. OTM Cows sold to 134.8 p/kg for a Simmental scaling 690 kilos from T & M Bain\,Twiness\, Westray realising  £930.Top price per head was  £1090 for an Aberdeen Angus cow scaling 820 kilos from Holland Papay Ltd (132.9p)Cast Bulls sold to  £1000 for a Simmental scaling 865 kilos from D B Tulloch\, Burndyke\, Westray and for a British Blue scaling 895 kilos from J D Flett\, Stank\, Stromness.
URL:https://orkneymart.com/event/cattle-sale-167/
CATEGORIES:Sales Report
END:VEVENT
BEGIN:VEVENT
DTSTART;TZID=Europe/London:20180723T000000
DTEND;TZID=Europe/London:20180723T000000
DTSTAMP:20260422T122020
CREATED:20231020T101518Z
LAST-MODIFIED:20231027T105536Z
UID:10001016-1532304000-1532304000@orkneymart.com
SUMMARY:Cattle & Sheep Sales
DESCRIPTION:11 Prime cattle\, 1 Store and 2 OTMs were sold on Monday when Prime cattle sold to 226p/kg for a 575kg Limousin heifer\, from Tait\, Campston\, Toab\, which realised  £1299.50 to Craigie Butcher Ltd\, The Brig\, Kirkwall. \nOther leading Prime heifer prices – \nBritish Blue (590kg) Glen Orkney Farms\, St Ola (224p)  £1321.60 \nLimousin (570kg) Tait\, Campston\, Toab (222p)  £1265.40 \nCharolais (635kg) Eunson\, Staye\, Deerness (217p)  £1312.85 \nCharolais (660kg) Northbank Holdings\, St Ola (207p)  £1366.20 \nPrime steers sold to 218p/kg for a 685kg Charolais\, from Glen Orkney Farms\, St Ola which realised  £1493.30 to Williamsons\, Butcher\, Kirkwall. \nOther leading Prime steer prices – \nCharolais (700kg) Eunson\, Staye\, Deerness (216p)  £1512 \nAn OTM cow\, scaling 635kg\, from Eunson\, Staye\, Deerness realised  £720 and an OTM bull from Trenabie Farms\, Westray scaled 1020kg and realised  £1100 (107.8p/kg) \nFollowing the cattle sale\, 21 Prime lambs and hoggs and 61 Cast sheep were sold. \nPrime lambs sold to 190p/kg for a 50kg Charollais\, from Marshall\, Cotland\, St Ola\, which realised  £95 \nOther leading Prime lamb prices – \nCharollais (53kg) Muir\, Kierfiold\, Sandwick (184.9p)  £98 \nTexel (52kg) Scott\, Dawn Cottage\, Holm (175p)  £91 \nTexel (53kg) Breck Farms Ltd\, Queenamuckle\, Rendall (173.6p)  £92 \nTexel (49kg) Cox\, Breck\, Eday (173.5p)  £85 \nPrime hoggs sold to 102.8p for a 72kg Texel\, from How Farms Ltd\, Sanday which realised  £74 \nCast ewes sold to  £95 for a Texel\, from Muir\, Kierfiold\, Sandwick \nOther leading ewe prices – \n2 Texels ( £92) Harcus\, Quanterness\, St Ola \nTexel ( £89) How Farms Ltd\, Sanday \nTexel ( £84) Marshall\, Cotland\, St Ola \nTexel ( £79) Johnston\, Cloke\, Dounby \n4 Lleyns ( £65) Groat\, Cloke\, Dounby \nPrime rams sold to  £82 for a Texel\, from Dick\, Mid Skaill\, Egilsay. \nOther leading Prime ram prices – \nTexel ( £80) Groat\, Cloke\, Dounby \nTexel ( £55) Rendall Braefoot\, Shapinsay
URL:https://orkneymart.com/event/cattle-sheep-sales-102/
CATEGORIES:Sales Report
END:VEVENT
END:VCALENDAR