BEGIN:VCALENDAR
VERSION:2.0
PRODID:-//Orkney Auction Mart - ECPv6.15.17.1//NONSGML v1.0//EN
CALSCALE:GREGORIAN
METHOD:PUBLISH
X-ORIGINAL-URL:https://orkneymart.com
X-WR-CALDESC:Events for Orkney Auction Mart
REFRESH-INTERVAL;VALUE=DURATION:PT1H
X-Robots-Tag:noindex
X-PUBLISHED-TTL:PT1H
BEGIN:VTIMEZONE
TZID:Europe/London
BEGIN:DAYLIGHT
TZOFFSETFROM:+0000
TZOFFSETTO:+0100
TZNAME:BST
DTSTART:20170326T010000
END:DAYLIGHT
BEGIN:STANDARD
TZOFFSETFROM:+0100
TZOFFSETTO:+0000
TZNAME:GMT
DTSTART:20171029T010000
END:STANDARD
BEGIN:DAYLIGHT
TZOFFSETFROM:+0000
TZOFFSETTO:+0100
TZNAME:BST
DTSTART:20180325T010000
END:DAYLIGHT
BEGIN:STANDARD
TZOFFSETFROM:+0100
TZOFFSETTO:+0000
TZNAME:GMT
DTSTART:20181028T010000
END:STANDARD
BEGIN:DAYLIGHT
TZOFFSETFROM:+0000
TZOFFSETTO:+0100
TZNAME:BST
DTSTART:20190331T010000
END:DAYLIGHT
BEGIN:STANDARD
TZOFFSETFROM:+0100
TZOFFSETTO:+0000
TZNAME:GMT
DTSTART:20191027T010000
END:STANDARD
END:VTIMEZONE
BEGIN:VEVENT
DTSTART;TZID=Europe/London:20180507T000000
DTEND;TZID=Europe/London:20180507T000000
DTSTAMP:20260422T144516
CREATED:20231020T101932Z
LAST-MODIFIED:20231027T105535Z
UID:10001028-1525651200-1525651200@orkneymart.com
SUMMARY:Cattle & Sheep Sales
DESCRIPTION:7 Prime cattle and 7 OTM cattle were sold on Monday\, prior to the sale of Prime\, Store and Cast Sheep. \nPrime cattle sold to 236p/kg for a 650kg Limousin steer\, from Stanger\, South Seatter\, Sandwick\, which realised  £1534 to Craigie Butcher Ltd\, The Brig\, Kirkwall \nOther leading Prime steer prices – \nLimousin (690kg) Omand\, Stembister\, Toab (232p)  £1600.80 \nPrime heifers sold to 230p/kg for a 725kg Charolais\, from Stanger\, South Seatter\, Sandwick\, which realised  £1667.50 to Williamsons\, Butcher\, Kirkwall. \nOther leading prime heifer prices – \nCharolais (615kg) Fraser\, Feavel\, Birsay (230p)  £1414.50 \nOTM cattle sold to 165.5p/kg for a 725kg Simmental cow\, from Seator\, Seattersquoy\, Stenness\, which realised  £1200 \nOther leading OTM prices – \nSimmental (760kg) Seator\, Seattersquoy\, Stenness (164.5p) 31250 \nSimmental (555kg) Muir\, Biggings\, Holm (135.1p)  £750 \nOTM bulls sold to a top of 108p for a 1000kg Charolais\, from Scott & Brown\, Biggings\, Stenness ( £1080) \n  \n81 Prime hoggs sold to 228.8p/kg for a pair of Texels from Muir\, Biggings\, Holm\, which scaled 52kg and realised  £119 \nOther top prices per kilo – \n2 Cheviots (56kg) Drydale Farms\, Stromness (225p)  £126 \nTexel (44kg) Stevenson\, Crismo\, Evie (220.5p)  £97 \n3 Texels (44.5kg) Backakelday Farm\, Holm (220.2p)  £98 \nTop price per head for Prime hoggs was  £141 for a Cheviot x from Drydale Farms\, Stromness \nOther leading prices per head – \nTexel x – Scott\, North Dawn\, Holm –  £140 \nCheviot x – Drydale Farms\, Stromness –  £138 \n2 Suffolk x”s – Shearer \, Housegarth\, Quoyloo –  £137 \n35 Store hoggs sold to  £77.50 for a Suffolk x from Shearer\, Housegarth\, Quoyloo. \nOther leading store hogg prices per head – \n4 Texel x”s – Backakelday Farm\, Holm –  £76 \nTexel x – Hobbister Farms\, Orphir –  £69 \n46 Cast sheep sold to  £105 for a Texel ewe\, from Cowe\, Little Howes\, Holm – Other leading ewe prices – \nTexel x – Drydale Farms\, Stromness  £99 \nTexel x – Moar\, Withaquoy\, Holm  £98 \nCast rams sold to  £105 for a Texel from Irvine\, Lenashowe\, Sandwick.
URL:https://orkneymart.com/event/cattle-sheep-sales-107/
CATEGORIES:Sales Report
END:VEVENT
BEGIN:VEVENT
DTSTART;TZID=Europe/London:20180514T000000
DTEND;TZID=Europe/London:20180514T000000
DTSTAMP:20260422T144516
CREATED:20231020T101733Z
LAST-MODIFIED:20231027T105535Z
UID:10001027-1526256000-1526256000@orkneymart.com
SUMMARY:Cattle Sale
DESCRIPTION:FORWARD FOR SALE ON MONDAY WERE 12 PRIME CATTLE 477 STORE CATTLE AND 23 OTM’S \nPRIME CATTLE SOLD TO 236 P/KG FOR A LIMOUSIN STEER SCALING 575 KILOS FROM J & R STANGER \nSOUTH SEATTER SANDWICK REALISING  £1357 PURCHASED BY CRAIGIE BUTCHER LTD BRIG LARDER \nKIRKWALL \nTOP PRICE PRIME HEIFER WAS 230 P/KG FOR A CHAROLAIS SCALING 635 KILOS FROM J & G SMITH \nCAULDHAME STROMNESS REALISING  £1460.50 PURCHASED BY WILLIAMSONS EAST ROAD KIRKWALL \nOTHER PRIME CATTLE PRICES \nHEIFERS \nSWANNAY FARM\,BY EVIE 480  £1\,027.20 214 SIM \nCAMPSTON\,TOAB 480  £1\,056.00 220 LIM \nLYKING\,SANDWICK 525  £1\,181.25 225 SIM \nLYKING\,SANDWICK 695  £1\,542.90 222 LIM \nCAULDHAME\,STROMNESS 585  £1\,292.85 221 SIM \nCAMPSTON\,TOAB 595  £1\,356.60 228 AA \nCAMPSTON\,TOAB 575  £1\,299.50 226 LIM \nSTEERS \nCAULDHAME\,STROMNESS 680  £1\,516.40 223 CHAR \nSOUTH SEATTER\,SANDWICK 685  £1\,548.10 226 CHAR \nSTORE STEERS SOLD TO 284 P/KG FOR A CHAROLAIS SCALING 375 KILOS FROM HOUSEBAY FARM STRONSAY \nREALISING  £1065 \nTOP PRICED STEER WAS  £1440 FOR AN ABERDEEN ANGUS SCALING 665 KILOS FROM T L I MILLER \nBRIARLEA STRONSAY \nSTORE STEER PRICES \nKIRBUSTER\,LONGHOPE 410  £1\,065.00 259.8 LIM \nKIRBUSTER\,LONGHOPE 412  £1\,030.00 250 LIM \nKIRBUSTER\,LONGHOPE 395  £945.00 239.2 AA \nHALL OF TANKERNESS\,TANKERNESS 438  £1\,040.00 237.4 AA \nHALL OF TANKERNESS\,TANKERNESS 430  £1\,000.00 232.6 AA \nHALL OF TANKERNESS\,TANKERNESS 408  £975.00 239 AA \nHALL OF TANKERNESS\,TANKERNESS 412  £975.00 236.7 AA \nMUCKLE CROFTY\,TANKERNESS 435  £1\,000.00 229.9 LIM \nMUCKLE CROFTY\,TANKERNESS 369  £935.00 253.4 LIM \nMUCKLE CROFTY\,TANKERNESS 340  £820.00 241.2 LIM \nWORKWELL\,ORPHIR 475  £1\,100.00 231.6 SIM \nWORKWELL\,ORPHIR 452  £1\,080.00 238.9 SIM \nWORKWELL\,ORPHIR 455  £1\,040.00 228.6 SIM \nSUNNYBANK\,ST OLA 485  £1\,020.00 210.3 CHAR \nGLEBE\,FIRTH 625  £1\,385.00 221.6 SIM \nGLEBE\,FIRTH 595  £1\,325.00 222.7 AA \nHALL OF CLESTRAIN\,ORPHIR 491  £1\,200.00 244.4 CHAR \nHALL OF CLESTRAIN\,ORPHIR 448  £1\,130.00 252.2 CHAR \nHALL OF CLESTRAIN\,ORPHIR 472  £1\,120.00 237.3 CHAR \nHALL OF CLESTRAIN\,ORPHIR 435  £1\,080.00 248.3 CHAR \nHALL OF CLESTRAIN\,ORPHIR 440  £1\,060.00 240.9 CHAR \nGREENHALL\,DEERNESS 353  £750.00 212.5 OTH \nCHARLESTON\,PAPA WESTRAY 490  £1\,200.00 244.9 CHAR \nCHARLESTON\,PAPA WESTRAY 480  £1\,160.00 241.7 LIM \nCHARLESTON\,PAPA WESTRAY 465  £1\,095.00 235.5 AA \nWESTSHORE\,RENDALL 375  £850.00 226.7 AA \nWESTSHORE\,RENDALL 347  £800.00 230.5 AA \nWESTSHORE\,RENDALL 335  £740.00 220.9 AA \nSOUTH TOFTS\,EGILSAY 410  £830.00 202.4 AA \nSOUTH TOFTS\,EGILSAY 410  £830.00 202.4 AA \nORGIL\,HOY 407  £940.00 231 SIM \nORGIL\,HOY 378  £910.00 240.7 SIM \nORGIL\,HOY 347  £895.00 257.9 SIM \nORGIL\,HOY 345  £850.00 246.4 SIM \nHOUSEBAY\,STRONSAY 495  £1\,180.00 238.4 LIM \nHOUSEBAY\,STRONSAY 455  £1\,130.00 248.4 CHAR \nHOUSEBAY\,STRONSAY 430  £1\,100.00 255.8 CHAR \nHOUSEBAY\,STRONSAY 432  £1\,100.00 254.6 LIM \nHOUSEBAY\,STRONSAY 402  £1\,050.00 261.2 BB \nHOUSEBAY\,STRONSAY 385  £1\,040.00 270.1 BB \nBRETTOVALE\,DOUNBY 360  £1\,005.00 279.2 LIM \nBRETTOVALE\,DOUNBY 465  £1\,000.00 215.1 SH \nBRETTOVALE\,DOUNBY 340  £850.00 250 LIM \nDENWICK\,DEERNESS 340  £840.00 247.1 LIM \nDENWICK\,DEERNESS 308  £700.00 227 BB \nBRIARLEA\,STRONSAY 665  £1\,440.00 216.5 AA \nBRIARLEA\,STRONSAY 620  £1\,370.00 221 AA \nBANKS\,STRONSAY 485  £1\,090.00 224.7 AA \nBANKS\,STRONSAY 415  £915.00 220.5 AA \nBANKS\,STRONSAY 380  £860.00 226.3 AA \nWITHAQUOY\,HOLM 430  £1\,050.00 244.2 SIM \nMIDLAND\,RENDALL 423  £950.00 224.6 AA \nMIDLAND\,RENDALL 398  £915.00 229.9 AA \nSWANNAY FARM\,BY EVIE 430  £1\,060.00 246.5 SIM \nBRYAMEADOW FARM\,TWATT 390  £1\,025.00 262.8 CHAR \nSWANNAY FARM\,BY EVIE 400  £1\,010.00 252.5 CHAR \nSWANNAY FARM\,BY EVIE 395  £1\,000.00 253.2 CHAR \nSWANNAY FARM\,BY EVIE 420  £1\,000.00 238.1 SIM \nSWANNAY FARM\,BY EVIE 420  £990.00 235.7 CHAR \nBRYAMEADOW FARM\,TWATT 360  £940.00 261.1 CHAR \nBRYAMEADOW FARM\,TWATT 346  £770.00 222.5 SAL \nVEDDERTOWNMAIL\,TANKERNESS 385  £890.00 231.2 LIM \nVEDDERTOWNMAIL\,TANKERNESS 300  £695.00 231.7 LIM \nLITTLE WARDS\,LONGHOPE 385  £950.00 246.8 CHAR \nLITTLE WARDS\,LONGHOPE 382  £900.00 235.6 AA \nLITTLE WARDS\,LONGHOPE 355  £890.00 250.7 CHAR \nRUSSAMYRE\,ORPHIR 411  £975.00 237.2 AA \nNETHERHILL\,TANKERNESS 375  £850.00 226.7 LIM \nNETHERHILL\,TANKERNESS 350  £845.00 241.4 SIM \nREDLAND\,FIRTH 450  £1\,030.00 228.9 LIM \nREDLAND\,FIRTH 401  £960.00 239.4 AA \nREDLAND\,FIRTH 357  £900.00 252.1 LIM \nCLAYBRAES\,SOUTH RONALDSAY 416  £1\,010.00 242.8 SIM \nCLAYBRAES\,SOUTH RONALDSAY 400  £960.00 240 SIM \nHAYON\,BIRSAY 385  £950.00 246.8 LIM \nHAYON\,BIRSAY 345  £890.00 258 LIM \nHAYON\,BIRSAY 320  £820.00 256.3 LIM \nHAYON\,BIRSAY 298  £795.00 266.8 LIM \nBU\,ORPHIR 390  £965.00 247.4 LIM \nBU\,ORPHIR 365  £900.00 246.6 CHAR \nBU\,ORPHIR 395  £900.00 227.8 SIM \nBU\,ORPHIR 360  £880.00 244.4 LIM \nBU\,ORPHIR 340  £845.00 248.5 LIM \nBU\,STRONSAY 468  £1\,080.00 230.8 LIM \nBU\,STRONSAY 436  £1\,065.00 244.3 SIM \nBU\,STRONSAY 441  £1\,050.00 238.1 SIM \nBU\,STRONSAY 422  £1\,020.00 241.7 SIM \nBU\,STRONSAY 378  £960.00 254 SIM \nLINKSNESS\,STRONSAY 400  £960.00 240 CHAR \nLINKSNESS\,STRONSAY 411  £960.00 233.6 CHAR \nLINKSNESS\,STRONSAY 415  £940.00 226.5 AA \nLINKSNESS\,STRONSAY 395  £930.00 235.4 AA \nLINKSNESS\,STRONSAY 360  £860.00 238.9 SIM \nBACHYLIS\,ORPHIR 420  £940.00 223.8 CHAR \nBACHYLIS\,ORPHIR 340  £890.00 261.8 CHAR \nBACHYLIS\,ORPHIR 305  £695.00 227.9 OTH \nINGSAY\,SWANNAY 430  £1\,160.00 269.8 CHAR \nINGSAY\,SWANNAY 420  £1\,090.00 259.5 LIM \nINGSAY\,SWANNAY 465  £1\,030.00 221.5 SIM \nINGSAY\,SWANNAY 405  £990.00 244.4 CHAR \nINGSAY\,SWANNAY 377  £920.00 244 SIM \nROSEMOUNT\,SANDWICK 355  £850.00 239.4 LIM \nROSEMOUNT\,SANDWICK 355  £850.00 239.4 LIM \nBEAFIELD\,SANDAY 450  £1\,080.00 240 CHAR \nBEAFIELD\,SANDAY 395  £970.00 245.6 SIM \nBEAFIELD\,SANDAY 370  £830.00 224.3 SH \nRENNIBISTER FARM\,KIRKWALL 388  £1\,000.00 257.7 CHAR \nRENNIBISTER FARM\,KIRKWALL 415  £935.00 225.3 BB \nRENNIBISTER FARM\,KIRKWALL 385  £915.00 237.7 AA \nRENNIBISTER FARM\,KIRKWALL 390  £900.00 230.8 BB \nKNOCKHALL\,SOUTH RONALDSAY 385  £870.00 226 SH \nKNOCKHALL\,SOUTH RONALDSAY 360  £840.00 233.3 SH \nKNOCKHALL\,SOUTH RONALDSAY 355  £820.00 231 SH \nKNOCKHALL\,SOUTH RONALDSAY 345  £815.00 236.2 SH \nSTORE HEIFERS SOLD TO 271.3 P/KG FOR A CHAROLAIS SCALING 435 KILOS FROM HOUSEBAY FARM STRONSAY \nREALISING  £1180 \nTOP PRICE WAS  £1380 FOR A LIMOUSIN WEIGHING 570 KILOS FROM N M & A KEMP MOA STENNESS \nOTHER STORE HEIFER PRICES \nKIRBUSTER\,LONGHOPE 550  £1\,050.00 190.9 AA \nKIRBUSTER\,LONGHOPE 415  £920.00 221.7 CHAR \nKIRBUSTER\,LONGHOPE 421  £920.00 218.5 LIM \nMUCKLE CROFTY\,TANKERNESS 390  £900.00 230.8 LIM \nMUCKLE CROFTY\,TANKERNESS 410  £860.00 209.8 LIM \nMUCKLE CROFTY\,TANKERNESS 350  £720.00 205.7 LIM \nWORKWELL\,ORPHIR 430  £890.00 207 SIM \nWORKWELL\,ORPHIR 430  £850.00 198 SIM \nSUNNYBANK\,ST OLA 500  £1\,100.00 220 CHAR \nSUNNYBANK\,ST OLA 510  £1\,070.00 209.8 CHAR \nSUNNYBANK\,ST OLA 460  £970.00 210.9 SIM \nHALL OF CLESTRAIN\,ORPHIR 470  £980.00 208.5 LIM \nHALL OF CLESTRAIN\,ORPHIR 432  £950.00 219.9 LIM \nHALL OF CLESTRAIN\,ORPHIR 425  £900.00 211.8 CONT \nHOUSEBAY\,STRONSAY 435  £1\,180.00 271.3 CHAR \nHOUSEBAY\,STRONSAY 420  £1\,040.00 247.6 CHAR \nHOUSEBAY\,STRONSAY 425  £980.00 230.6 LIM \nHOUSEBAY\,STRONSAY 430  £950.00 220.9 CHAR \nHOUSEBAY\,STRONSAY 390  £945.00 242.3 CHAR \nHOUSEBAY\,STRONSAY 370  £910.00 245.9 CHAR \nHOUSEBAY\,STRONSAY 360  £850.00 236.1 LIM \nDENWICK\,DEERNESS 335  £720.00 214.9 SH \nDENWICK\,DEERNESS 340  £700.00 205.9 SH \nMOA\,STENNESS 570  £1\,380.00 242.1 LIM \nMOA\,STENNESS 625  £1\,300.00 208 BB \nMOA\,STENNESS 595  £1\,240.00 208.4 LIM \nBRIARLEA\,STRONSAY 545  £1\,200.00 220.2 AA \nBRIARLEA\,STRONSAY 500  £1\,090.00 218 AA \nWITHAQUOY\,HOLM 425  £1\,005.00 236.5 LIM \nWITHAQUOY\,HOLM 442  £920.00 208.1 CHAR \nWITHAQUOY\,HOLM 413  £910.00 220.3 CHAR \nNORTH SKAILL\,SANDAY 415  £835.00 201.2 SH \nBRYAMEADOW FARM\,TWATT 405  £925.00 228.4 LIM \nBRYAMEADOW FARM\,TWATT 378  £890.00 235 LIM \nBRYAMEADOW FARM\,TWATT 346  £770.00 222.5 CHAR \nVEDDERTOWNMAIL\,TANKERNESS 357  £800.00 224.1 LIM \nVEDDERTOWNMAIL\,TANKERNESS 370  £800.00 216.2 LIM \nVEDDERTOWNMAIL\,TANKERNESS 305  £705.00 231.1 LIM \nLITTLE WARDS\,LONGHOPE 325  £705.00 216.9 CHAR \nRUSSAMYRE\,ORPHIR 410  £840.00 204.9 AA \nRUSSAMYRE\,ORPHIR 377  £820.00 217.5 AA \nPICKLETILLUM\,DEERNESS 530  £1\,120.00 211.3 SIM \nPICKLETILLUM\,DEERNESS 495  £1\,080.00 218.2 LIM \nMIDHOUSE\,HARRAY 452  £1\,000.00 221.2 SIM \nMIDHOUSE\,HARRAY 387  £810.00 209.3 SIM \nMILLQUOY\,STENNESS 465  £1\,090.00 234.4 LIM \nLOWER CORNQUOY\,HOLM 440  £960.00 218.2 CHAR \nHAYON\,BIRSAY 397  £900.00 226.7 LIM \nHAYON\,BIRSAY 375  £820.00 218.7 LIM \nBU\,ORPHIR 390  £805.00 206.4 LIM \nBU\,ORPHIR 365  £760.00 208.2 LIM \nBU\,ORPHIR 335  £725.00 216.4 LIM \nBU\,STRONSAY 512  £1\,150.00 224.6 SIM \nBU\,STRONSAY 465  £1\,090.00 234.4 LIM \nBU\,STRONSAY 395  £900.00 227.8 LIM \nBACHYLIS\,ORPHIR 320  £725.00 226.6 CHAR \nINGSAY\,SWANNAY 352  £800.00 227.3 CHAR \nROSEMOUNT\,SANDWICK 361  £785.00 217.5 LIM \nROSEMOUNT\,SANDWICK 340  £760.00 223.5 LIM \nINGSAY\,SWANNAY 340  £710.00 208.8 CHAR \nINGSAY\,SWANNAY 331  £705.00 213 LIM \nBEAFIELD\,SANDAY 390  £920.00 235.9 CHAR \nBEAFIELD\,SANDAY 372  £890.00 239.2 CHAR \nPURTABRECK\,NORTH RONALDSAY 590  £1\,260.00 213.6 AA \nPURTABRECK\,NORTH RONALDSAY 552  £1\,190.00 215.6 AA \nKNOCKHALL\,SOUTH RONALDSAY 303  £580.00 191.4 SH \nOTM’S SOLD TO  £1360 FOR AN ABERDEEN ANGUS BULL FROM P S & M H JOHNSTON BROCKAN STROMNESS \nOTHER PRICES \nSEATTERSQUOY\,STENNESS 650  £950.00 146.2 SIM \nORGIL\,HOY 655  £900.00 137.4 SIM \nBROCKAN\,STROMNESS 725  £1\,000.00 137.9 SIM \nMOA\,STENNESS 545  £1\,010.00 185.3 BB \nLYKING\,SANDWICK 825  £1\,240.00 150.3 AA \nLYKING\,SANDWICK 620  £1\,000.00 161.3 LIM \nLYKING\,SANDWICK 555  £850.00 153.2 SIM \nWITHAQUOY\,HOLM 655  £900.00 137.4 AA \nWITHAQUOY\,HOLM 585  £860.00 147 LIM \nNORTH SKAILL\,SANDAY 710  £990.00 139.4 AA \nMIDHOUSE\,HARRAY 590  £835.00 141.5 SIM \nMIDHOUSE\,HARRAY 495  £680.00 137.4 SIM \nMILLQUOY\,STENNESS 720  £1\,140.00 158.3 LIM \nLINKSNESS\,STRONSAY 750  £940.00 125.3 SIM \nKIRKBRAE\,WESTRAY 700  £910.00 130 SIM \nKIRKBRAE\,WESTRAY 600  £810.00 135 SIM \nROSEMOUNT\,SANDWICK 610  £680.00 111.5 SIM \nHONEYSGOE\,SOUTH RONALDSAY 655  £910.00 138.9 LIM \nHONEYSGOE\,SOUTH RONALDSAY 575  £900.00 156.5 SH
URL:https://orkneymart.com/event/cattle-sale-172/
CATEGORIES:Sales Report
END:VEVENT
BEGIN:VEVENT
DTSTART;TZID=Europe/London:20180521T000000
DTEND;TZID=Europe/London:20180521T000000
DTSTAMP:20260422T144516
CREATED:20231020T101732Z
LAST-MODIFIED:20231027T105535Z
UID:10001025-1526860800-1526860800@orkneymart.com
SUMMARY:Cattle Sale
DESCRIPTION:FORWARD FOR SALE ON MONDAY WERE 10 PRIME CATTLE 45 BREEDING CATTLE 15 STORES AND 22 OTMS \nPRIME CATTLE SOLD TO 224 P/KG FOR A CHAROLAIS HEIFER SCALING 575 KILOS FROM W S GARSON & SON \nHUAN SANDWICK REALISING  £1288 PURCHASED BY E FLETT BUTCHER STROMNESS \nOTHER PRIME CATTLE \nSWANNAY FARM\,BY EVIE 520  £1\,128.40 217 LIM \nHUAN\,SANDWICK 575  £1\,288.00 224 CHAR \nHUAN\,SANDWICK 585  £1\,251.90 214 CHAR \nHUAN\,SANDWICK 595  £1\,297.10 218 CHAR \nCAULDHAME\,STROMNESS 720  £1\,540.80 214 SIM \nCAULDHAME\,STROMNESS 650  £1\,397.50 215 SIM \nCAULDHAME\,STROMNESS 640  £1\,408.00 220 SIM \nCAULDHAME\,STROMNESS 720  £1\,447.20 201 SIM \nBREEDING COWS SOLD TO  £2200 FOR AN ABERDDEN ANGUS COW WITH CALF AT FOOT FROM \nAPPIETOWN FARMS RENDALL \nBULLING HEIFERS SOLD TO  £1550 FOR A SHORTHORN SCALING 560 KILOS FROM G & M ANDERTON \nHARRABROUGH SOUTH RONALDSAY \nOTHER COW AND CALF PRICES \nMOAN\,FIRTH  £1\,400.00 LIM \nMOAN\,FIRTH  £1\,700.00 LIM \nMOAN\,FIRTH  £1\,650.00 LIM \nAPPIETOWN\,RENDALL  £1\,750.00 LIM \nAPPIETOWN\,RENDALL  £2\,050.00 AA \nAPPIETOWN\,RENDALL  £2\,150.00 AA \nAPPIETOWN\,RENDALL  £2\,050.00 AA \nAPPIETOWN\,RENDALL  £2\,200.00 AA \nAPPIETOWN\,RENDALL  £2\,000.00 AA \nAPPIETOWN\,RENDALL  £1\,700.00 LIM \nIN CALF COWS SOLD TO  £1550 FOR A LIMOUSIN FROM S & M FLETT MOAN FIRTH \nSTORE STEERS SOLD TO 248.4 P/KG FOR A PAIR OF CHAROLAIS SCALING 322 KILOS FROM \nI M & V G ROBERTSON LITTLE WARDS LONGHOPE REALISING  £800 \nOTHER STORE PRICES \nBRYAMEADOW FARM\,TWATT 375  £800.00 213.3 SAL \nBRYAMEADOW FARM\,TWATT 360  £790.00 219.4 LIM \nLITTLE WARDS\,LONGHOPE 322  £800.00 248.4 CHAR \nLITTLE WARDS\,LONGHOPE 346  £780.00 225.4 AA \nHOUSEBAY\,STRONSAY 425  £900.00 211.8 SD \nSOUTH FLAWS\,SOUTH RONALDSAY 390  £850.00 217.9 AA \nSOUTH FLAWS\,SOUTH RONALDSAY 405  £910.00 224.7 AA \nOTM COWS SOLD TO 195.5 P/KG FOR COW SCALING 440 KILOS FROM J SINCLAIR & CO MIDHOUSE HARRAY \nTOP PRICE WAS  £1200 FOR AN ABERDEEN ANGUS SCALING 815 KILOS FROM HOBBISTER FARMS ORPHIR \nOTHER OTM PRICES \nBRYAMEADOW FARM\,TWATT 560  £850.00 151.8 AA \nBRYAMEADOW FARM\,TWATT 540  £900.00 166.7 BB \nBRYAMEADOW FARM\,TWATT 540  £880.00 163 SAL \nSEATTER\,STROMNESS 650  £950.00 146.2 AA \nSEATTER\,STROMNESS 655  £950.00 145 AA \nSEATTER\,STROMNESS 610  £940.00 154.1 AA \nMILLQUOY\,STENNESS 725  £1\,150.00 158.6 SD \nMILLQUOY\,STENNESS 690  £1\,060.00 153.6 LIM \nMILLQUOY\,STENNESS 695  £1\,060.00 152.5 LIM \nWARTHILL\,HOLM 575  £960.00 167 SIM \nWARTHILL\,HOLM 670  £960.00 143.3 LIM \nHOBBISTER\,ORPHIR 815  £1\,200.00 147.2 AA \nHOBBISTER\,ORPHIR 580  £850.00 146.6 AA \nMIDHOUSE\,HARRAY 510  £890.00 174.5 SIM \nMIDHOUSE\,HARRAY 550  £915.00 166.4 SIM \nHESTWALL HOUSE\,HOLM 690  £1\,110.00 160.9 LIM
URL:https://orkneymart.com/event/cattle-sale-171/
CATEGORIES:Sales Report
END:VEVENT
BEGIN:VEVENT
DTSTART;TZID=Europe/London:20180528T000000
DTEND;TZID=Europe/London:20180528T000000
DTSTAMP:20260422T144516
CREATED:20231020T101732Z
LAST-MODIFIED:20231027T105535Z
UID:10001024-1527465600-1527465600@orkneymart.com
SUMMARY:Cattle & Sheep Sales
DESCRIPTION:FORWARD FOR SALE ON MONDAY WERE 12 PRIME CATTLE 5 STORE CATTLE AND 6 OTM’S ALSO 112 PRIME HOGGS \n53 STORE HOGGS AND 91 CAST SHEEP \nPRIME HEIFERS SOLD TO A TOP OF 233 P/KG FOR A LIMOUSIN SCALING 565 KILOS FROM B & B OMAND STEMBISTER \nTOAB REALISING  £1316.45 PURCHASED BY CRAIGIE BUTCHERS LTD BRIG LARDER KIRKWALL \nOTHER PRIME HEIFER PRICES \nSTAYE\,DEERNESS 525  £1\,128.75 215 LIM \nLYKING\,SANDWICK 770  £1\,786.40 232 LIM \nLYKING\,SANDWICK 590  £1\,321.60 224 SIM \nLYKING\,SANDWICK 670  £1\,447.20 216 LIM \nNORTHBANK\,ST OLA 585  £1\,292.85 221 CHAR \nNORTHBANK\,ST OLA 600  £1\,260.00 210 CHAR \nSTEMBISTER\,TOAB 625  £1\,406.25 225 LIM \nSTEMBISTER\,TOAB 635  £1\,339.85 211 SIM \nCAULDHAME\,STROMNESS 640  £1\,465.60 229 CHAR \nCAULDHAME\,STROMNESS 565  £1\,214.75 215 CHAR \nOTM CATTLE SOLD TO 174.8 P/KG FOR A LIMOUSIN SCALING 555 KILOS FROM J & S HAY EAST HOWE BIRSAY REALISING  £970 \nOTM CATTLE SOLD TO A TOP OF  £1050 FOR AN ABERDEEN ANGUS SCALING 775 KILOS FROM N & K SCLATER SKAILL ORPHIR \nPRIME HOGGS SOLD TO 208 P/KG FOR 16 TEXELS SCALING 53 KILOS FROM GLEN  FARMS WEIGHING 53 KILOS SELLING FOR  £110 \nOTHER PRIME HOGG PRICES \nBINSCARTH HOUSE\,FINSTOWN 55  £81.00 147.3 TEX \nHAYBRAKE LYNESS 49  £98.00 200 SUF \nBRECK COTTAGE\,BIRSAY 45  £73.00 162 WHITE \nHEATHERUM\,SOUTH RONALDSAY 56  £105.00 187.5 TEX \nHEATHERUM\,SOUTH RONALDSAY 40.5  £67.00 165.4 TEX \nEASTSIDE\,TWATT 65  £121.00 186.2 TEX \nEASTSIDE\,TWATT 62  £96.00 154.8 TEX \nBENLAW\,EVIE 47.5  £89.00 187.4 CHAR \nBENLAW\,EVIE 47.5  £81.00 170.5 CHAR \nSTORE HOGGS SOLD TO  £61 FOR 3 SUFFOLKS FROM HAYBRAKE FARM LYNESS \nCAST SHEEP SOLD TO  £100 FOR A BELTEX RAM FROM D M WALLS INKERMAN SANDAY \nOTHER CAST SHEEP \nBINSCARTH \,FINSTOWN  £63.00 BLACK \nUPPERFIELD\,ST OLA  £54.00 TEX \nHOBBISTER\,ORPHIR  £75.00 TEX \nHOBBISTER\,ORPHIR  £46.00 TEX \nTHE BUNGALOW\,SWANNAY  £68.00 TEX \nSWANNAY FARM\,BY EVIE  £62.00 OTHER \nHEATHERUM\,SOUTH RONALDSAY  £61.00 TEX \nHEATHERUM\,SOUTH RONALDSAY  £56.00 TEX \nPURTABRECK\,TOAB  £55.00 SUF \nINKERMAN\,SANDAY  £97.00 TEX \nINKERMAN\,SANDAY  £96.00 TEX \nINKERMAN\,SANDAY  £70.00 CHEV \nCASTLE\,STROMNESS  £78.00 CHEV \nCASTLE\,STROMNESS  £77.00 TEX
URL:https://orkneymart.com/event/cattle-sheep-sales-106/
CATEGORIES:Sales Report
END:VEVENT
END:VCALENDAR