BEGIN:VCALENDAR
VERSION:2.0
PRODID:-//Orkney Auction Mart - ECPv6.15.17.1//NONSGML v1.0//EN
CALSCALE:GREGORIAN
METHOD:PUBLISH
X-WR-CALNAME:Orkney Auction Mart
X-ORIGINAL-URL:https://orkneymart.com
X-WR-CALDESC:Events for Orkney Auction Mart
REFRESH-INTERVAL;VALUE=DURATION:PT1H
X-Robots-Tag:noindex
X-PUBLISHED-TTL:PT1H
BEGIN:VTIMEZONE
TZID:Europe/London
BEGIN:DAYLIGHT
TZOFFSETFROM:+0000
TZOFFSETTO:+0100
TZNAME:BST
DTSTART:20170326T010000
END:DAYLIGHT
BEGIN:STANDARD
TZOFFSETFROM:+0100
TZOFFSETTO:+0000
TZNAME:GMT
DTSTART:20171029T010000
END:STANDARD
BEGIN:DAYLIGHT
TZOFFSETFROM:+0000
TZOFFSETTO:+0100
TZNAME:BST
DTSTART:20180325T010000
END:DAYLIGHT
BEGIN:STANDARD
TZOFFSETFROM:+0100
TZOFFSETTO:+0000
TZNAME:GMT
DTSTART:20181028T010000
END:STANDARD
BEGIN:DAYLIGHT
TZOFFSETFROM:+0000
TZOFFSETTO:+0100
TZNAME:BST
DTSTART:20190331T010000
END:DAYLIGHT
BEGIN:STANDARD
TZOFFSETFROM:+0100
TZOFFSETTO:+0000
TZNAME:GMT
DTSTART:20191027T010000
END:STANDARD
END:VTIMEZONE
BEGIN:VEVENT
DTSTART;TZID=Europe/London:20180205T000000
DTEND;TZID=Europe/London:20180205T000000
DTSTAMP:20260422T183949
CREATED:20231020T111802Z
LAST-MODIFIED:20231027T105535Z
UID:10001036-1517788800-1517788800@orkneymart.com
SUMMARY:Cattle Sale
DESCRIPTION:Forward for sale on Monday were 7 Prime\, 850 Store & 51 OTM Cattle \nPrime Heifers sold to 220 p/kg for a Limousin scaling 545 kilos fromR C McGucken\, Lyking\, Sandwick realising  £1199 purchased by Craigies. \nTop price per head was  £1297.10 for a Limousin scaling 595 kilos fromJ W Laughton\, Eaterbister\, Holm (218p) purchased by E Flett & Co. \nPrime Steers sold to 218 p/kg for a Saler scaling 590 kilos from MA &DS GroatCloke\, Dounby realising  £1286.20 purchased by E Flett & Co. \nTop price per head was  £1471.50 for a Saler again from Cloke\, Dounby(218p) purchased by Williamsons Butchers. \n488 Store Steers averaged 222.85 p/kg and sold to a top of 266.7 p/kg fora pair of Limousins scaling 420 kilos from B Baillie\, Sebay Cottage\, Tankernessrealising  £1170. \nTop price per head was  £1560 for a Charolais scaling 830 kilos fromRK & FJ Marshall\, Cotland\, St Ola. \nOther Store SteersCLEAT\,STRONSAY 507  £1\,150.00 226.8 CHARCLEAT\,STRONSAY 454  £1\,090.00 240.1 CHARPERTH\,WESTRAY 470  £1\,135.00 241.5 SIMNISTIGAR\,WESTRAY 560  £1\,310.00 233.9 CHARNISTIGAR\,WESTRAY 525  £1\,240.00 236.2 CHARBRECKOWALL\,WESTRAY 470  £1\,100.00 234 CHARBRECKOWALL\,WESTRAY 515  £1\,250.00 242.7 CHARBRECKOWALL\,WESTRAY 460  £1\,100.00 239.1 LIMBRECKOWALL\,WESTRAY 410  £1\,000.00 243.9 CHARBRECKOWALL\,WESTRAY 565  £1\,260.00 223 LIMLINKSNESS\,STRONSAY 490  £1\,060.00 216.3 AALINKSNESS\,STRONSAY 512  £1\,160.00 226.6 AAGARBO\,SANDAY 451  £1\,085.00 240.6 AAGARBO\,SANDAY 445  £1\,000.00 224.7 AAHEWAN\,SHAPINSAY 478  £1\,170.00 244.8 LIMHEWAN\,SHAPINSAY 510  £1\,180.00 231.4 LIMHEWAN\,SHAPINSAY 470  £1\,210.00 257.4 LIMHEWAN\,SHAPINSAY 570  £1\,290.00 226.3 CHARGORN\,SHAPINSAY 550  £1\,280.00 232.7 LIMGORN\,SHAPINSAY 635  £1\,390.00 218.9 LIMODINSTONE\,SHAPINSAY 515  £1\,220.00 236.9 CHARQUOYMORHOUSE\,SHAPINSAY 535  £1\,250.00 233.6 CHARBRECK-MYRES\,SHAPINSAY 525  £1\,155.00 220 AATHE KNOWE\,SANDAY 560  £1\,180.00 210.7 AATHE KNOWE\,SANDAY 505  £1\,145.00 226.7 AAGORN\,WESTRAY 540  £1\,275.00 236.1 CHARGORN\,WESTRAY 475  £1\,100.00 231.6 SALGORN\,WESTRAY 492  £1\,160.00 235.8 SIMFRUSTIGARTH\,SHAPINSAY 432  £1\,025.00 237.3 AAKIRBUSTER\,LONGHOPE 555  £1\,270.00 228.8 CHARKIRBUSTER\,LONGHOPE 530  £1\,170.00 220.8 LIMKIRBUSTER\,LONGHOPE 511  £1\,155.00 226 AASEBAY COTTAGE\,TANKERNESS 465  £1\,200.00 258.1 LIMSEBAY COTTAGE\,TANKERNESS 550  £1\,280.00 232.7 LIMSEBAY COTTAGE\,TANKERNESS 510  £1\,240.00 243.1 BBSEBAY COTTAGE\,TANKERNESS 415  £1\,070.00 257.8 LIMFEOLQUOY\,STROMNESS 627  £1\,350.00 215.3 SIMFEOLQUOY\,STROMNESS 620  £1\,440.00 232.3 AANEWHALL\,STROMNESS 432  £1\,080.00 250 SIMNEWHALL\,STROMNESS 412  £1\,010.00 245.1 SIMOCKLESTER\,HOLM 550  £1\,160.00 210.9 SHOCKLESTER\,HOLM 605  £1\,270.00 209.9 SHOCKLESTER\,HOLM 590  £1\,240.00 210.2 SIMBRAEBUSTER \,DEERNESS 468  £1\,180.00 252.1 CHARBRAEBUSTER \,DEERNESS 470  £1\,170.00 248.9 CHARBRAEBUSTER \,DEERNESS 540  £1\,270.00 235.2 BBBRAEBUSTER \,DEERNESS 525  £1\,240.00 236.2 CHARYARPHA\,ORPHIR 410  £875.00 213.4 AACOTLAND\,ST OLA 710  £1\,460.00 205.6 CHARWESTFIELD\,STROMNESS 517  £1\,115.00 215.7 LIMBU\,ORPHIR 412  £1\,030.00 250 LIMOVERHOUSE\,HARRAY 435  £1\,070.00 246 CHAROVERHOUSE\,HARRAY 430  £1\,090.00 253.5 CHARNISTAGAR\,HARRAY 575  £1\,250.00 217.4 LIMNISTAGAR\,HARRAY 590  £1\,310.00 222 CHARLYKING\,SANDWICK 643  £1\,360.00 211.5 SIMLYKING\,SANDWICK 615  £1\,320.00 214.6 LIMLYKING\,SANDWICK 610  £1\,335.00 218.9 SIMLYKING\,SANDWICK 595  £1\,305.00 219.3 SIMLYKING\,SANDWICK 625  £1\,365.00 218.4 AAVELTIGAR\,TANKERNESS 600  £1\,380.00 230 CHARVELTIGAR\,TANKERNESS 565  £1\,360.00 240.7 CHARVELTIGAR\,TANKERNESS 590  £1\,375.00 233.1 LIMVELTIGAR\,TANKERNESS 581  £1\,350.00 232.4 CHARVELTIGAR\,TANKERNESS 680  £1\,460.00 214.7 SIMVELTIGAR\,TANKERNESS 635  £1\,360.00 214.2 SIMRAMSQUOY\,STENNESS 485  £1\,050.00 216.5 SIMBIGGINGS\,STENNESS 385  £930.00 241.6 CHARBIGGINGS\,STENNESS 427  £1\,000.00 234.2 SIMBRAESIDE\,ORPHIR 388  £930.00 239.7 CHARBRAESIDE\,ORPHIR 435  £1\,090.00 250.6 LIMBRAESIDE\,ORPHIR 408  £1\,005.00 246.3 LIMGARTH\,STROMNESS 547  £1\,180.00 215.7 AAGARTH\,STROMNESS 516  £1\,115.00 216.1 AAGARTH\,STROMNESS 530  £1\,150.00 217 AAMOAN\,FIRTH 327  £760.00 232.4 LIMNETHERHILL\,TANKERNESS 542  £1\,220.00 225.1 CHARNETHERHILL\,TANKERNESS 510  £1\,100.00 215.7 LIMQUANTERNESS\,ST OLA 465  £1\,080.00 232.3 AAQUANTERNESS\,ST OLA 531  £1\,170.00 220.3 AAQUANTERNESS\,ST OLA 615  £1\,275.00 207.3 AAUPPER HOBBISTER\,STENNESS 505  £1\,150.00 227.7 CHARUPPER HOBBISTER\,STENNESS 455  £1\,000.00 219.8 CHARCLOKE\,DOUNBY 675  £1\,410.00 208.9 LIMBIGGING COTTAGE\,DOUNBY 587  £1\,230.00 209.5 SALKNOCKHALL\,SOUTH RONALDSAY 325  £810.00 249.2 SIMKNOCKHALL\,SOUTH RONALDSAY 343  £790.00 230.3 SIMKNOCKHALL\,SOUTH RONALDSAY 410  £980.00 239 SIMMUCKLE CROFTY\,TANKERNESS 491  £1\,195.00 243.4 LIMUPPER LINKLATER\,TWATT 525  £1\,220.00 232.4 CHARKIRKHOUSE\,SOUTH RONALDSAY 577  £1\,210.00 209.7 SIMKIRKHOUSE\,SOUTH RONALDSAY 625  £1\,330.00 212.8 SIMKIRKHOUSE\,SOUTH RONALDSAY 496  £1\,130.00 227.8 SIMKIRKHOUSE\,SOUTH RONALDSAY 495  £1\,155.00 233.3 CHARKIRKHOUSE\,SOUTH RONALDSAY 460  £1\,170.00 254.3 CHARLITTLE HACKLAND\,RENDALL 462  £1\,090.00 235.9 LIMLITTLE HACKLAND\,RENDALL 540  £1\,230.00 227.8 BBLITTLE HACKLAND\,RENDALL 473  £1\,100.00 232.6 LIMNEW MOAN\,DOUNBY 500  £1\,250.00 250 LIMCOCKMURRA\,HOLM 515  £1\,140.00 221.4 SIMBIGGINGS\,TOAB 477  £1\,140.00 239 CHARBIGGINGS\,TOAB 478  £1\,080.00 225.9 CHARBIGGINGS\,TOAB 431  £1\,020.00 236.7 CHARBIGGINGS\,TOAB 495  £1\,115.00 225.3 CHARMAESQUOY\,HARRAY 415  £1\,000.00 241 BBMAESQUOY\,HARRAY 427  £1\,010.00 236.5 CHARMAESQUOY\,HARRAY 392  £970.00 247.4 SIMMAESQUOY\,HARRAY 413  £1\,000.00 242.1 BBMAESQUOY\,HARRAY 380  £920.00 242.1 SIMMAESQUOY\,HARRAY 425  £1\,025.00 241.2 BBMAESQUOY\,HARRAY 415  £1\,000.00 241 CHAREAST HOWE\,BIRSAY 515  £1\,095.00 212.6 SIMEAST HOWE\,BIRSAY 505  £1\,100.00 217.8 SIMARION\,STROMNESS 487  £1\,090.00 223.8 LIMARION\,STROMNESS 495  £1\,090.00 220.2 LIMARION\,STROMNESS 487  £1\,130.00 232 CHARARION\,STROMNESS 460  £1\,070.00 232.6 LIMARION\,STROMNESS 515  £1\,130.00 219.4 CHARQUHOLMSLIE\,STROMNESS 555  £1\,200.00 216.2 CHARQUHOLMSLIE\,STROMNESS 555  £1\,190.00 214.4 LIMQUHOLMSLIE\,STROMNESS 595  £1\,345.00 226.1 AAQUHOLMSLIE\,STROMNESS 590  £1\,260.00 213.6 LIMEASTERBISTER\,HOLM 632  £1\,330.00 210.4 AAWORKWELL\,ORPHIR 557  £1\,130.00 202.9 AAWORKWELL\,ORPHIR 582  £1\,260.00 216.5 AAHEATHFIELD\,ST OLA 427  £880.00 206.1 SHHEATHFIELD\,ST OLA 428  £885.00 206.8 SHHEATHFIELD\,ST OLA 382  £810.00 212 SHHEATHFIELD\,ST OLA 375  £810.00 216 SHDENWICK\,DEERNESS 300  £620.00 206.7 OTHLOWER STANGER\,BIRSAY 470  £1\,090.00 231.9 LIMLOWER STANGER\,BIRSAY 445  £1\,000.00 224.7 AABRECK COTTAGE\,BIRSAY 535  £1\,070.00 200 SIMMILLQUOY\,STENNESS 611  £1\,360.00 222.6 LIMMILLQUOY\,STENNESS 546  £1\,265.00 231.7 LIMMILLQUOY\,STENNESS 550  £1\,250.00 227 LIMMILLQUOY\,STENNESS 595  £1\,340.00 225.2 LIMINGSAY\,SWANNAY 395  £845.00 213.9 LIMVESTRAFIOLD\,SANDWICK 515  £1\,040.00 201.9 SALVESTRAFIOLD\,SANDWICK 565  £1\,170.00 207.1 AAVESTRAFIOLD\,SANDWICK 575  £1\,200.00 208.7 AANIGLEY\,EVIE 442  £910.00 205.9 SALNIGLEY\,EVIE 440  £980.00 222.7 SALTUQUOY\,WESTRAY 593  £1\,325.00 223.4 CHARSTONEYMILDERS\,SWANNAY 580  £1\,295.00 223.3 CHARSTONEYMILDERS\,SWANNAY 515  £1\,215.00 235.9 LIMSTONEYMILDERS\,SWANNAY 522  £1\,130.00 216.5 CHARMIDHOUSE\,EVIE 607  £1\,230.00 202.6 AAMIDHOUSE\,EVIE 571  £1\,280.00 224.2 CHARFEAVAL\,BIRSAY 582  £1\,250.00 214.8 CHARFEAVAL\,BIRSAY 610  £1\,290.00 211.5 SIMNETHERSKAILL\,BIRSAY 535  £1\,260.00 235.5 CHARNETHERSKAILL\,BIRSAY 515  £1\,150.00 223.3 LIMNETHERSKAILL\,BIRSAY 590  £1\,275.00 216.1 SIM \n362 Store Heifers averaged 215.79 p/kg and sold to a top of 261.9 p/kgfor a Charolais scaling 420 kilos from G & B Rendall\, Breckowall\, Westrayrealising  £1100. \nTop price per head was  £1500 for a Charolais scaling 650 kilos from C W Paterson\,Veltigar\, Tankerness (230.8p) \nOther Store HeifersCLEAT\,STRONSAY 550  £1\,170.00 212.7 AAPERTH\,WESTRAY 560  £1\,180.00 210.7 SIMPERTH\,WESTRAY 500  £1\,110.00 222 CHARPERTH\,WESTRAY 485  £1\,140.00 235.1 CHARNISTIGAR\,WESTRAY 645  £1\,350.00 209.3 CHARNISTIGAR\,WESTRAY 630  £1\,390.00 220.6 CHARNISTIGAR\,WESTRAY 560  £1\,260.00 225 CHARSKAILL\,WESTRAY 650  £1\,340.00 206.2 SIMBRECKOWALL\,WESTRAY 420  £1\,100.00 261.9 CHARBRECKOWALL\,WESTRAY 401  £960.00 239.4 CHARBRECKOWALL\,WESTRAY 465  £1\,060.00 228 CHARLINKSNESS\,STRONSAY 475  £1\,050.00 221.1 AALINKSNESS\,STRONSAY 500  £1\,180.00 236 CHARGARBO\,SANDAY 507  £1\,060.00 209.1 AAGARBO\,SANDAY 450  £910.00 202.2 AAHEWAN\,SHAPINSAY 483  £1\,140.00 236 LIMHEWAN\,SHAPINSAY 515  £1\,200.00 233 LIMHEWAN\,SHAPINSAY 605  £1\,320.00 218.2 CHARHAQUOY\,SHAPINSAY 515  £1\,190.00 231.1 LIMHAQUOY\,SHAPINSAY 505  £1\,190.00 235.6 LIMGORN\,SHAPINSAY 560  £1\,210.00 216.1 LIMGORN\,SHAPINSAY 530  £1\,170.00 220.8 LIMQUOYMORHOUSE\,SHAPINSAY 517  £1\,190.00 230.2 LIMBRECK-MYRES\,SHAPINSAY 500  £1\,050.00 210 AATHE KNOWE\,SANDAY 497  £1\,160.00 233.4 CHARTHE KNOWE\,SANDAY 517  £1\,185.00 229.2 CHARTHE KNOWE\,SANDAY 487  £1\,085.00 222.8 CHARKIRBUSTER\,LONGHOPE 478  £980.00 205 AAKIRBUSTER\,LONGHOPE 460  £1\,020.00 221.7 LIMKIRBUSTER\,LONGHOPE 465  £970.00 208.6 AAFEOLQUOY\,STROMNESS 630  £1\,360.00 215.9 CHARFEOLQUOY\,STROMNESS 540  £1\,180.00 218.5 CHAROCKLESTER\,HOLM 595  £1\,275.00 214.3 CHAROCKLESTER\,HOLM 547  £1\,160.00 212.1 SIMBRAEBUSTER \,DEERNESS 505  £1\,160.00 229.7 CHARBRAEBUSTER \,DEERNESS 466  £1\,100.00 236.1 CHARYARPHA\,ORPHIR 403  £860.00 213.4 CHARCOTLAND\,ST OLA 725  £1\,460.00 201.4 CHARWESTFIELD\,STROMNESS 535  £1\,150.00 215 CHARWESTFIELD\,STROMNESS 480  £1\,140.00 237.5 LIMWESTFIELD\,STROMNESS 530  £1\,180.00 222.6 CHARNORTHBIGGING\,DOUNBY 485  £1\,140.00 235.1 CHARNORTHBIGGING\,DOUNBY 542  £1\,175.00 216.8 CHARNORTHBIGGING\,DOUNBY 455  £1\,060.00 233 CHARBU\,ORPHIR 417  £880.00 211 LIMOVERHOUSE\,HARRAY 440  £1\,040.00 236.4 CHAROVERHOUSE\,HARRAY 365  £850.00 232.9 CHARNISTAGAR\,HARRAY 650  £1\,255.00 193.1 CHARVELTIGAR\,TANKERNESS 650  £1\,500.00 230.8 CHARVELTIGAR\,TANKERNESS 594  £1\,350.00 227.3 CHARVELTIGAR\,TANKERNESS 552  £1\,240.00 224.6 LIMVELTIGAR\,TANKERNESS 557  £1\,260.00 226.2 CHARVELTIGAR\,TANKERNESS 610  £1\,335.00 218.9 CHARVELTIGAR\,TANKERNESS 580  £1\,400.00 241.4 LIMVELTIGAR\,TANKERNESS 520  £1\,240.00 238.5 LIMHURTISO\,HOLM 542  £1\,190.00 219.6 LIMHURTISO\,HOLM 470  £1\,140.00 242.6 LIMHURTISO\,HOLM 440  £1\,080.00 245.5 LIMHURTISO\,HOLM 573  £1\,200.00 209.4 LIMHURTISO\,HOLM 500  £1\,090.00 218 LIMHURTISO\,HOLM 585  £1\,230.00 210.3 AAHURTISO\,HOLM 552  £1\,140.00 206.5 AARAMSQUOY\,STENNESS 545  £1\,120.00 205.5 AARAMSQUOY\,STENNESS 560  £1\,140.00 203.6 CHARRAMSQUOY\,STENNESS 525  £1\,100.00 209.5 SIMBIGGINGS\,STENNESS 400  £950.00 237.5 CHARBIGGINGS\,STENNESS 460  £1\,070.00 232.6 CHARHESTWALL HOUSE\,HOLM 570  £1\,195.00 209.6 BBHESTWALL HOUSE\,HOLM 520  £1\,180.00 226.9 LIMHESTWALL HOUSE\,HOLM 585  £1\,230.00 210.3 BBCRAIGHAVEN\,TOAB 445  £1\,090.00 244.9 LIMAIKERS\,SOUTH RONALDSAY 467  £1\,005.00 215.2 SIMBRAESIDE\,ORPHIR 425  £950.00 223.5 CHARMOAN\,FIRTH 445  £900.00 202.2 LIMNETHERHILL\,TANKERNESS 460  £1\,000.00 217.4 CHARNETHERHILL\,TANKERNESS 510  £1\,080.00 211.8 LIMMOA\,STENNESS 575  £1\,260.00 219.1 LIMMOA\,STENNESS 602  £1\,270.00 211 SIMMOA\,STENNESS 655  £1\,345.00 205.3 SIMUPPER HOBBISTER\,STENNESS 525  £1\,000.00 190.5 SIMBIGGING COTTAGE\,DOUNBY 570  £1\,180.00 207 SALUPPER LINKLATER\,TWATT 527  £1\,200.00 227.7 CHARKIRKHOUSE\,SOUTH RONALDSAY 520  £1\,175.00 226 CHARKIRKHOUSE\,SOUTH RONALDSAY 505  £1\,135.00 224.8 CHARKIRKHOUSE\,SOUTH RONALDSAY 547  £1\,160.00 212.1 CHARKIRKHOUSE\,SOUTH RONALDSAY 535  £1\,180.00 220.6 BBSWANNAY FARM\,BY EVIE 515  £1\,150.00 223.3 LIMSWANNAY FARM\,BY EVIE 503  £1\,110.00 221 SIMSWANNAY FARM\,BY EVIE 490  £1\,145.00 233.7 LIMNEW MOAN\,DOUNBY 495  £1\,140.00 230.3 LIMSALTIES\,SANDAY 372  £745.00 200.3 AACOCKMURRA\,HOLM 575  £1\,210.00 210.4 LIMBIGGINGS\,TOAB 450  £1\,090.00 242.2 CHARBIGGINGS\,TOAB 470  £1\,060.00 225.5 CHARBIGGINGS\,TOAB 480  £1\,000.00 208.3 CHARHOWAN\,DOUNBY\, 510  £1\,020.00 200 AAARION\,STROMNESS 516  £1\,170.00 226.7 CHARARION\,STROMNESS 532  £1\,130.00 212.4 LIMARION\,STROMNESS 460  £1\,100.00 239.1 LIMARION\,STROMNESS 547  £1\,155.00 211.2 AAQUHOLMSLIE\,STROMNESS 529  £1\,135.00 214.6 LIMQUHOLMSLIE\,STROMNESS 605  £1\,220.00 201.7 LIMQUHOLMSLIE\,STROMNESS 520  £1\,155.00 222.1 CHARUPPER BERRYHILL\,ST OLA 470  £1\,100.00 234 BBHYVAL\,SANDWICK 535  £1\,190.00 222 CHARHYVAL\,SANDWICK 515  £1\,130.00 219 SALWORKWELL\,ORPHIR 552  £1\,140.00 207 SIMLOWER STANGER\,BIRSAY 485  £1\,030.00 212.4 AAMILLQUOY\,STENNESS 560  £1\,235.00 220.5 LIMMILLQUOY\,STENNESS 512  £1\,125.00 219.7 LIMNIGLEY\,EVIE 535  £1\,130.00 211.2 SIMTUQUOY\,WESTRAY 540  £1\,175.00 217.6 CHARTUQUOY\,WESTRAY 559  £1\,150.00 205.7 CHARSTONEYMILDERS\,SWANNAY 600  £1\,240.00 206.7 CHARSTONEYMILDERS\,SWANNAY 540  £1\,110.00 205.6 LIMSTONEYMILDERS\,SWANNAY 555  £1\,165.00 209.9 LIMSTONEYMILDERS\,SWANNAY 512  £1\,105.00 215.8 CHARSTAYE\,DEERNESS 540  £1\,240.00 229.6 CHARSTAYE\,DEERNESS 637  £1\,350.00 211.9 CHARMIDHOUSE\,EVIE 530  £1\,150.00 217 CHARVESTRAFIOLD\,SANDWICK 550  £1\,155.00 210 AAVESTRAFIOLD\,SANDWICK 595  £1\,190.00 200 AA \nOTM Cattle sold to 136.7 p/kg for a Saler cow scaling 695 kilos fromJ Scott\, Skaill\, Westray realising  £950. \nTop price per head was  £1040 for a Simmental cow scaling 775 kilosFrom B E Scott\, Nistigar\, Westray. \nOther OTM CattleHUIP\,STRONSAY 640  £710.00 110.9 CHARCHAPELBRAE\,WESTRAY 700  £865.00 123.6 SIMSKAILL\,WESTRAY 770  £1\,000.00 129.9 SIMNISTIGAR\,WESTRAY 775  £1\,040.00 134.2 SIMHUNTON\,STRONSAY 730  £990.00 135.6 AAHUNTON\,STRONSAY 765  £1\,000.00 130.7 LIMRAMSQUOY\,STENNESS 625  £700.00 112 SIMMOA\,STENNESS 730  £900.00 123.3 SIMHOWAN\,DOUNBY\, 745  £900.00 120.8 AAHYVAL\,SANDWICK 695  £920.00 132.4 LIMEAST HOWE\,BIRSAY 700  £940.00 134.3 LIMMIDLAND\,RENDALL 645  £710.00 110.1 AACASTLE\,STROMNESS 715  £900.00 125.9 BB
URL:https://orkneymart.com/event/cattle-sale-176/
CATEGORIES:Sales Report
END:VEVENT
END:VCALENDAR